BEGIN:VCALENDAR
VERSION:2.0
PRODID:-//Pécs-Baranyai Kereskedelmi és Iparkamara - ECPv6.15.20//NONSGML v1.0//EN
CALSCALE:GREGORIAN
METHOD:PUBLISH
X-WR-CALNAME:Pécs-Baranyai Kereskedelmi és Iparkamara
X-ORIGINAL-URL:https://pbkik.hu
X-WR-CALDESC:Események Pécs-Baranyai Kereskedelmi és Iparkamara
REFRESH-INTERVAL;VALUE=DURATION:PT1H
X-Robots-Tag:noindex
X-PUBLISHED-TTL:PT1H
BEGIN:VTIMEZONE
TZID:Europe/Helsinki
BEGIN:DAYLIGHT
TZOFFSETFROM:+0200
TZOFFSETTO:+0300
TZNAME:EEST
DTSTART:20170326T010000
END:DAYLIGHT
BEGIN:STANDARD
TZOFFSETFROM:+0300
TZOFFSETTO:+0200
TZNAME:EET
DTSTART:20171029T010000
END:STANDARD
BEGIN:DAYLIGHT
TZOFFSETFROM:+0200
TZOFFSETTO:+0300
TZNAME:EEST
DTSTART:20180325T010000
END:DAYLIGHT
BEGIN:STANDARD
TZOFFSETFROM:+0300
TZOFFSETTO:+0200
TZNAME:EET
DTSTART:20181028T010000
END:STANDARD
BEGIN:DAYLIGHT
TZOFFSETFROM:+0200
TZOFFSETTO:+0300
TZNAME:EEST
DTSTART:20190331T010000
END:DAYLIGHT
BEGIN:STANDARD
TZOFFSETFROM:+0300
TZOFFSETTO:+0200
TZNAME:EET
DTSTART:20191027T010000
END:STANDARD
END:VTIMEZONE
BEGIN:VEVENT
DTSTART;TZID=Europe/Helsinki:20180619T080000
DTEND;TZID=Europe/Helsinki:20180621T180000
DTSTAMP:20260425T170716
CREATED:20180605T084813Z
LAST-MODIFIED:20180608T152625Z
UID:10001504-1529395200-1529604000@pbkik.hu
SUMMARY:Üzleti delegáció Montenegróba 2018. június
DESCRIPTION:Az MKIK Nyugat-balkáni Tagozata kiutazó delegációt szervez olyan Montenegró iránt érdeklődő exportorientált vállalkozások számára\, amelyek a környezetvédelem\, az energetika\, az idegenforgalom\, a mezőgazdaság\, élelmiszeripar\, a vízipar\, a vegyipar\, a gépipar vagy az infrastruktúra-fejlesztés területén tevékenykednek. \nTervezett programok\n\nÜzleti vacsora a nagykövetség képviselőivel\ntájékoztató fórum a montenegrói üzleti lehetőségekről a Montenegrói Gazdasági Kamara szervezésében\,\nüzletember-találkozó\,\nlátogatás a niksici Tehnopolis – Innovációs Vállalkozói Központba\,\ntalálkozó Tivat város gazdasági fejlesztéséért felelős munkatársaival.\n\nAz előzetes program \nA Magyar Kereskedelmi és Iparkamara (MKIK) mindent megtesz a rendezvény sikeréért\, de javasoljuk\, hogy az eredményes kiutazás érdekében\, saját szervezésben is hívjanak partnereket az üzletember-találkozóra. \nA megfelelő mennyiségű és minőségű üzleti partnerek felkutatása a külföldi partnereink felelőssége\, erre vonatkozólag az MKIK nem tud garanciát vállalni. \nMiért érdemes részt venni?\n\nIngyenes részvétel a szakmai programokon\,\ntájékozódási lehetőség Montenegró gazdasági és üzleti környezetéről\, a gazdasági együttműködési lehetőségekről\,\ntárgyalási lehetőség potenciális montenegrói üzleti partnerekkel\,\ningyenes transzferek a szakmai programokra.\n\nVárható költségek\n\nRepülőjegy (kb. 40.000 Ft/fő illetékkel\, kézipoggyásszal)\,\n2 éjszaka szállásköltsége (120 EUR/egyágyas szoba/ 2 éj\, reggelivel)\,\nprogramon kívüli étkezések.\n\nA jelentkezéshez az alábbiakban felsorolt 2 dokumentumot kitöltve\, 2018. május 23-ig a szekeres@mkik.hu e-mail címre várjuk. \n\nJelentkezési lap\nAngol nyelvű cégprofil\n\nA jelentkezést csak a 2 melléklet együttes megküldésével fogadjuk el. \nAz üzleti delegáció minimum 8 fő érdeklődése esetén valósul meg\, ezért kérjük\, hogy foglalásukat csak visszajelzésünket követően véglegesítsék. \nKapcsolattartó: Szekeres Anna
URL:https://pbkik.hu/esemeny/uzleti-delegacio-montenegroba-2018-junius/
LOCATION:Podgorica\, Alexandar Lux Hotel\, 12 Hercegovačka\, Podgorica\, Montenegró
ORGANIZER;CN="MKIK Nyugat-balk%C3%A1ni Tagozata":MAILTO:szekeres@mkik.hu
END:VEVENT
END:VCALENDAR