BEGIN:VCALENDAR
VERSION:2.0
PRODID:-//Pécs-Baranyai Kereskedelmi és Iparkamara - ECPv6.15.20//NONSGML v1.0//EN
CALSCALE:GREGORIAN
METHOD:PUBLISH
X-ORIGINAL-URL:https://pbkik.hu
X-WR-CALDESC:Események Pécs-Baranyai Kereskedelmi és Iparkamara
REFRESH-INTERVAL;VALUE=DURATION:PT1H
X-Robots-Tag:noindex
X-PUBLISHED-TTL:PT1H
BEGIN:VTIMEZONE
TZID:Europe/Helsinki
BEGIN:DAYLIGHT
TZOFFSETFROM:+0200
TZOFFSETTO:+0300
TZNAME:EEST
DTSTART:20170326T010000
END:DAYLIGHT
BEGIN:STANDARD
TZOFFSETFROM:+0300
TZOFFSETTO:+0200
TZNAME:EET
DTSTART:20171029T010000
END:STANDARD
BEGIN:DAYLIGHT
TZOFFSETFROM:+0200
TZOFFSETTO:+0300
TZNAME:EEST
DTSTART:20180325T010000
END:DAYLIGHT
BEGIN:STANDARD
TZOFFSETFROM:+0300
TZOFFSETTO:+0200
TZNAME:EET
DTSTART:20181028T010000
END:STANDARD
BEGIN:DAYLIGHT
TZOFFSETFROM:+0200
TZOFFSETTO:+0300
TZNAME:EEST
DTSTART:20190331T010000
END:DAYLIGHT
BEGIN:STANDARD
TZOFFSETFROM:+0300
TZOFFSETTO:+0200
TZNAME:EET
DTSTART:20191027T010000
END:STANDARD
END:VTIMEZONE
BEGIN:VEVENT
DTSTART;TZID=Europe/Helsinki:20180628T090000
DTEND;TZID=Europe/Helsinki:20180701T160000
DTSTAMP:20260425T162152
CREATED:20180605T092234Z
LAST-MODIFIED:20180608T152625Z
UID:10001506-1530176400-1530460800@pbkik.hu
SUMMARY:A látvány többet ér ezer szónál!
DESCRIPTION:Az Enterprise Europe Network szervezésében nemzetközi üzletember találkozóra kerül sor a Torinoi Divathét keretében. \nAz idén harmadik alkalommal megrendezésre kerülő TorinoFashionMatch 2018 a textil- és divatipari ágazat minden szereplőjének – vállalatok\, divattervezők\, ügynökök\, gyártók\, forgalmazók és márkák – ad lehetőséget\, hogy potenciális üzleti és technológiai partnerekkel találkozzanak. \nA rendezvény programjain – b2b találkozók\, workshopok\, divatbemutatók – a kreatív cégek partnert találhatnak közös projektek kialakításához\, új piacokat ismerhetnek meg\, valamint tudást\, ötleteket\, technológiai újításokat láthatnak és inspirációt cserélnek. \nTémák\n\ntextil és divat ruházat / kiegészítők\,\nférfi és női ruházat\,\nsport ruházat / utcai viselet / strand viselet / fehérnemű\,\nmodest/”szerény” divat\,\ntextil technológiák\,\nszövetek\,\ndivat- és textilipari szolgáltatások.\n\nAz üzleti tárgyalások ideje alatt a portfóliójuk bemutatása mellett a résztvevőknek lehetősége van 3 mintadarab kiállítására is. \nAz üzletember találkozón való részvétel ingyenes\, de előzetes regisztrációhoz kötött\, amelyet a következő hivatkozáson tehet meg: torino-fashionmatch-2018.b2match.io/home \nA szervezők az üzletember találkozó résztvevői számára ingyenes belépést biztosítanak a Torinói Divathét divatbemutatóira. \nA kiutazás és szállás önköltséges\, és önállóan szervezendő. \nTovábbi információért keresse az Enterprise Europe Network pécsi irodáját az eenpecs@pbkik.hu címen.
URL:https://pbkik.hu/esemeny/a-latvany-tobbet-er-ezer-szonal/
LOCATION:Lanificio di Torino\, Via Bologna\, 220\, Torino\, 10154\, Olaszország
END:VEVENT
END:VCALENDAR