BEGIN:VCALENDAR
VERSION:2.0
PRODID:-//Pécs-Baranyai Kereskedelmi és Iparkamara - ECPv6.15.20//NONSGML v1.0//EN
CALSCALE:GREGORIAN
METHOD:PUBLISH
X-ORIGINAL-URL:https://pbkik.hu
X-WR-CALDESC:Események Pécs-Baranyai Kereskedelmi és Iparkamara
REFRESH-INTERVAL;VALUE=DURATION:PT1H
X-Robots-Tag:noindex
X-PUBLISHED-TTL:PT1H
BEGIN:VTIMEZONE
TZID:Europe/Helsinki
BEGIN:DAYLIGHT
TZOFFSETFROM:+0200
TZOFFSETTO:+0300
TZNAME:EEST
DTSTART:20170326T010000
END:DAYLIGHT
BEGIN:STANDARD
TZOFFSETFROM:+0300
TZOFFSETTO:+0200
TZNAME:EET
DTSTART:20171029T010000
END:STANDARD
BEGIN:DAYLIGHT
TZOFFSETFROM:+0200
TZOFFSETTO:+0300
TZNAME:EEST
DTSTART:20180325T010000
END:DAYLIGHT
BEGIN:STANDARD
TZOFFSETFROM:+0300
TZOFFSETTO:+0200
TZNAME:EET
DTSTART:20181028T010000
END:STANDARD
BEGIN:DAYLIGHT
TZOFFSETFROM:+0200
TZOFFSETTO:+0300
TZNAME:EEST
DTSTART:20190331T010000
END:DAYLIGHT
BEGIN:STANDARD
TZOFFSETFROM:+0300
TZOFFSETTO:+0200
TZNAME:EET
DTSTART:20191027T010000
END:STANDARD
END:VTIMEZONE
BEGIN:VEVENT
DTSTART;TZID=Europe/Helsinki:20180821T090000
DTEND;TZID=Europe/Helsinki:20180825T160000
DTSTAMP:20260425T162130
CREATED:20180605T113940Z
LAST-MODIFIED:20180608T152625Z
UID:10001507-1534842000-1535212800@pbkik.hu
SUMMARY:GAMESCOM – a jövő játékainak színtere
DESCRIPTION:A világ legnagyobb számítógépesjáték-vásárja és fesztiválja\, a Gamescom kiváló alkalom a piaci szereplők\, trendek megismerésére\, valamint a kapcsolat- és piacépítésre az ágazati baranyai cégek\, startupok számára. \nAz Enterprise Europe Network és az NRW.BANK nagyszabású nemzetközi üzletember találkozót szervez a hatodik alkalommal megrendezésre kerülő Gamescom keretében\, ahol a legújabb számítógépes játékaikat is prezentálják a világ legnagyobb játékgyártói. \nÚjítások\, különleges bejelentések\, exkluzív információk és számítógépesjáték-bemutatók jellemzik az eseményt. 2017-ben 106 országból több mint 500.000 látogató érkezett\, ezen belül közel 40.000 fős volt a szakmai közönség. \nA kölni expo területén zajló üzleti tárgyalásokra regisztráció után lehet jelentkezni. A tárgyalások munkanyelve angol\, de a választott partner függvényében változhat. \nA regisztráció és az üzletember találkozón való részvétel költségeit az Enterprise Europe Network hálózat partnerei viselik\, a vállalkozások számára így díjmentes. \nA 2018-as Gamesmatch adatai és regisztrációs felülete itt érhető el: www.gamescom.global \nA kiutazás és szállás önköltséges\, és önállóan szervezendő. \nTovábbi információért keresse az Enterprise Europe Network pécsi irodáját a eenpecs@pbkik.hu címen!
URL:https://pbkik.hu/esemeny/gamescom-a-jovo-jatekainak-szintere/
LOCATION:Koelnmesse\, Messepl. 1.\, Köln\, 50679\, Németország
ATTACH;FMTTYPE=image/jpeg:https://pbkik.hu/wp-content/uploads/2018/06/gamescom-2018-logo.jpg
END:VEVENT
END:VCALENDAR