BEGIN:VCALENDAR
VERSION:2.0
PRODID:-//Pécs-Baranyai Kereskedelmi és Iparkamara - ECPv6.15.20//NONSGML v1.0//EN
CALSCALE:GREGORIAN
METHOD:PUBLISH
X-ORIGINAL-URL:https://pbkik.hu
X-WR-CALDESC:Események Pécs-Baranyai Kereskedelmi és Iparkamara
REFRESH-INTERVAL;VALUE=DURATION:PT1H
X-Robots-Tag:noindex
X-PUBLISHED-TTL:PT1H
BEGIN:VTIMEZONE
TZID:Europe/Helsinki
BEGIN:DAYLIGHT
TZOFFSETFROM:+0200
TZOFFSETTO:+0300
TZNAME:EEST
DTSTART:20170326T010000
END:DAYLIGHT
BEGIN:STANDARD
TZOFFSETFROM:+0300
TZOFFSETTO:+0200
TZNAME:EET
DTSTART:20171029T010000
END:STANDARD
BEGIN:DAYLIGHT
TZOFFSETFROM:+0200
TZOFFSETTO:+0300
TZNAME:EEST
DTSTART:20180325T010000
END:DAYLIGHT
BEGIN:STANDARD
TZOFFSETFROM:+0300
TZOFFSETTO:+0200
TZNAME:EET
DTSTART:20181028T010000
END:STANDARD
BEGIN:DAYLIGHT
TZOFFSETFROM:+0200
TZOFFSETTO:+0300
TZNAME:EEST
DTSTART:20190331T010000
END:DAYLIGHT
BEGIN:STANDARD
TZOFFSETFROM:+0300
TZOFFSETTO:+0200
TZNAME:EET
DTSTART:20191027T010000
END:STANDARD
END:VTIMEZONE
BEGIN:VEVENT
DTSTART;TZID=Europe/Helsinki:20180828T100000
DTEND;TZID=Europe/Helsinki:20180828T160000
DTSTAMP:20260425T162157
CREATED:20180605T114549Z
LAST-MODIFIED:20180608T152625Z
UID:10001508-1535450400-1535472000@pbkik.hu
SUMMARY:Üzletember találkozó az 56. szlovén Nemzetközi Mezőgazdasági és Élelmiszer Vásáron
DESCRIPTION:Az Enterprise Europe Network szervezésében megrendezésre kerülő „Meet4Business Matchmaking Event Agra 2018” rendezvény keretében várják minden a mezőgazdaság\, élelmiszeripar\, csomagolás\, csomagolási technikák\, logisztika és erdészet területen működő baranyai cég részvételét is. \nA rendezvényen közel 1800 kiállító vesz részt\, 30 országból a több\, mint fél évszázados múltra visszatekintő vásáron. Az üzletember találkozó résztvevőinek a kiállítás megtekintése mellett lehetőségük lesz az előzetesen feltöltött online profilok segítségével kiválasztani azokat a cégeket\, partnereket\, akikkel tárgyalni szeretne a találkozón. \nA tárgyalásra jelölések alapján fogja megkapni a rendszer által összeállított\, személyre szabott ütemtervet a megbeszélések időpontjaival a rendezvény előtt pár nappal. \nAz üzletember találkozón a részvétel ingyenes\, de előzetes regisztrációhoz kötött\, amelyet itt tud megtenni: meet4businessagra2018.talkb2b.net \nA kiutazás és szállás önköltséges\, és önállóan szervezendő. \nTovábbi információért keresse az Enterprise Europe Network pécsi irodáját az eenpecs@pbkik.hu címen! \nAz 56. szlovén Nemzetközi Mezőgazdasági és Élelmiszer Vásár honlapja: www.pomurski-sejem.si/index.php/en/agra/about-agra-fair
URL:https://pbkik.hu/esemeny/uzletember-talalkozo-az-56-szloven-nemzetkozi-mezogazdasagi-es-elelmiszer-vasaron/
LOCATION:Cesta na stadion 2\, Cesta na stadion 2.\, Gornja Radgona\, 9250\, Szlovénia
END:VEVENT
END:VCALENDAR