BEGIN:VCALENDAR
VERSION:2.0
PRODID:-//Pécs-Baranyai Kereskedelmi és Iparkamara - ECPv6.15.20//NONSGML v1.0//EN
CALSCALE:GREGORIAN
METHOD:PUBLISH
X-ORIGINAL-URL:https://pbkik.hu
X-WR-CALDESC:Események Pécs-Baranyai Kereskedelmi és Iparkamara
REFRESH-INTERVAL;VALUE=DURATION:PT1H
X-Robots-Tag:noindex
X-PUBLISHED-TTL:PT1H
BEGIN:VTIMEZONE
TZID:Europe/Helsinki
BEGIN:DAYLIGHT
TZOFFSETFROM:+0200
TZOFFSETTO:+0300
TZNAME:EEST
DTSTART:20170326T010000
END:DAYLIGHT
BEGIN:STANDARD
TZOFFSETFROM:+0300
TZOFFSETTO:+0200
TZNAME:EET
DTSTART:20171029T010000
END:STANDARD
BEGIN:DAYLIGHT
TZOFFSETFROM:+0200
TZOFFSETTO:+0300
TZNAME:EEST
DTSTART:20180325T010000
END:DAYLIGHT
BEGIN:STANDARD
TZOFFSETFROM:+0300
TZOFFSETTO:+0200
TZNAME:EET
DTSTART:20181028T010000
END:STANDARD
BEGIN:DAYLIGHT
TZOFFSETFROM:+0200
TZOFFSETTO:+0300
TZNAME:EEST
DTSTART:20190331T010000
END:DAYLIGHT
BEGIN:STANDARD
TZOFFSETFROM:+0300
TZOFFSETTO:+0200
TZNAME:EET
DTSTART:20191027T010000
END:STANDARD
END:VTIMEZONE
BEGIN:VEVENT
DTSTART;TZID=Europe/Helsinki:20180920T100000
DTEND;TZID=Europe/Helsinki:20180920T160000
DTSTAMP:20260424T062338
CREATED:20180605T121017Z
LAST-MODIFIED:20180608T152624Z
UID:10001511-1537437600-1537459200@pbkik.hu
SUMMARY:Agrárélelmiszeripar – egészséges étkezés és intelligens élelmiszer logisztika
DESCRIPTION:Az Enterprise Europe Network nemzetközi üzletember találkozót szervez a „Terra Madre Salone del Gusto” élelmiszeripari kiállítás és vásár keretében. \nA Food for Change nevű üzletember találkozóra várnak minden az agroélelmiszer technológiával foglalkozó vállalkozást\, egyetemet\, klasztert és kutatóintézetet\, akik nyitottak a nemzetközi üzleti\, technológiai együttműködésekre. \nKiemelt témák\n\nÖko csomagolás\,\nfenntartható élelmiszerek\,\nbioenergia\,\negészség: szerves folyamatok\, higiénia\, funkcionális élelmiszerek\,\ndigitális értékláncok\,\nfüggőleges gazdálkodás\,\nintelligens élelmiszer logisztika\,\nélelmiszer-tervezés.\n\nAz üzletember találkozón a részvétel ingyenes\, de előzetes regisztrációhoz kötött\, amelyet itt tehet meg: gusto2018.b2match.io.  \nA kiutazás és szállás önköltséges\, és önállóan szervezendő. \nTovábbi információért keresse az Enterprise Europe Network pécsi irodáját az  eenpecs@pbkik.hu címen! \nA „Terra Madre Salone del Gusto” élelmiszeripari kiállítás és vásár honlapja: salonedelgusto.com \n 
URL:https://pbkik.hu/esemeny/agrarelelmiszeripar-egeszseges-etkezes-es-intelligens-elelmiszer-logisztika/
LOCATION:Torino Lingotto Fiere\, Via Nizza\, 294.\, Torino\, 10126\, Olaszország
END:VEVENT
END:VCALENDAR