BEGIN:VCALENDAR
VERSION:2.0
PRODID:-//Pécs-Baranyai Kereskedelmi és Iparkamara - ECPv6.15.20//NONSGML v1.0//EN
CALSCALE:GREGORIAN
METHOD:PUBLISH
X-ORIGINAL-URL:https://pbkik.hu
X-WR-CALDESC:Események Pécs-Baranyai Kereskedelmi és Iparkamara
REFRESH-INTERVAL;VALUE=DURATION:PT1H
X-Robots-Tag:noindex
X-PUBLISHED-TTL:PT1H
BEGIN:VTIMEZONE
TZID:Europe/Helsinki
BEGIN:DAYLIGHT
TZOFFSETFROM:+0200
TZOFFSETTO:+0300
TZNAME:EEST
DTSTART:20170326T010000
END:DAYLIGHT
BEGIN:STANDARD
TZOFFSETFROM:+0300
TZOFFSETTO:+0200
TZNAME:EET
DTSTART:20171029T010000
END:STANDARD
BEGIN:DAYLIGHT
TZOFFSETFROM:+0200
TZOFFSETTO:+0300
TZNAME:EEST
DTSTART:20180325T010000
END:DAYLIGHT
BEGIN:STANDARD
TZOFFSETFROM:+0300
TZOFFSETTO:+0200
TZNAME:EET
DTSTART:20181028T010000
END:STANDARD
BEGIN:DAYLIGHT
TZOFFSETFROM:+0200
TZOFFSETTO:+0300
TZNAME:EEST
DTSTART:20190331T010000
END:DAYLIGHT
BEGIN:STANDARD
TZOFFSETFROM:+0300
TZOFFSETTO:+0200
TZNAME:EET
DTSTART:20191027T010000
END:STANDARD
END:VTIMEZONE
BEGIN:VEVENT
DTSTART;TZID=Europe/Helsinki:20181112T150000
DTEND;TZID=Europe/Helsinki:20181115T120000
DTSTAMP:20260423T180936
CREATED:20181010T131243Z
LAST-MODIFIED:20181106T183427Z
UID:10001528-1542034800-1542283200@pbkik.hu
SUMMARY:Startup Demo Night – szakmai út Bajorországba
DESCRIPTION:A Német-Magyar Ipar és Kereskedelmi Kamara (DUIHK) szakmai utat szervez Bajorországba\, ahova örömmel várják minden baranyai startup vállalkozás\, inkubátorház és egyéb\, a startup ökoszisztémában tevékenykedő szervezet jelentkezését. \n\nA magyar résztvevőknek lehetősége lesz megismerkedni a bajorországi vállalkozói környezettel\, bemutatásra kerülnek a helyi finanszírozási lehetőségek és tőkebefektetők\, illetve céglátogatások során megtekinthetnek bajor startupokat is. \nA tervezett programban szerepel például a regensburgi TechBase Innovációs és Inkubációs Központ felkeresése\, ugyanitt a Biopark meglátogatása\, valamint nürnbergi és augsburgi startup cégek munkájának megismerése.\nAz egyik legizgalmasabb program a müncheni Startup Demo Nighton való részvétel lesz. A müncheni startup alapítói közösség egyik leglátogatottabb eseményén mintegy 60 kiállító mutatja be innovációs megoldásait. \nA szakmai úton való részvétel díja 98.500\,- Ft + ÁFA/fő\, amely a szakmai programokon való részvételt\, a helyszíni csoportos közlekedést és a programban szereplő étkezéseket foglalja magában. \n  \nTovábbi információ:\nSzabó Erika\nÜzletfejlesztés\nNémet-Magyar Ipar és Kereskedelmi Kamara\nTel: +36/1/3457-618\nE-Mail: szabo@ahkungarn.hu
URL:https://pbkik.hu/esemeny/startup-demo-night-szakmai-ut-bajororszagba/
LOCATION:Pécsi Kereskedelmi Központ
GEO:46.081487;18.2347915
END:VEVENT
BEGIN:VEVENT
DTSTART;TZID=Europe/Helsinki:20181113T090000
DTEND;TZID=Europe/Helsinki:20181114T140000
DTSTAMP:20260423T180936
CREATED:20181010T132513Z
LAST-MODIFIED:20181010T132513Z
UID:10001530-1542099600-1542204000@pbkik.hu
SUMMARY:Textil és műanyag - az újrahasznosítás alappillérei
DESCRIPTION:Az Enterprise Europe Network nemzetközi üzletember találkozót szervez a műanyag és textilhulladék feldolgozásának és újrahasznosításának témájában 2018. novemberében\, Belgiumban. \n\nA textil és műanyag hulladék értékként való újragondolását helyezi előtérbe a találkozó\, ahol lehetőség nyílik vállalatok\, kutatók\, intézetek és egyéb piaci szereplők összefogására\, technológiai és üzleti együttműködések előkészítésére és kialakítására. \nTémák: \n\nújrahasznosítás\n\n\nújrafeldolgozás tervezés\n\n\nfeldolgozási és válogatási technikák\n\n\nüzleti modellek\n\n\nkörkörös gazdaság\n\n\nhulladékcsökkentés\n\nAz üzletember találkozón a részvétel ingyenes\, de előzetes regisztrációhoz kötött.\nA konferenciára külön kell regisztrálni\, a belépői díj 400 €/fő. \nA kiutazás és szállás önköltséges\, és önállóan szervezendő.\nTovábbi információért keresse az Enterprise Europe Network pécsi irodáját:\ne-mail: eenpecs@pbkik.hu \nhttps://www.centexbel.be/en
URL:https://pbkik.hu/esemeny/textil-es-muanyag-az-ujrahasznositas-alappillerei/
END:VEVENT
BEGIN:VEVENT
DTSTART;TZID=Europe/Helsinki:20181114T090000
DTEND;TZID=Europe/Helsinki:20181114T130000
DTSTAMP:20260423T180936
CREATED:20181010T133227Z
LAST-MODIFIED:20190213T130906Z
UID:10001531-1542186000-1542200400@pbkik.hu
SUMMARY:Munkavédelmi és munkaügyi nyílt nap novemberben
DESCRIPTION:A Pécs-Baranyai Kereskedelmi és Iparkamara Munkavédelmi klubja meghívja Önt a BAMKH Pécsi Járási Hivatal Műszaki Engedélyezési\, Fogyasztóvédelmi és Foglalkoztatási Főosztály Munkavédelmi és Munkaügyi Osztállyal közösen szervezett „Munkavédelmi és munkaügyi nyílt nap” rendezvényre. \n\nProgram: \n08.30 – 09.00            Regisztráció \n09.00 – 10.00            A munkaügyi ellenőrzés általános kérdései  \nElőadó: Dr. Takácsné dr. Péntek Laura jogász \nBaranya Megyei Kormányhivatal Pécsi Járási Hivatal Műszaki Engedélyezési\, \nFogyasztóvédelmi és Foglalkoztatási Főosztály Munkavédelmi és Munkaügyi \nOsztály \n10.00 – 10.10             Szünet \n10.10 – 11.10            Magasban végzett munka \nElőadó: Meiszterics Gábor zuhanásbiztonsági specialista \nGazek Safety Expert Kft. \n11.10 – 11.20            Szünet \n11.20 – 12.20            Téli jól-láthatósági munkaruhák\, öltözetek \nElőadó: Schuller Zoltán Ügyvezető \nW-Protect Kft. \n12.20 – 13.00             Kérdések\, kötetlen beszélgetés \n  \nModerátor:              Dr. Papp Judit osztályvezető \nBaranya Megyei Kormányhivatal Műszaki Engedélyezési\, \nFogyasztóvédelmi és Foglalkoztatási Osztály \nMunkavédelmi és Munkaügyi Osztály \nA részvétel díjmentes\, de regisztrációhoz kötött. \nKereskedelmi és iparkamarai tagok esetében előfeltétel a rendezett önkéntes kamarai tagdíj\, a kamarai törvény hatálya alá tartozó vállalkozások esetében a rendezett kamarai regisztráció. \nJelentkezés: \n\nA PBKIK önkéntestagjai\, valamint a regisztrált vállalkozások kizárólag az elektronikus jelentkezési lap kitöltésével jelentkezhetnek: jelentkezési lap\n\nA rendezvényen való részvételről a Pécs-Baranyai Kereskedelmi és Iparkamara 4 órára vonatkozó tanúsítványt állít ki\, melyet a BAMKH Pécsi Járási Hivatal Műszaki Engedélyezési\, Fogyasztóvédelmi és Foglalkoztatási Főosztály Munkavédelmi és Munkaügyi Osztálya képzésként elfogad. \n  \nJelentkezési határidő: 2018. november 13. (kedd) 12.00 óra \nTovábbi információ: \nBiró Sarolta \nsbiro@pbkik.hu \n+36203622681 \n\n  \nJelentkezési lap \n 
URL:https://pbkik.hu/esemeny/munkavedelmi-es-munkaugyi-nyilt-nap-novemberben/
LOCATION:Pécsi Kereskedelmi Központ
GEO:46.081487;18.2347915
END:VEVENT
BEGIN:VEVENT
DTSTART;TZID=Europe/Helsinki:20181114T090000
DTEND;TZID=Europe/Helsinki:20181114T140000
DTSTAMP:20260423T180936
CREATED:20181106T080932Z
LAST-MODIFIED:20190213T130911Z
UID:10001552-1542186000-1542204000@pbkik.hu
SUMMARY:Digitális KKV nap
DESCRIPTION:A rendezvényen a hazai vállalkozások első kézből kapnak tájékoztatást a digitális vállalkozásfejlesztés külső finanszírozásának lehetőségeiről és a legújabb informatikai trendekről. \n\n\n\n09:00-10:00\nRegisztráció\n\n\n10:00-10:10\nKöszöntőbeszéd  \nMadaras Zoltán\, Baranya Megyei Önkormányzat elnöke\, PBKIK\n\n\n10:10-10:30\nFókuszban a térségi vállalkozások – Modern Vállalkozások Programja  \nTakács Károly\, IKT tanácsadó\n\n\n10:30-10:50\nDigitalizáció\, mint a megbízható működés\, versenyképesség kulcsa! \nKézzelfogható eredmények\, haszon\, következmény\, nyereség\, tények a gyakorlatban\, kizárólag kkv-knak. \nHerbály István\, ügyvezető\, RG Net Kft.\n\n\n10:50-11:10\nA hatékonyságnövelés gyakorlati eszközei. \nMátyus Lilla\, minőségirányítási vezető\, Crosssec Solution Kft.\n\n\n11:10-11:30\nDigitális humbug vagy valódi értékteremtés? A digitalizáció lehetőség vagy veszély?  \nVan értelme a vállalatirányítási rendszereknek? \nNagy Imre\, projektmenedzser\, CR Hungary Kft.\n\n\n11:30-11:40\nKiállító szállítók rövid bemutatkozása \n\n\n11:40-11:55\nKávészünet \n\n\n11:55-12:15\nInformatikai pályázatok a gyakorlatban. – vállalatirányítási rendszerek uniós forrásból. \nToller Helga\, regionális igazgató\, Vanessia Kft.\n\n\n12:15-12:35\nAz MFB pontok működése\, MFB pont pályázati lehetőségek. \nCsehkis Gábor\, értékesítés támogatási szenior tanácsadó\, OTP Bank Nyrt.\n\n\n12:35-13:00\nFórumbeszélgetés \n\n             Herbály István\, innovációs alelnök\n             Toller Helga\, regionális igazgató\n             Csehkis Gábor\, értékesítés támogatási szenior tanácsadó\n             Mátyus Lilla\, minőségirányítási vezető\n             Nagy Imre\, projektmenedzser\n\n  \nModerátor: Takács Károly\, IKT tanácsadó\n\n\n13:00-14:00\nSzendvicsebéd – \nLehetőség személyes konzultációra az IKT tanácsadóval*\n\n\n  \n  Kiállítók\n  \n IKT szakterület\, termékpaletta\n\n\n\n \n\n\n\n\nCR Hungary Kft.\nInformatika – CBS10 integrált vállalatirányítási rendszer\n\n\n\nCrosssec Solution Kft.\nB2B szoftvermegoldásokra specializálódott vállalkozás\n\n\n\nMohácsi Computer SysTeam Kft.\nHardver- és szoftverkereskedelem\, irodatechnika\n\n\n\nOTP Bank Nyrt.\nAz MFB pontokon elérhető\, a Hitelprogram részét képező banki lehetőségekről\, hitelnyújtásról ad tájékoztatás\n\n\n\nRG Net Kft.\nEgyedi Hardver-\, Szoftverfejlesztés – üzemi információs terminál\n\n\n\nVanessia Kft.\nVállalkozásfejlesztési és Pályázati Tanácsadó\n\n\n\nVannet internet szolgáltató\nTelekommunikáció – Műholdas és mikrohullámú\n\n\n\nRegisztráció
URL:https://pbkik.hu/esemeny/digitalis-kkv-nap/
LOCATION:Polgármesteri Hivatal Mohács\, Széchenyi tér 1.\, Mohács\, Baranya\, 7700\, Magyarország
END:VEVENT
END:VCALENDAR