BEGIN:VCALENDAR
VERSION:2.0
PRODID:-//Pécs-Baranyai Kereskedelmi és Iparkamara - ECPv6.15.20//NONSGML v1.0//EN
CALSCALE:GREGORIAN
METHOD:PUBLISH
X-WR-CALNAME:Pécs-Baranyai Kereskedelmi és Iparkamara
X-ORIGINAL-URL:https://pbkik.hu
X-WR-CALDESC:Események Pécs-Baranyai Kereskedelmi és Iparkamara
REFRESH-INTERVAL;VALUE=DURATION:PT1H
X-Robots-Tag:noindex
X-PUBLISHED-TTL:PT1H
BEGIN:VTIMEZONE
TZID:Europe/Helsinki
BEGIN:DAYLIGHT
TZOFFSETFROM:+0200
TZOFFSETTO:+0300
TZNAME:EEST
DTSTART:20170326T010000
END:DAYLIGHT
BEGIN:STANDARD
TZOFFSETFROM:+0300
TZOFFSETTO:+0200
TZNAME:EET
DTSTART:20171029T010000
END:STANDARD
BEGIN:DAYLIGHT
TZOFFSETFROM:+0200
TZOFFSETTO:+0300
TZNAME:EEST
DTSTART:20180325T010000
END:DAYLIGHT
BEGIN:STANDARD
TZOFFSETFROM:+0300
TZOFFSETTO:+0200
TZNAME:EET
DTSTART:20181028T010000
END:STANDARD
BEGIN:DAYLIGHT
TZOFFSETFROM:+0200
TZOFFSETTO:+0300
TZNAME:EEST
DTSTART:20190331T010000
END:DAYLIGHT
BEGIN:STANDARD
TZOFFSETFROM:+0300
TZOFFSETTO:+0200
TZNAME:EET
DTSTART:20191027T010000
END:STANDARD
END:VTIMEZONE
BEGIN:VEVENT
DTSTART;TZID=Europe/Helsinki:20181112T150000
DTEND;TZID=Europe/Helsinki:20181115T120000
DTSTAMP:20260423T090409
CREATED:20181010T131243Z
LAST-MODIFIED:20181106T183427Z
UID:10001528-1542034800-1542283200@pbkik.hu
SUMMARY:Startup Demo Night – szakmai út Bajorországba
DESCRIPTION:A Német-Magyar Ipar és Kereskedelmi Kamara (DUIHK) szakmai utat szervez Bajorországba\, ahova örömmel várják minden baranyai startup vállalkozás\, inkubátorház és egyéb\, a startup ökoszisztémában tevékenykedő szervezet jelentkezését. \n\nA magyar résztvevőknek lehetősége lesz megismerkedni a bajorországi vállalkozói környezettel\, bemutatásra kerülnek a helyi finanszírozási lehetőségek és tőkebefektetők\, illetve céglátogatások során megtekinthetnek bajor startupokat is. \nA tervezett programban szerepel például a regensburgi TechBase Innovációs és Inkubációs Központ felkeresése\, ugyanitt a Biopark meglátogatása\, valamint nürnbergi és augsburgi startup cégek munkájának megismerése.\nAz egyik legizgalmasabb program a müncheni Startup Demo Nighton való részvétel lesz. A müncheni startup alapítói közösség egyik leglátogatottabb eseményén mintegy 60 kiállító mutatja be innovációs megoldásait. \nA szakmai úton való részvétel díja 98.500\,- Ft + ÁFA/fő\, amely a szakmai programokon való részvételt\, a helyszíni csoportos közlekedést és a programban szereplő étkezéseket foglalja magában. \n  \nTovábbi információ:\nSzabó Erika\nÜzletfejlesztés\nNémet-Magyar Ipar és Kereskedelmi Kamara\nTel: +36/1/3457-618\nE-Mail: szabo@ahkungarn.hu
URL:https://pbkik.hu/esemeny/startup-demo-night-szakmai-ut-bajororszagba/
LOCATION:Pécsi Kereskedelmi Központ
GEO:46.081487;18.2347915
END:VEVENT
BEGIN:VEVENT
DTSTART;VALUE=DATE:20181115
DTEND;VALUE=DATE:20181117
DTSTAMP:20260423T090409
CREATED:20181010T133855Z
LAST-MODIFIED:20190213T130921Z
UID:10001532-1542240000-1542412799@pbkik.hu
SUMMARY:4. Nemzetközi Kooperációs Nap - Nyugat-Balkán
DESCRIPTION:2018. november 15-16. között\, immár 4. alkalommal kerül megrendezésre a szerbiai Zlatiborban\, a nyugat- balkáni régióra fókuszáló nemzetközi kooperációs fórum\, melynek kísérőprogramja az Enterprise Europe Network által szervezett nemzetközi üzletember találkozó. \n\nAz üzletember találkozón előre egyeztetett megbeszéléseket\, tárgyalásokat folytathatnak a résztvevők\, mely kiváló alkalom: \n\núj üzleti lehetőségek és projekt partnerek felkutatására\na Nyugat-Balkáni Régió feltérképezésére\ntermék-\, technológia- és know-how promócióra\núj kapcsolatok építésére vállalkozásokkal\, klaszterekkel és intézményekkel\n\n  \nA rendezvény kiemelt \n\ntematikája: „access to finance” (forráshoz jutás)\nszektorai:\n\n\n\nautógyártás\, gépipar\nélelmiszeripar\népítőipar\nfa és bútoripar\nfémipar\, fémmegmunkálás\ninformáció- és kommunikációtechnológia (ICT)\nműanyagipar\ntextilipar\nturizmus\n\n\n\nországai: Bosznia-Hercegovina\, Horvátország\, Magyarország\, Montenegro\, Románia\, Szerbia\, Szlovénia és Törökország\n\nAz üzletember találkozón a részvétel ingyenes\, a kötelező regisztráció határideje 2018. november 12. \nRegisztrációs felület: http://zlatibor2018.talkb2b.net/ \nTovábbi információ Magyarország: \nHendinger Anita \nKonzorcium Koordinátor\, Enterprise Europe Network \nE: hendinger.anita@tradehouse.hu \nTel. +36-20-236-3811 \nTechnikai jellegű információk\, kapcsolat a szervezőkkel: \nE: een@ras.gov.rs \nT: +381 11 3398 644;  +381 3397 902
URL:https://pbkik.hu/esemeny/4-nemzetkozi-kooperacios-nap-nyugat-balkan/
LOCATION:Majorossy Imre utca 36.\, Pécs\, 7625\, Magyarország
END:VEVENT
BEGIN:VEVENT
DTSTART;TZID=Europe/Helsinki:20181115T093000
DTEND;TZID=Europe/Helsinki:20181115T133000
DTSTAMP:20260423T090409
CREATED:20181112T105445Z
LAST-MODIFIED:20190826T103649Z
UID:10001566-1542274200-1542288600@pbkik.hu
SUMMARY:B-Light projekt tájékoztató Komlón
DESCRIPTION:A Baranya Megyei Fejlesztési Ügynökség az INTERREG V-A\, B-Light projekt kapcsán\ntájékoztató céllal roadshowt tart\, melynek komlói időpontja 2018. november 15.  (csütörtök). \n \n\n09.30 – 10.00 Regisztráció\n\n10.00 – 10.10 Elnöki Köszöntő – Befektetés ösztönzési programok Baranyában\, valamint a baranyai vállalkozások lehetőségei a térségben: Madaras Zoltán\, a Baranya Megyei Közgyűlés Elnöke\n\n10.10 – 10.20 Ipari parkok fejlesztése és egyéb befektetés ösztönző beruházások a megyében: Sebestyén Attila\, Baranya Megyei Önkormányzat Területfejlesztési Osztályának osztályvezetője\n\n10.20 – 10.35 Baranyai vállalkozások múltja és jövője az Európai Unióban (nemzetköziesedés\, finanszírozási lehetőségek\, határon átnyúló lehetőségek): dr. Göndöcs István\, B-Light vállalkozói tanácsadó\n\n10.35 – 10.50 Baranyai vállalkozások lehetőségei az Interreg V -A\, B Light projekt\nkeretén belül\, valamint a 3. felhívás bemutatása: Göndöcsné Agócs Dóra\, B-Light vállalkozói tanácsadó\n\n10.50 – 11.00 Baranyai vállalkozói bemutatkozások\n\n11.00 – 12.00 Kérdések és válaszok\, személyes konzultáció\, tapasztalatcsere.\n\nA meghívó ITT tekinthető meg.\n\nA részvétel ingyenes\, de regisztrációhoz kötött. Regisztrálni ITT lehet.
URL:https://pbkik.hu/esemeny/b-light-projekt-tajekoztato-komlon/
LOCATION:Városháza Komló\, Városház tér 3.\, Komló\, Baranya\, 7300\, Magyarország
END:VEVENT
BEGIN:VEVENT
DTSTART;TZID=Europe/Helsinki:20181115T130000
DTEND;TZID=Europe/Helsinki:20181115T180000
DTSTAMP:20260423T090409
CREATED:20181016T130830Z
LAST-MODIFIED:20181109T151301Z
UID:10001540-1542286800-1542304800@pbkik.hu
SUMMARY:Duális képzési ismeretek képzés – 2. csoport
DESCRIPTION:A mai folyamatosan változó oktatási és képzési rendszerben\, rendszerekben nehéz eligazodni. Mi a különbség a felnőttoktatás és felnőttképzés vagy a felsőoktatási szakképzés és az emelt szintű szakképzés között. Hasonló szavak\, mégis teljesen más jelentéstartalommal bírnak. Mit takar az OKJ\, az SZVK\, vagy a KKK mozaikszó? Ha szeretne elmélyülni\, vagy egyszerűen csak a közép- és felsőoktatási duális képzési rendszerben eligazodni\, 16 órás képzésünk minderre lehetőséget biztosít. \nA képzés céljai: \n\na vonatkozó jogszabályokban és az azokon alapuló\, a duális képzéssel összefüggő dokumentumokban történő tájékozódás segítése\,\na duális jellegű középfokú\, illetve felsőoktatási gyakorlati képzési folyamatok elemeinek a megismertetése\,\na gyakorlati képzéshez kapcsolódó elméleti alapismeretek\, valamint gyakorlati alapkompetenciák biztosítása.\n\nKépzés célcsoportja: \n\npedagógusok\, gyakorlati oktatók\,\ngyakorlati képzést végző\, vagy végezni kívánó egyéni vállalkozók\, gazdálkodók és intézmények munkatársai\,\nhr munkatársak\, szervezetfejlesztéssel foglalkozó személyek\,\nfelnőttképzéssel foglalkozó munkatársak\, a duális képzésben érintettek\n\nA képzés tartalma: \n\nA duális képzési rendszer alapjai\nKamarai és a felsőoktatási nyilvántartásba vétel és feltételei\nTanulószerződés\, Együttműködési megállapodások\, Hallgatói munkaszerződés kötés és feltételei\nA tanulói és a hallgatói munkavégzés szabályai\, tanulói\, hallgatói juttatások\, a gyakorlati képzőhelyek kötelezettségei\nA tanulási és a magatartási nehézségekkel küzdő\, valamint a hátrányos helyzetű tanulók\, hallgatók kategóriái és a kategóriák jellemzői\nA gyakorlati képzés folyamata\n\nKépzési idő: 16 óra\, három alkalom \nRészvételi díj: ingyenes \nA képzés az EFOP-3.5.1-16-2017-00003\, A duális képzés fejlesztése a Pécsi Tudományegyetemen projekt keretében kerül megrendezésre.\nA képzés elvégzésével megszerezhető dokumentum: tanúsítvány \nA képzés időpontjai:\n• 1. Képzés (keddenként): 2018. november 6.\, 13.\, 20.  13:00- 18:00 óráig\n• 2. Képzés (csütörtökönként): 2018. november 8.\, 15.\, 22.  13:00- 18:00 óráig\nHelyszín: Pécsi Kereskedelmi Központ\, 7625 Pécs\, Majorossy I. u. 36.\nJelentkezés az alábbi linkre kattintva: Regisztráció. \nA PBGSZ Nkft. az érdeklődő magánszemélyek\, vállalkozások és intézmények képviselői\, valamint a képzéseiben résztvevők számára továbbá az alábbi felnőttképzést kiegészítő tevékenységeket is nyújtja térítésmentesen: \n\nElőzetes tudásszintfelmérés\nKépzési szükségletek felmérése és képzési tanácsadás\nPályaorientációs tanácsadás\n\nA képzésekkel\, képzési programokkal\, valamint a kiegészítő szolgáltatásokkal kapcsolatban a PBGSZ Nkft. ügyfélszolgálati idejében (H-Cs: 08.30-15.00-ig\, P: 08.30-12.00-ig) az ügyfélszolgálattal megbízott munkatársak állnak az érdeklődők rendelkezésére. \nElérhetőségeink: Pécsi Kereskedelmi Központ\, PBGSZ Nkft. 7625 Pécs\, Majorossy I. u. 36. \n\nPiacsek László\, 72/507-141\, piacsek@pbkik.hu\nGáncs Katalin\, 72/507-105 gancs@pbkik.hu\n\nA képzés nyilvántartásba vételi száma: E-001772/2018/D002\nA PBGSZ Nkft. nyilvántartásba vételi száma: E-001772/2018 \nA képzés Adatvédelmi tájékoztatója itt olvasható.
URL:https://pbkik.hu/esemeny/dualis-kepzesi-ismeretek-kepzes-2-csoport/2018-11-15/
LOCATION:Pécsi Kereskedelmi Központ
CATEGORIES:Kamaraakadémia
ORGANIZER;CN="Piacsek L%C3%A1szl%C3%B3%2C hum%C3%A1ner%C5%91forr%C3%A1s-fejleszt%C3%A9si oszt%C3%A1lyvezet%C5%91":MAILTO:piacsek@pbkik.hu
GEO:46.081487;18.2347915
END:VEVENT
BEGIN:VEVENT
DTSTART;TZID=Europe/Helsinki:20181115T150000
DTEND;TZID=Europe/Helsinki:20181115T180000
DTSTAMP:20260423T090409
CREATED:20181107T130729Z
LAST-MODIFIED:20190213T130937Z
UID:10001557-1542294000-1542304800@pbkik.hu
SUMMARY:Fiatal Vállalkozók Hete
DESCRIPTION:Vállalkozol\, vállalkoznál? Ha igen\, akkor ez a rendezvény NEKED szól! \n  \n \n \nIdén tizenegyedik alkalommal kerül megrendezésre a Fiatal Vállalkozók Hete rendezvénysorozat pécsi eseménye a FIVOSZ\, a Szálkai Könyvelő-és Adótanácsadó Iroda\, a Pécs-Baranyai Kereskedelmi és Iparkamara – Enterprise Europe Network\, a Baranya Megyei Önkormányzat\, az INPUT Program és a PTE Doktorandusz Önkormányzata társszervezésében \n \n  \nA pécsi rendezvény idén igazi különlegességgel kedveskedik a látogatóknak. \nTöbb rendkívül sikeres vállalkozó élménybeszámolóját hallgathatjuk meg\, többek között a\nGames for Business\, a Vimage\, vagy a Monday Quiz alapítói személyében. \nHatármenti megyeként kiemelten fontos a horvátországi kapcsolatépítés\, melynek keretében az\nI-DARE program kifejezetten fiatalok vállalkozóvá váláshoz járul hozzá a térségben. \nBemutatkozik a B-LIGHT projekt\, mely program keretében a célzottan Magyar-Horvát együttműködő vállalkozások pályázhatnak akár 180.000 EUR-ra.\nA Nemzeti Adó-és Vámhivatal bemutatja új szolgáltatásukat\, a Mentorprogramot.\nElőad továbbá az Enterprise Europe Network\, akik nemzetközi kapcsolatok kialakításában állnak a KKV-k rendelkezésére. \nA Fiatalok Vállalkozóvá Válásának programja (GINOP 5.2.2.-5.2.3.) még nem zárult le\, így ha 25 év alatti vagy és szeretnél 3 millió forinthoz hozzájutni\, mindenképp a rendezvényen a helyed!\nA rendezvény ingyenes\, de regisztrációhoz kötött! \nIdőpont: 2018. november 15. \nHelyszín: Pécs-Baranyai Kereskedelmi és Iparkamara – Zsolnay Díszterem\n7625 Pécs\, Majorossy Imre u. 36. \nA rendezvény ingyenes\, de regisztrációhoz kötött!\nRegisztrálni itt tudsz:\nhttp://fvh2018.fivosz.hu/\nSok szeretettel várunk! \n  \nRészletes programunkat ITT tudod megtekinteni.
URL:https://pbkik.hu/esemeny/fiatal-vallalkozok-hete/
LOCATION:Pécsi Kereskedelmi Központ
GEO:46.081487;18.2347915
END:VEVENT
END:VCALENDAR