BEGIN:VCALENDAR
VERSION:2.0
PRODID:-//Pécs-Baranyai Kereskedelmi és Iparkamara - ECPv6.15.20//NONSGML v1.0//EN
CALSCALE:GREGORIAN
METHOD:PUBLISH
X-ORIGINAL-URL:https://pbkik.hu
X-WR-CALDESC:Események Pécs-Baranyai Kereskedelmi és Iparkamara
REFRESH-INTERVAL;VALUE=DURATION:PT1H
X-Robots-Tag:noindex
X-PUBLISHED-TTL:PT1H
BEGIN:VTIMEZONE
TZID:Europe/Helsinki
BEGIN:DAYLIGHT
TZOFFSETFROM:+0200
TZOFFSETTO:+0300
TZNAME:EEST
DTSTART:20170326T010000
END:DAYLIGHT
BEGIN:STANDARD
TZOFFSETFROM:+0300
TZOFFSETTO:+0200
TZNAME:EET
DTSTART:20171029T010000
END:STANDARD
BEGIN:DAYLIGHT
TZOFFSETFROM:+0200
TZOFFSETTO:+0300
TZNAME:EEST
DTSTART:20180325T010000
END:DAYLIGHT
BEGIN:STANDARD
TZOFFSETFROM:+0300
TZOFFSETTO:+0200
TZNAME:EET
DTSTART:20181028T010000
END:STANDARD
BEGIN:DAYLIGHT
TZOFFSETFROM:+0200
TZOFFSETTO:+0300
TZNAME:EEST
DTSTART:20190331T010000
END:DAYLIGHT
BEGIN:STANDARD
TZOFFSETFROM:+0300
TZOFFSETTO:+0200
TZNAME:EET
DTSTART:20191027T010000
END:STANDARD
END:VTIMEZONE
BEGIN:VEVENT
DTSTART;VALUE=DATE:20181115
DTEND;VALUE=DATE:20181117
DTSTAMP:20260425T185807
CREATED:20181010T133855Z
LAST-MODIFIED:20190213T130921Z
UID:10001532-1542240000-1542412799@pbkik.hu
SUMMARY:4. Nemzetközi Kooperációs Nap - Nyugat-Balkán
DESCRIPTION:2018. november 15-16. között\, immár 4. alkalommal kerül megrendezésre a szerbiai Zlatiborban\, a nyugat- balkáni régióra fókuszáló nemzetközi kooperációs fórum\, melynek kísérőprogramja az Enterprise Europe Network által szervezett nemzetközi üzletember találkozó. \n\nAz üzletember találkozón előre egyeztetett megbeszéléseket\, tárgyalásokat folytathatnak a résztvevők\, mely kiváló alkalom: \n\núj üzleti lehetőségek és projekt partnerek felkutatására\na Nyugat-Balkáni Régió feltérképezésére\ntermék-\, technológia- és know-how promócióra\núj kapcsolatok építésére vállalkozásokkal\, klaszterekkel és intézményekkel\n\n  \nA rendezvény kiemelt \n\ntematikája: „access to finance” (forráshoz jutás)\nszektorai:\n\n\n\nautógyártás\, gépipar\nélelmiszeripar\népítőipar\nfa és bútoripar\nfémipar\, fémmegmunkálás\ninformáció- és kommunikációtechnológia (ICT)\nműanyagipar\ntextilipar\nturizmus\n\n\n\nországai: Bosznia-Hercegovina\, Horvátország\, Magyarország\, Montenegro\, Románia\, Szerbia\, Szlovénia és Törökország\n\nAz üzletember találkozón a részvétel ingyenes\, a kötelező regisztráció határideje 2018. november 12. \nRegisztrációs felület: http://zlatibor2018.talkb2b.net/ \nTovábbi információ Magyarország: \nHendinger Anita \nKonzorcium Koordinátor\, Enterprise Europe Network \nE: hendinger.anita@tradehouse.hu \nTel. +36-20-236-3811 \nTechnikai jellegű információk\, kapcsolat a szervezőkkel: \nE: een@ras.gov.rs \nT: +381 11 3398 644;  +381 3397 902
URL:https://pbkik.hu/esemeny/4-nemzetkozi-kooperacios-nap-nyugat-balkan/
LOCATION:Majorossy Imre utca 36.\, Pécs\, 7625\, Magyarország
END:VEVENT
END:VCALENDAR