BEGIN:VCALENDAR
VERSION:2.0
PRODID:-//Pécs-Baranyai Kereskedelmi és Iparkamara - ECPv6.15.20//NONSGML v1.0//EN
CALSCALE:GREGORIAN
METHOD:PUBLISH
X-ORIGINAL-URL:https://pbkik.hu
X-WR-CALDESC:Események Pécs-Baranyai Kereskedelmi és Iparkamara
REFRESH-INTERVAL;VALUE=DURATION:PT1H
X-Robots-Tag:noindex
X-PUBLISHED-TTL:PT1H
BEGIN:VTIMEZONE
TZID:Europe/Helsinki
BEGIN:DAYLIGHT
TZOFFSETFROM:+0200
TZOFFSETTO:+0300
TZNAME:EEST
DTSTART:20170326T010000
END:DAYLIGHT
BEGIN:STANDARD
TZOFFSETFROM:+0300
TZOFFSETTO:+0200
TZNAME:EET
DTSTART:20171029T010000
END:STANDARD
BEGIN:DAYLIGHT
TZOFFSETFROM:+0200
TZOFFSETTO:+0300
TZNAME:EEST
DTSTART:20180325T010000
END:DAYLIGHT
BEGIN:STANDARD
TZOFFSETFROM:+0300
TZOFFSETTO:+0200
TZNAME:EET
DTSTART:20181028T010000
END:STANDARD
BEGIN:DAYLIGHT
TZOFFSETFROM:+0200
TZOFFSETTO:+0300
TZNAME:EEST
DTSTART:20190331T010000
END:DAYLIGHT
BEGIN:STANDARD
TZOFFSETFROM:+0300
TZOFFSETTO:+0200
TZNAME:EET
DTSTART:20191027T010000
END:STANDARD
END:VTIMEZONE
BEGIN:VEVENT
DTSTART;VALUE=DATE:20181122
DTEND;VALUE=DATE:20181124
DTSTAMP:20260424T181553
CREATED:20181010T134138Z
LAST-MODIFIED:20190213T131048Z
UID:10001533-1542844800-1543017599@pbkik.hu
SUMMARY:Kontaktnapok Ungváron
DESCRIPTION:2018. november 22-23-án Ungváron Nemzetközi Kontaktnapok kerülnek megrendezésre a következő témakörökben: építészet\, építő és díszítő anyagok\, javítási szerszámok és eszközök; fűtési rendszerek\, hőszigetelés\, világítástechnika; energiatakarékosság; bútor és bútorkellékek; faipari termékek. \n\nA találkozó részletes programja: \n  \n\n\n\nNovember 22.\n15.00-tól\nA résztvevők érkezése\, elhelyezkedés\n\n\n19.00\nVacsora\n\n\n  \nNovember 23.\n8.00\nReggeli\n\n\n9.00-10.00\nRegisztráció\n\n\n10.00-10.15\nÜnnepi megnyitó\n\n\n10.15-14.30\nÜzleti megbeszélések\n\n\n14.30\nEbéd\, a résztvevők elutazása\n\n\n\n Részvételi feltételek:\n \n Cégismertető és elhelyezendő reklámszöveg megküldése a következő fax számra (38O-312) 66-94-74.\n \nTovábbi információ: \n Kontakt telefonok: ( 38O 312) 66-94-62\, 66-94-50 tel./fax: 66-94-74 \nE-mail:  exib@tpp.uzhgorod.ua
URL:https://pbkik.hu/esemeny/kontaktnapok-ungvaron/
LOCATION:Majorossy Imre utca 36.\, Pécs\, 7625\, Magyarország
END:VEVENT
BEGIN:VEVENT
DTSTART;TZID=Europe/Helsinki:20181122T080000
DTEND;TZID=Europe/Helsinki:20181122T170000
DTSTAMP:20260424T181553
CREATED:20181122T135626Z
LAST-MODIFIED:20181122T135626Z
UID:10001599-1542873600-1542906000@pbkik.hu
SUMMARY:Duna Transznacionális Program tájékoztató nap
DESCRIPTION:A Pénzügyminisztérium Területfejlesztési Tervezési Főosztálya nemzeti tájékoztató napot szervez a Duna Transznacionális Program hamarosan megjelenő 3. pályázati felhívásához kapcsolódóan. \n \nA rendezvény időpontja és helyszíne: \n2018. november (kedd) 27. 09:00 – 14:00 óra \nPM Pénztárterem (1051 Budapest\, József nádor tér 2-4. – bejárat a Dorottya utca felől) \n  \nTervezett program: \n09.00 – 09.30 \nRegisztráció \n09.30 – 09.40 \nKöszöntő \nPénzügyminisztérium \n09.40 – 09.50 \nA Duna Transznacionális Program (DTP) bemutatása \nPM\, Területfejlesztési Tervezési Főosztály \n09.50 – 10.10 \nNew Generation Skills projekt bemutatása\nBudapest Főváros XI. Ker. Újbuda Önkormányzata \n10.10 – 10.30\nDAREFFORT projekt bemutatása\nDuna Régió Stratégia prioritás terület (PA5) koordinátor \n\n10.30 – 11.00\nKávészünet \n\n11.00 – 11.50\nDTP harmadik pályázati felhívása\nPM\, DTP Közös Titkársága\n11.50 – 12.10\nProjektvégrehajtás hazai vonatkozásai\nPM\, Területfejlesztési Tervezési Főosztály \n12.10 – 13.00\nDTP projektfejlesztés és értékelési szempontok\nPM\, DTP Közös Titkársága \n13.00 – 14.00\nSzendvicsebéd\nRészvételi szándékát 2018. november 22-ig jelezheti az alábbi linken: \nhttps://goo.gl/forms/63LwmmShCxXRC6LQ2.
URL:https://pbkik.hu/esemeny/duna-transznacionalis-program-tajekoztato-nap/
LOCATION:Pécsi Kereskedelmi Központ
GEO:46.081487;18.2347915
END:VEVENT
BEGIN:VEVENT
DTSTART;TZID=Europe/Helsinki:20181122T093000
DTEND;TZID=Europe/Helsinki:20181122T133000
DTSTAMP:20260424T181553
CREATED:20181112T105040Z
LAST-MODIFIED:20190826T103757Z
UID:10001564-1542879000-1542893400@pbkik.hu
SUMMARY:B-Light projekt tájékoztató Mohácson
DESCRIPTION:A Baranya Megyei Fejlesztési Ügynökség az INTERREG V-A\, B-Light projekt kapcsán\ntájékoztató céllal roadshowt tart\, melynek mohácsi időpontja 2018. november 22 (csütörtök). \n \n\n09.30 – 10.00 Regisztráció\n\n10.00 – 10.10 Elnöki Köszöntő – Befektetés ösztönzési programok Baranyában\, valamint a baranyai vállalkozások lehetőségei a térségben: Madaras Zoltán\, a Baranya Megyei Közgyűlés Elnöke\n\n10.10 – 10.20 Ipari parkok fejlesztése és egyéb befektetés ösztönző beruházások a megyében: Sebestyén Attila\, Baranya Megyei Önkormányzat Területfejlesztési Osztályának osztályvezetője\n\n10.20 – 10.35 Baranyai vállalkozások múltja és jövője az Európai Unióban (nemzetköziesedés\, finanszírozási lehetőségek\, határon átnyúló lehetőségek): dr. Göndöcs István\, B-Light vállalkozói tanácsadó\n\n10.35 – 10.50 Baranyai vállalkozások lehetőségei az Interreg V -A\, B Light projekt\nkeretén belül\, valamint a 3. felhívás bemutatása: Göndöcsné Agócs Dóra\, B-Light vállalkozói tanácsadó\n\n10.50 – 11.00 Baranyai vállalkozói bemutatkozások\n\n11.00 – 12.00 Kérdések és válaszok\, személyes konzultáció\, tapasztalatcsere.\n\nA meghívó ITT tekinthető meg.\n\nA részvétel ingyenes\, de regisztrációhoz kötött. Regisztrálni ITT lehet.
URL:https://pbkik.hu/esemeny/b-light-projekt-tajekoztato-mohacson/
END:VEVENT
BEGIN:VEVENT
DTSTART;TZID=Europe/Helsinki:20181122T130000
DTEND;TZID=Europe/Helsinki:20181122T180000
DTSTAMP:20260424T181553
CREATED:20181016T130830Z
LAST-MODIFIED:20181109T151301Z
UID:10001541-1542891600-1542909600@pbkik.hu
SUMMARY:Duális képzési ismeretek képzés – 2. csoport
DESCRIPTION:A mai folyamatosan változó oktatási és képzési rendszerben\, rendszerekben nehéz eligazodni. Mi a különbség a felnőttoktatás és felnőttképzés vagy a felsőoktatási szakképzés és az emelt szintű szakképzés között. Hasonló szavak\, mégis teljesen más jelentéstartalommal bírnak. Mit takar az OKJ\, az SZVK\, vagy a KKK mozaikszó? Ha szeretne elmélyülni\, vagy egyszerűen csak a közép- és felsőoktatási duális képzési rendszerben eligazodni\, 16 órás képzésünk minderre lehetőséget biztosít. \nA képzés céljai: \n\na vonatkozó jogszabályokban és az azokon alapuló\, a duális képzéssel összefüggő dokumentumokban történő tájékozódás segítése\,\na duális jellegű középfokú\, illetve felsőoktatási gyakorlati képzési folyamatok elemeinek a megismertetése\,\na gyakorlati képzéshez kapcsolódó elméleti alapismeretek\, valamint gyakorlati alapkompetenciák biztosítása.\n\nKépzés célcsoportja: \n\npedagógusok\, gyakorlati oktatók\,\ngyakorlati képzést végző\, vagy végezni kívánó egyéni vállalkozók\, gazdálkodók és intézmények munkatársai\,\nhr munkatársak\, szervezetfejlesztéssel foglalkozó személyek\,\nfelnőttképzéssel foglalkozó munkatársak\, a duális képzésben érintettek\n\nA képzés tartalma: \n\nA duális képzési rendszer alapjai\nKamarai és a felsőoktatási nyilvántartásba vétel és feltételei\nTanulószerződés\, Együttműködési megállapodások\, Hallgatói munkaszerződés kötés és feltételei\nA tanulói és a hallgatói munkavégzés szabályai\, tanulói\, hallgatói juttatások\, a gyakorlati képzőhelyek kötelezettségei\nA tanulási és a magatartási nehézségekkel küzdő\, valamint a hátrányos helyzetű tanulók\, hallgatók kategóriái és a kategóriák jellemzői\nA gyakorlati képzés folyamata\n\nKépzési idő: 16 óra\, három alkalom \nRészvételi díj: ingyenes \nA képzés az EFOP-3.5.1-16-2017-00003\, A duális képzés fejlesztése a Pécsi Tudományegyetemen projekt keretében kerül megrendezésre.\nA képzés elvégzésével megszerezhető dokumentum: tanúsítvány \nA képzés időpontjai:\n• 1. Képzés (keddenként): 2018. november 6.\, 13.\, 20.  13:00- 18:00 óráig\n• 2. Képzés (csütörtökönként): 2018. november 8.\, 15.\, 22.  13:00- 18:00 óráig\nHelyszín: Pécsi Kereskedelmi Központ\, 7625 Pécs\, Majorossy I. u. 36.\nJelentkezés az alábbi linkre kattintva: Regisztráció. \nA PBGSZ Nkft. az érdeklődő magánszemélyek\, vállalkozások és intézmények képviselői\, valamint a képzéseiben résztvevők számára továbbá az alábbi felnőttképzést kiegészítő tevékenységeket is nyújtja térítésmentesen: \n\nElőzetes tudásszintfelmérés\nKépzési szükségletek felmérése és képzési tanácsadás\nPályaorientációs tanácsadás\n\nA képzésekkel\, képzési programokkal\, valamint a kiegészítő szolgáltatásokkal kapcsolatban a PBGSZ Nkft. ügyfélszolgálati idejében (H-Cs: 08.30-15.00-ig\, P: 08.30-12.00-ig) az ügyfélszolgálattal megbízott munkatársak állnak az érdeklődők rendelkezésére. \nElérhetőségeink: Pécsi Kereskedelmi Központ\, PBGSZ Nkft. 7625 Pécs\, Majorossy I. u. 36. \n\nPiacsek László\, 72/507-141\, piacsek@pbkik.hu\nGáncs Katalin\, 72/507-105 gancs@pbkik.hu\n\nA képzés nyilvántartásba vételi száma: E-001772/2018/D002\nA PBGSZ Nkft. nyilvántartásba vételi száma: E-001772/2018 \nA képzés Adatvédelmi tájékoztatója itt olvasható.
URL:https://pbkik.hu/esemeny/dualis-kepzesi-ismeretek-kepzes-2-csoport/2018-11-22/
LOCATION:Pécsi Kereskedelmi Központ
CATEGORIES:Kamaraakadémia
ORGANIZER;CN="Piacsek L%C3%A1szl%C3%B3%2C hum%C3%A1ner%C5%91forr%C3%A1s-fejleszt%C3%A9si oszt%C3%A1lyvezet%C5%91":MAILTO:piacsek@pbkik.hu
GEO:46.081487;18.2347915
END:VEVENT
END:VCALENDAR