BEGIN:VCALENDAR
VERSION:2.0
PRODID:-//Pécs-Baranyai Kereskedelmi és Iparkamara - ECPv6.15.20//NONSGML v1.0//EN
CALSCALE:GREGORIAN
METHOD:PUBLISH
X-WR-CALNAME:Pécs-Baranyai Kereskedelmi és Iparkamara
X-ORIGINAL-URL:https://pbkik.hu
X-WR-CALDESC:Események Pécs-Baranyai Kereskedelmi és Iparkamara
REFRESH-INTERVAL;VALUE=DURATION:PT1H
X-Robots-Tag:noindex
X-PUBLISHED-TTL:PT1H
BEGIN:VTIMEZONE
TZID:Europe/Helsinki
BEGIN:DAYLIGHT
TZOFFSETFROM:+0200
TZOFFSETTO:+0300
TZNAME:EEST
DTSTART:20170326T010000
END:DAYLIGHT
BEGIN:STANDARD
TZOFFSETFROM:+0300
TZOFFSETTO:+0200
TZNAME:EET
DTSTART:20171029T010000
END:STANDARD
BEGIN:DAYLIGHT
TZOFFSETFROM:+0200
TZOFFSETTO:+0300
TZNAME:EEST
DTSTART:20180325T010000
END:DAYLIGHT
BEGIN:STANDARD
TZOFFSETFROM:+0300
TZOFFSETTO:+0200
TZNAME:EET
DTSTART:20181028T010000
END:STANDARD
BEGIN:DAYLIGHT
TZOFFSETFROM:+0200
TZOFFSETTO:+0300
TZNAME:EEST
DTSTART:20190331T010000
END:DAYLIGHT
BEGIN:STANDARD
TZOFFSETFROM:+0300
TZOFFSETTO:+0200
TZNAME:EET
DTSTART:20191027T010000
END:STANDARD
END:VTIMEZONE
BEGIN:VEVENT
DTSTART;TZID=Europe/Helsinki:20181126T123000
DTEND;TZID=Europe/Helsinki:20181126T173000
DTSTAMP:20260424T140040
CREATED:20181116T113554Z
LAST-MODIFIED:20190213T131100Z
UID:10001590-1543235400-1543253400@pbkik.hu
SUMMARY:Magyar-Finn Üzleti Fórum
DESCRIPTION:A HEPA Magyar Exportfejlesztési Ügynökség Nonprofit Zrt. tájékoztatást adott\, hogy 2018. november 26-án Helsinkiben Magyar-Finn Üzleti Fórumot kerül megrendezésre. \n \n  \nA rendezvényem\, melynek szervezője a Business Finland és a Helsinki Magyar Nagykövetség\, a magyar vállalkozások az ott elhangzó előadások mellett rövid üzleti találkozók keretében személyesen vehetik fel a kapcsolatot finn partnercégekkel. \n  \nA részvétel díjtalan\, de regisztrációhoz kötött. \n  \nRészletes tájékoztató és regisztráció ITT. \n  \nA rendezvény időpontja: 2018. november 26. 12.30-17.30 \nA rendezvény helyszíne: Team Finnland House (Finnország\, Helsinki\, Porkkalantkatu 1.) \n  \n 
URL:https://pbkik.hu/esemeny/magyar-finn-uzleti-forum/
LOCATION:Team Finnland House\, Porkkalantkatu 1.\, Helsinki\, Finnország
END:VEVENT
END:VCALENDAR