BEGIN:VCALENDAR
VERSION:2.0
PRODID:-//Pécs-Baranyai Kereskedelmi és Iparkamara - ECPv6.15.20//NONSGML v1.0//EN
CALSCALE:GREGORIAN
METHOD:PUBLISH
X-WR-CALNAME:Pécs-Baranyai Kereskedelmi és Iparkamara
X-ORIGINAL-URL:https://pbkik.hu
X-WR-CALDESC:Események Pécs-Baranyai Kereskedelmi és Iparkamara
REFRESH-INTERVAL;VALUE=DURATION:PT1H
X-Robots-Tag:noindex
X-PUBLISHED-TTL:PT1H
BEGIN:VTIMEZONE
TZID:Europe/Helsinki
BEGIN:DAYLIGHT
TZOFFSETFROM:+0200
TZOFFSETTO:+0300
TZNAME:EEST
DTSTART:20180325T010000
END:DAYLIGHT
BEGIN:STANDARD
TZOFFSETFROM:+0300
TZOFFSETTO:+0200
TZNAME:EET
DTSTART:20181028T010000
END:STANDARD
BEGIN:DAYLIGHT
TZOFFSETFROM:+0200
TZOFFSETTO:+0300
TZNAME:EEST
DTSTART:20190331T010000
END:DAYLIGHT
BEGIN:STANDARD
TZOFFSETFROM:+0300
TZOFFSETTO:+0200
TZNAME:EET
DTSTART:20191027T010000
END:STANDARD
BEGIN:DAYLIGHT
TZOFFSETFROM:+0200
TZOFFSETTO:+0300
TZNAME:EEST
DTSTART:20200329T010000
END:DAYLIGHT
BEGIN:STANDARD
TZOFFSETFROM:+0300
TZOFFSETTO:+0200
TZNAME:EET
DTSTART:20201025T010000
END:STANDARD
END:VTIMEZONE
BEGIN:VEVENT
DTSTART;TZID=Europe/Helsinki:20190218T080000
DTEND;TZID=Europe/Helsinki:20190411T140000
DTSTAMP:20260420T012433
CREATED:20190214T090653Z
LAST-MODIFIED:20190214T090653Z
UID:10001554-1550476800-1554991200@pbkik.hu
SUMMARY:AutóMánia - járműtechnikai szakmaismereti verseny
DESCRIPTION:A 3 fordulós pályaválasztási verseny lehetőséget ad az autóipari\, járműtechnikai szakmákkal való ismerkedésre. Azoknak a tanulóknak ajánljuk\, akik még bizonytalanok a pályaválasztásban és azoknak\, akik érdeklődnek az autóipar és a járműtechnika iránt. (Nem szükséges hozzá szakmai ismeret!)ELSŐ FORDULÓ 2019. február 18. és március 6. között \nA verseny első fordulójában egy szakmaismereti kérdőív online kitöltése a feladat. Ez egyben a versenyre jelentkezés is. A kérdőív\, valamint az adatlap a www.palyavalasztasbaranya.hu weboldalon érhető el 2019. február 18-tól. Az 1. forduló és a jelentkezés 2019. március 6-án 12.00-kor zárul. Eredményhirdetés 2019. március 6-án 16.00-ig. \nMÁSODIK FORDULÓ – 2019. március 11. és március 26. között \nA kérdőívet helyesen megoldó csapatok a második fordulóban március 11. és március 26. között előre egyeztetett időpontokban és helyszíneken üzemlátogatásokon vesznek részt. Minden helyszínen bepillanthatnak az gépjárműiparhoz kapcsolódó üzemek\, vállalkozások napi tevékenységébe\, megismerkedhetnek a szakmákkal\, az alapanyagokkal\, a munkafolyamatokkal\, megtekinthetik a javítóműhelyeket\, esetlegesen az autószalonokat. \nAz üzemlátogatásról egy megadott szempontsor alapján prezentációt kell készíteni. A prezentáció leadási határideje április 2. A zsűri döntését 2019. április 4.-én tesszük közzé. Idén 1-3 perces kisfilmet is lehet készíteni plusz pontokért! A film készítési szempontokat\, javaslatokat\, tippeket és a prezentációhoz szükséges szempontsorokat az üzemlátogatás előtt megkapja a csapat. \nDÖNTŐ – 2019. április 11. \nAz elbírálás során legjobbnak bizonyuló 10 csapat tagjai vehetnek részt a 2019. április 11-én Pécsett a Pécs-Baranyai Kereskedelmi és Iparkamarában tartandó döntőn\, ahol a játékos\, ügyességi feladatok megoldásához a céglátogatások során elsajátított ismeretek mellett a logikát\, a kézügyességet és a csapatmunkát is be kell vetni. A döntőn a II. fordulón beadott prezentációt 5 percben elő is kell adnia a csapatnak. \nA döntőbe jutott csapatok és segítő tanáraik a versenyt támogató cégektől értékes ajándékokat kapnak! Emellett a 10 csapat 2019. május 3-án a győri AUDI gyár megtekintésével egybekötött jutalom kiránduláson vehet részt!
URL:https://pbkik.hu/esemeny/automania-jarmutechnikai-szakmaismereti-verseny/
LOCATION:Pécsi Kereskedelmi Központ
GEO:46.081487;18.2347915
END:VEVENT
BEGIN:VEVENT
DTSTART;VALUE=DATE:20190331
DTEND;VALUE=DATE:20190404
DTSTAMP:20260420T012433
CREATED:20190212T092832Z
LAST-MODIFIED:20190410T132149Z
UID:10001550-1553990400-1554335999@pbkik.hu
SUMMARY:Üzleti delegáció a Hannover Messe kiállításra
DESCRIPTION:Németország Magyarország legfontosabb kereskedelmi partnere\, a kétoldalú áruforgalom 2017-ben megközelítette a 53 milliárd eurót. Németország a világ egyik legfejlettebb piacgazdasága\, melynek fejlődése 10 éve töretlen.  Németország kiemelkedik az autók\, gépek\, elektromos berendezések és vegyi anyagok gyártásában\, a német vállalatok az iparágak mintegy kétharmadában a világranglista első három helyén találhatók. Kiemelt jelentőségű a hálózatok fejlesztése\, azon belül nem csak az IT\, hanem a közlekedési rendszerek fejlesztése is. \n \n  \nA Hannover Messe a világ vezető ipari B2B és nemzetközi szakkiállítása\, mely egy helyen és egy időben mutatja be a technológiai innovációk teljes skáláját az egész értékesítési láncon belül – az automatizálástól a beszállítói megoldásokig. Témái az integrált automatizácó\, ipari informatika\, erőátvitel és vezérlés; a digitális gyár; az integrált energiarendszerek; az innovatív beszállítói megoldások; a kutatás & fejlesztés\, és technológiaátadás; és a sűrített levegő – és vákuumtechnika. A Hannover Messe ideális üzleti és networking (B2B találkozók) esemény azoknak\, akik megismernék az úttörő technológiákat és akiknek fontos a nemzetközi kapcsolatépítés. \n  \nA Németországba kiutazó üzleti delegáció célja az országok vállalkozói közötti együttműködési lehetőségek feltérképezése\, új üzleti kapcsolatok kialakítása\, az Ipar 4.0 németországi eredményeinek megismerése. \nCélcsoport \nNémetország iránt érdeklődő exportorientált cégprofilú vállalkozások\, amelyek lehetőség szerint az alábbi területeken tevékenykednek: \n\njárműipar\, gépipar\ninformációs technológia\nenergiaipar\nK+F\, tudás- és technológiatranszfer\n\nTervezett programok \n\nvásárlátogatás és üzletember-találkozó a Hannover Messe területén\naz alsó-szászországi üzleti környezet bemutatása a Hannoveri Kereskedelmi és Iparkamarában\ngyárlátogatás a wolfsburgi Volkswagen gyárban\n\n  \nA B2B találkozókra mindenki egyénileg online regisztrál\, emellett javasoljuk\, hogy az eredményes kiutazás érdekében\, vegyék  fel a kapcsolatot a kinti partnerekkel. A megfelelő mennyiségű és minőségű üzleti partner felkutatását az MKIK nem vállalja. \nA tervezett szakmai program csatoltan található.\n \nB2B találkozókra jelentkezés\nAz Enterprise Europe Network szervezésében a vásár ideje alatt B2B találkozók kerülnek megrendezésre\, melyre az alábbi linken lehet jelentkezni: \nA jelentkezés február 15-ig ingyenes\, ezt követően 119.00 EUR/cég + további céges képviselő esetén 75.00 EUR/fő (információink szerint az ingyenes jelentkezési határidőt valószínűleg egy héttel meghosszabbítják) \nhttps://technology-business-cooperation-days.b2match.io/ \nMiért érdemes részt venni? \n\nrészvétel a Hannover Messe kiállításon\ntájékozódási lehetőség Alsó-Szászország gazdasági és üzleti környezetéről\, a gazdasági együttműködési lehetőségekről\ntárgyalási lehetőség potenciális német üzleti partnerekkel\nkonzultációs lehetőség Magyarország berlini külgazdasági attaséjával\, dr. Wersényi Györggyel\n\n  \nA részvétel feltételei \n\nexportorientált cégprofil\nkamarai regisztráció\nelőnyben részesülnek az MKIK bilaterális tagozatainak tagvállalatai és az önkéntes kamarai tagok\n\n  \nSzervezők\nA Magyar Kereskedelmi Iparkamara Magyar-Német Tagozata\, a Hannoveri Kereskedelmi és Iparkamara\, az Enterprise Europe Network Niedersachsen\, valamint Magyarország berlini külképviseletének közreműködésével. \nMilyen nyelvűek a szakmai programok?\nA szakmai programok nyelve az angol lesz\, magyar tolmácsolást nem tudunk biztosítani. \nVárható költségek\nrepülőjegy: kb. 41.600 Ft/fő illetékkel\, kézipoggyásszal\n3 éjszaka szállásköltsége: 267 EUR/egyágyas szoba/ 3 éj\, reggelivel\ntranszfer: 30.000 Ft/fő\nbelépőjegy a vásárra: 62 EUR/2nap\nbelépőjegy a wolfsburgi Volkswagen gyárba: 13 EUR/fő \nJelentkezési határidő\n2019. február 20. \nElőzetes program \nA jelentkezéshez az alábbiakban felsorolt két dokumentumot kitöltve\, 2019. február 20-ig a beres.laszlo@mkik.hu e-mail címre várjuk: \njelentkezési lap\,\nangol nyelvű cégprofil.\nA jelentkezést csak a két melléklet együttes megküldésével fogadjuk el. \n  \nAz üzleti delegáció minimum 15 fő érdeklődése esetén valósul meg\, ezért kérjük\, hogy foglalásukat csak visszajelzésünket követően véglegesítsék. \n  \nKapcsolattartó: Béres László\, e-mail: beres.laszlo@mkik.hu\, tel: (1) 474 5177
URL:https://pbkik.hu/esemeny/uzleti-delegacio-a-hannover-messe-kiallitasra/
LOCATION:Hannover\, Németország
END:VEVENT
BEGIN:VEVENT
DTSTART;VALUE=DATE:20190401
DTEND;VALUE=DATE:20190403
DTSTAMP:20260420T012433
CREATED:20190114T082351Z
LAST-MODIFIED:20190410T132159Z
UID:10001607-1554076800-1554249599@pbkik.hu
SUMMARY:ENSZ-EU közbeszerzési fórum New Yorkban
DESCRIPTION:Az EU-ENSZ Közbeszerzési Szemináriumot a New York-i Európai Közbeszerzési Fórum (EUPF) non-profit szervezet 2019-ben 16. alkalommal rendezi meg április 1-jén és 2-án New Yorkban. A program célja\, hogy az ENSZ beszállítóvá válni kívánó cégek információt kapjanak a pályázati kiírásokról\, tárgyaljanak az ENSZ szakosított szerveinek közbeszerzési illetékeseivel\, meghallgathassák beszállítói igényeiket\, valamint találkozhassanak olyan vállalatokkal\, amelyek már rendelkeznek ENSZ beszállítói tapasztalattal. Az eseményt megelőzően webinarok segítik a jelentkezni kívánó vállalatok felkészülését. \n  \nWebkonferenciák témái és időpontjai \n  \nAz EUPF konferencián való részvételre történő felkészülés elősegítése érdekében az EUPF három\, térítés nélkül elérhető on-line webkonferenciát http://eupf.org/ szervez\, melyre az érdeklődő vállalatok képviselői szabadon bekapcsolódhatnak. Ezek a következők: \n  \n\njanuár 23. 9:00 (EST) Az ENSZ közbeszerzési piac áttekintése\n\n (regisztrálni január 14-től lehet az EUPF weboldalán) \n\na főbb közbeszerzési szervezetek\nközbeszerzési eljárások\nspecifikus termékek\, szolgáltatások\, melyeket az ENSZ keres\n\n  \n\nfebruár 6. 9:00 (EST) Hogyan kössünk üzletet az ENSZ-szel: beszállítói regisztráció\n\n(regisztrálni január 14-től lehet az EUPF weboldalán) \n\naz ENSZ szervezetek által használt egységesített beszállítói adatbázisba történő regisztrációs folyamat (UNGM)\nA regisztrációs folyamat áttekintése\, a cégnév megadása és egyéb kritériumok\n\n  \n\nfebruár 20. 9:00 (EST) Hogyan kössünk üzletet az ENSZ-szel: a pályázás folyamata\n(regisztrálni január 14-től lehet az EUPF weboldalán)\n\n\nAz ENSZ általi követelmények\nA követelmények típusai: helyi/nemzetközi és RFQ/ITB/RFP\nHogyan találja meg az ENSZ a vállalatokat\nHogyan tudják a vállalatok kifejezni érdeklődésüket egy felhívás iránt\nPályázat kiírása és értékelése az ENSZ által\n\n  \nA konferencia részletei \n  \nHelyszín:                     Bohemian National Hall\, 321 East\, 73rd street\, New York\, NY \nIdőpont:                      2019. április 1-2. \nRegisztráció:               2019. január 14-től az esemény honlapján \nHonlap:                       http://eupf.org/ \nRészvételi díj:             975\,0 USD – ’early bird’: 850\,0 USD január 31-ig. \nRészletes program:    a csatolt brosúrában \n  \nAz idei évben az alábbi iparágakból várnak résztvevő vállalatokat \n  \n\nIT\, CyberSecurity\, Smart Peacekeeping\nHulladékgazdálkodás és energia előállítás (Environmental Management)\nVíztisztítás\, víz- és szennyvízkezelés\nLogisztika és szállítmányozás\nÉpítés és mérnöki tevékenység\n\n  \nAz eseményen résztvevő szakosított ENSZ szervezetek listája \n\nUNDP\nUN/PD\nUNOPS\nUN Global Compact\nUNICEF\nWorld Bank\n\n  \n  \nAz EUPF–ről és az ENSZ pályázatokról általában \n  \nAz EUPF http://eupf.org/ több európai ország New York-i képviselete és konzulátusa által közösen működtetett szervezet\, melynek tagságát a gazdaságfejlesztésért felelős diplomaták adják. 2016-tól Czakó Judit New York-i KGA is tagja az EUPF-nek. A szervezet célja\, hogy indirekt módon európai vállalatokat segítsen hozzá ENSZ közbeszerzési pályázatok elnyeréséhez\, melyek éves szinten 18 milliárd dolláros üzleti lehetőséget reprezentálnak. \n  \nÁltalánosságban elmondható\, hogy az ENSZ által elismert terjedelmes és sok papírmunkát igénylő elő-kvalifikációs programokat követően a sikeres pályázat általában hosszú távú (legalább 2-3 év) és stabil megrendeléseket eredményez a beszállítóvá vált cégek számára. Ezen túl később a kvalifikált ENSZ beszállítók jó eséllyel válnak további szervezetek\, például NGO-k beszállítóivá is. Többször hangsúlyozták a pártatlanság\, versenysemlegesség\, magas és testreszabott minőségi kritériumokat\, mint alapvető elvárást a pályázók felé.
URL:https://pbkik.hu/esemeny/ensz-eu-kozbeszerzesi-forum-new-yorkban/
LOCATION:Bohemian National Hall\, 321 East\, 73rd street\, New York\, Egyesült Államok
END:VEVENT
BEGIN:VEVENT
DTSTART;TZID=Europe/Helsinki:20190401T080000
DTEND;TZID=Europe/Helsinki:20190405T170000
DTSTAMP:20260420T012433
CREATED:20181121T134139Z
LAST-MODIFIED:20190410T132346Z
UID:10001598-1554105600-1554483600@pbkik.hu
SUMMARY:HANNOVER MESSE 2019 "Technology & Business Cooperation Days"
DESCRIPTION:2019-ben is megrendezésre kerül a világ vezető ipari kiállítása; a Hannover Messe\, melynek keretében az Enterprise Europe Network nemzetközi üzletember találkozót szervez. \n \n  \nA Hannover Messe központi témája 2019-ben az ember és a gépek közötti digitális hálózatépítés a mesterséges intelligencia korában\, lehetőséget ad a különböző iparági innovációk megismerésére\, kipróbálására több ezer kiállító jóvoltából a  gépi és virtuális tanulás\, a mesterséges intelligencia\, az ipari informatikai platformok\, a robotika termelésben és logisztikában való alkalmazásának témaköreiben. \nA hálózatosodás és digitalizáció kihagyhatatlan lépéseiről\, mint az okos megoldások integrációja a termelési folyamatokba\, az értékteremtő hálózatok kibővítése és az emberi-gépi együttműködés új formáiról a standokon\, fórumokon\, workshopokon és más szakmai programokon tudhatnak meg többet a résztvevők. \nAz Enterprise Europe Network szervezésében 15. alkalommal megrendezésre kerülő nemzetközi üzletember találkozón tavaly a több\, mint 30 országból érkezett 500 cég\, közel 700 képviselője folytatott tárgylást. \nA 2019-es üzletember találkozó honlapján megtekinthető az eddig 35 országból feltöltött 321 üzleti ajánlata. \n  \nAz üzletember találkozóra a regisztráció 2019. március 1-ig ingyenes. \nA szervezők az üzletember találkozó résztvevői számára ingyenes belépést biztosítanak a kiállítás területére a rendezvény idejére. \n  \nA kiutazás és szállás önköltséges\, és önállóan szervezendő. \nTovábbi információért keresse az Enterprise Europe Network pécsi irodáját: \ne-mail: eenpecs@pbkik.hu \n  \nIdőpont: 2019. április 1-5. \nHelyszín: Hanover Exhibition Ground – 30521 Hannover\, Németország \n  \nRegisztráció:  B2B 2019 Hannover Messe   \nHonlap Hannover Messe 2019
URL:https://pbkik.hu/esemeny/hannover-messe-2019-technology-business-cooperation-days/
LOCATION:Hanover Exhibition Ground\, Hannover\, 30521\, Németország
END:VEVENT
BEGIN:VEVENT
DTSTART;TZID=Europe/Helsinki:20190402T140000
DTEND;TZID=Europe/Helsinki:20190402T160000
DTSTAMP:20260420T012433
CREATED:20190321T113627Z
LAST-MODIFIED:20190410T132240Z
UID:10001572-1554213600-1554220800@pbkik.hu
SUMMARY:Portugália ― az üzleti lehetőségek kapuja
DESCRIPTION:Az esemény Portugália és a portugál nyelvű országok iránt érdeklődő vállalkozások számára nyújt tájékoztatást: \n\na portugál gazdasági és üzleti környezetről\,\na magyar-portugál kétoldalú gazdasági kapcsolatok alakulásáról és az együttműködési lehetőségekről\, valamint\ngazdasági kapcsolatainkról a portugál nyelvű országokról.\n\n  \nA tájékoztató előadást követően a résztvevő vállalkozásoknak lehetőségük lesz kérdéseket feltenni\, valamint rövid\, személyes konzultációt folytatni Horváthné Négyessy Katalin külgazdasági attaséval. \n  \nPROGRAM \n  \n\n\n\n13.30 – 14.00\nRegisztráció\n\n\n14.00 – 14.05\nKöszöntő \nMagyar Kereskedelmi és Iparkamara \n \n\n\n14.05 – 14.45\nGazdasági kapcsolataink és együttműködési lehetőségek Portugáliával\, valamint a portugál nyelvű országokkal   \nHorváthné Négyessy Katalin\, külgazdasági attasé\, Lisszabon  ­ \n \n\n\n14.45 – 15.00\nKérdések és válaszok \n \n\n\n15.00 – 16.00\nKonzultációs lehetőség Horváthné Négyessy Katalin külgazdasági attaséval   \n  \nNetworking kávészünet\n\n\n\nRészvétel feltételei \nJelentkezési határidő: 2019. március 27.\, szerda 12.00 óra  \nA férőhelyek száma korlátozott\, ezért a jelentkezéseket azok beérkezésének sorrendjében fogadjuk el. Egy vállalkozás képviseletében maximum 2 fő vehet részt. \nA részvétel ingyenes\, de előzetes online regisztrációhoz kötött. \nA 10 perces személyes konzultációra a rendezvény előtt\, a regisztráció alkalmával lesz lehetőség jelentkezni érkezési sorrendben.
URL:https://pbkik.hu/esemeny/portugalia-%e2%80%95-az-uzleti-lehetosegek-kapuja/
LOCATION:Magyar Kereskedelmi és Iparkamara székháza\, Pethényi köz 10.\, Budapest\, 1122\, Magyarország
END:VEVENT
END:VCALENDAR