BEGIN:VCALENDAR
VERSION:2.0
PRODID:-//Pécs-Baranyai Kereskedelmi és Iparkamara - ECPv6.15.20//NONSGML v1.0//EN
CALSCALE:GREGORIAN
METHOD:PUBLISH
X-ORIGINAL-URL:https://pbkik.hu
X-WR-CALDESC:Események Pécs-Baranyai Kereskedelmi és Iparkamara
REFRESH-INTERVAL;VALUE=DURATION:PT1H
X-Robots-Tag:noindex
X-PUBLISHED-TTL:PT1H
BEGIN:VTIMEZONE
TZID:Europe/Helsinki
BEGIN:DAYLIGHT
TZOFFSETFROM:+0200
TZOFFSETTO:+0300
TZNAME:EEST
DTSTART:20180325T010000
END:DAYLIGHT
BEGIN:STANDARD
TZOFFSETFROM:+0300
TZOFFSETTO:+0200
TZNAME:EET
DTSTART:20181028T010000
END:STANDARD
BEGIN:DAYLIGHT
TZOFFSETFROM:+0200
TZOFFSETTO:+0300
TZNAME:EEST
DTSTART:20190331T010000
END:DAYLIGHT
BEGIN:STANDARD
TZOFFSETFROM:+0300
TZOFFSETTO:+0200
TZNAME:EET
DTSTART:20191027T010000
END:STANDARD
BEGIN:DAYLIGHT
TZOFFSETFROM:+0200
TZOFFSETTO:+0300
TZNAME:EEST
DTSTART:20200329T010000
END:DAYLIGHT
BEGIN:STANDARD
TZOFFSETFROM:+0300
TZOFFSETTO:+0200
TZNAME:EET
DTSTART:20201025T010000
END:STANDARD
END:VTIMEZONE
BEGIN:VEVENT
DTSTART;TZID=Europe/Helsinki:20190218T080000
DTEND;TZID=Europe/Helsinki:20190411T140000
DTSTAMP:20260419T151119
CREATED:20190214T090653Z
LAST-MODIFIED:20190214T090653Z
UID:10001554-1550476800-1554991200@pbkik.hu
SUMMARY:AutóMánia - járműtechnikai szakmaismereti verseny
DESCRIPTION:A 3 fordulós pályaválasztási verseny lehetőséget ad az autóipari\, járműtechnikai szakmákkal való ismerkedésre. Azoknak a tanulóknak ajánljuk\, akik még bizonytalanok a pályaválasztásban és azoknak\, akik érdeklődnek az autóipar és a járműtechnika iránt. (Nem szükséges hozzá szakmai ismeret!)ELSŐ FORDULÓ 2019. február 18. és március 6. között \nA verseny első fordulójában egy szakmaismereti kérdőív online kitöltése a feladat. Ez egyben a versenyre jelentkezés is. A kérdőív\, valamint az adatlap a www.palyavalasztasbaranya.hu weboldalon érhető el 2019. február 18-tól. Az 1. forduló és a jelentkezés 2019. március 6-án 12.00-kor zárul. Eredményhirdetés 2019. március 6-án 16.00-ig. \nMÁSODIK FORDULÓ – 2019. március 11. és március 26. között \nA kérdőívet helyesen megoldó csapatok a második fordulóban március 11. és március 26. között előre egyeztetett időpontokban és helyszíneken üzemlátogatásokon vesznek részt. Minden helyszínen bepillanthatnak az gépjárműiparhoz kapcsolódó üzemek\, vállalkozások napi tevékenységébe\, megismerkedhetnek a szakmákkal\, az alapanyagokkal\, a munkafolyamatokkal\, megtekinthetik a javítóműhelyeket\, esetlegesen az autószalonokat. \nAz üzemlátogatásról egy megadott szempontsor alapján prezentációt kell készíteni. A prezentáció leadási határideje április 2. A zsűri döntését 2019. április 4.-én tesszük közzé. Idén 1-3 perces kisfilmet is lehet készíteni plusz pontokért! A film készítési szempontokat\, javaslatokat\, tippeket és a prezentációhoz szükséges szempontsorokat az üzemlátogatás előtt megkapja a csapat. \nDÖNTŐ – 2019. április 11. \nAz elbírálás során legjobbnak bizonyuló 10 csapat tagjai vehetnek részt a 2019. április 11-én Pécsett a Pécs-Baranyai Kereskedelmi és Iparkamarában tartandó döntőn\, ahol a játékos\, ügyességi feladatok megoldásához a céglátogatások során elsajátított ismeretek mellett a logikát\, a kézügyességet és a csapatmunkát is be kell vetni. A döntőn a II. fordulón beadott prezentációt 5 percben elő is kell adnia a csapatnak. \nA döntőbe jutott csapatok és segítő tanáraik a versenyt támogató cégektől értékes ajándékokat kapnak! Emellett a 10 csapat 2019. május 3-án a győri AUDI gyár megtekintésével egybekötött jutalom kiránduláson vehet részt!
URL:https://pbkik.hu/esemeny/automania-jarmutechnikai-szakmaismereti-verseny/
LOCATION:Pécsi Kereskedelmi Központ
GEO:46.081487;18.2347915
END:VEVENT
BEGIN:VEVENT
DTSTART;VALUE=DATE:20190409
DTEND;VALUE=DATE:20190414
DTSTAMP:20260419T151119
CREATED:20181204T131002Z
LAST-MODIFIED:20190410T132432Z
UID:10001602-1554768000-1555199999@pbkik.hu
SUMMARY:Mostari Nemzetközi Gazdasági Kiállítás és Vásár 2019
DESCRIPTION:A 22. Mostari nemzetközi Kiállítás és Vásár Bosznia-Hercegovina – és egyben a balkáni régió – egyik legrangosabb gazdasági eseménye. Szervezési- és programkoncepciója az országok üzleti\, gazdasági bemutatását célozza meg\, amely lehetőséget biztosít az intenzívebb két- és többoldalú gazdasági kapcsolatok kialakításához. A szervezők konferenciák\, kerekasztal-beszélgetések\, üzleti fórumok és a média nyilvánosságának biztosításával igyekeznek hozzájárulni a kiállítók kulturális\, gazdasági\, gasztronómiai és etnográfiai bemutatásához. \n \nA szervezők 30%-os kedvezményt biztosítanak az egyes országokból kollektívan jelentkező cégek számára. \n  \nA Gazdasági Vásár kiállítási programja: \n\nGépjárműipar\nÉpítőipar\nMezőgazdaság és élelmiszeripar\nFaipar\nKommunális berendezések\nElektronikai- és vegyipar\nEgészségügyi felszerelések és kozmetika\nTelekommunikáció és technológia\nPénzügy és biztosítások\nFémgyártás és feldolgozás\n\n  \nA Turisztikai Vásár kiállítási programja: \n\nTurisztikai egyesületek\nUtazási irodák\nBorászatok és vinotékák\nHotelek és motelek\nTurisztikai desztinációk\nÉttermek és vendéglátás\nVendéglátó szolgáltatások\nVárosok és megyék\nSport és turisztikai tartalmak\nHagyományos termékek\nKísérő iparágak\n\n  \nRészvételi felhívás \nJelentkezési lap \n  \nJelentkezési határidő: 2019. február 25.
URL:https://pbkik.hu/esemeny/mostari-nemzetkozi-gazdasagi-kiallitas-es-vasar-2019/
LOCATION:Mostar\, Bosznia-Hercegovina
END:VEVENT
BEGIN:VEVENT
DTSTART;TZID=Europe/Helsinki:20190409T130000
DTEND;TZID=Europe/Helsinki:20190409T170000
DTSTAMP:20260419T151119
CREATED:20190301T093801Z
LAST-MODIFIED:20190410T132437Z
UID:10001669-1554814800-1554829200@pbkik.hu
SUMMARY:Ügyfél-élmény\, ügyfél-bizalom: alakítsunk ki jól működő vevőszerző ügyfélszolgálatot!
DESCRIPTION:KamarAAkadémia képzési rendszere a megyében és a dél-dunántúli régióban működő KKV-k versenyképességének javítása\, valamint a működésük és fejlődésük támogatásához szükséges elméleti és gyakorlati tudás\, ismeretek\, naprakész információk biztosítása érdekében jött létre. A  Marketing építőkockák képzésére építve Czirják Tamás vállalkozófejlesztő segít abban\, hogyan képezzünk érdeklődőből vásárlót\, hogyan „szerezzünk” vevőt. \n \nA 21. század kétségtelenül az automatizálásról szól életünk szinte minden területén\, és mégis\, ha belegondolunk\, miért járunk rendszeresen egy megszokott helyre vagy járunk ugyanahhoz a fodrászhoz\, könnyen rájöhetünk\, hogy döntésünket sokszor az áraknál is erősebben befolyásolják a személyes benyomások. Lehet valami bármennyire is olcsó\, de döntési helyzetben a személyes\, emberi kapcsolat mégis erősebb vonzerő tud lenni\, míg annak hiánya akár örökre be is zárhatja egy bolt ajtaját. \nEgy emlékezetes ügyfél élmény alapozza meg és biztosítja azt a bizalmat\, amivel egy cég akár örökre magához kötheti vásárlóinak nagy részét\, még akkor is\, ha nem is ő a legolcsóbb az adott piacon. \nHogyan képezzünk látogatóból vásárlót\, vásárlóból visszatérő vásárlót\, visszatérő vásárlóból pedig akár áruházunk/szolgáltatásunk nagykövetét? \nEzekre a kérdésekre adjuk meg a választ a „Vevőszerző ügyfélszolgálat” képzésünkön. \nMely területeken érdemes ezt a szemléletet bevezetni? \n• Célpiac meghatározása – légy tisztában vevőid problémáival \n• Honlap/webáruház kialakítása – a látogatók könnyen találják meg a megfelelő információt\, ne kelljen keresgélniük \n• Kommunikációs csatornák – legyen kézenfekvő\, kinek mit és hogyan kommunikáljunk \n• Panaszkezelés\, utánkövetés – hisz az elégedett vevőből lesz a visszatérő vevő… \n• Társadalmi felelősségvállalás – vajon mi jut látogatóid eszébe a cégedről? \nA marketing rendszerbe ideálisan beépülő ügyfélszolgálat biztosítja azt a hajtóerőt\, ami a cég egészséges fejlődéséhez szükséges. \nNem számít\, hogy valaki kezdő vállalkozóként vagy régi motorosként vág bele: ha munkánkat a kezdetektől fogva egy tudatosan felépített rendszer segíti\, biztosak lehetünk abban\, hogy ezt a vevők is meghálálják majd és így arra is marad idő\, hogy kiélvezhessük munkánk gyümölcsét. \nA képzés több mint fele az elméletek gyakorlati alkalmazásának lehetőségeiről szól. Szeretnénk lehetővé tenni\, hogy segítségünkkel már ott feltérképezhesd azokat a lehetőségeket\, amik az üzletedben rejlenek és kidolgozhasd a hozzájuk vezető utat is. \nNe feledd\, nem a cégedben\, hanem a cégeden kell dolgoznod!\nAz előadó életfelfogásának fő rendezőelve a proaktivitás. Hisz a komplex ügyfél és vállalkozásbarát megvalósításokban. Számos vállalkozás hatékonyságát növelte tanácsaival az online marketing\, webáruházak és rendszerépítések területén. Részletesebb bemutatkozó a linkre kattintva érhető el: Czirják Tamás – előadó \n  \nElőzetes segédlet letöltése: http://www.csakcsinald.hu/ugyfelelmeny \nA képzés időpontja: 2019. április 9. \nA képzés időtartama: 13:00-16:30 4×45 perc \nA képzés helyszíne: Pécsi Kereskedelmi Központ – Kis Zsolnay terme – (Pécs\, Majorossy I. u. 36.) \nA képzés ingyenes\, de regisztrációhoz kötött\, a terem befogadó képessége miatt a jelentkezés korlátozott. \nJelentkezni a Jelentkezési lap online kitöltésével lehet. \nAmennyiben nem kap visszaigazolást a jelentkezést követő munkanapon\, az alábbi elérhetőségeken keresse kollégáinkat. \nGáncs Katalin 20/5544-771\, gancs@pbkik.hu\,http://A képzés adatvédelmi tájékoztatója \nPiacsek László 20/2646-668\, piacsek@pbkik.hu \nA rendezvény megfelelő létszám megléte esetén kerül megrendezésre. \nA képzés/tréning/workshop a „Munka ÉS Család – A nők munkaerő-piaci helyzetének javítása és Nő-Köz-Pont létrehozása Pécsett” című\, EFOP-1.2.9-17-2017-00082 számú pályázati projekt elemeként valósul meg. \n  \n  \n  \n  \n  \n                                    
URL:https://pbkik.hu/esemeny/ugyfel-elmeny-ugyfel-bizalom-alakitsunk-ki-jol-mukodo-vevoszerzo-ugyfelszolgalatot/
LOCATION:Pécsi Kereskedelmi Központ
CATEGORIES:Kamaraakadémia
GEO:46.081487;18.2347915
END:VEVENT
BEGIN:VEVENT
DTSTART;TZID=Europe/Helsinki:20190409T150000
DTEND;TZID=Europe/Helsinki:20190409T170000
DTSTAMP:20260419T151119
CREATED:20190325T123322Z
LAST-MODIFIED:20190410T132502Z
UID:10001692-1554822000-1554829200@pbkik.hu
SUMMARY:Hálózatok és vállalati szervezeti kultúra: Barabási nyomán
DESCRIPTION:A hálózattudománynak köszönhetően ma már tudjuk\, hogy vállalati szervezetek skálafüggetlen hálózatokként működnek. Ezért a hálózatokban való gondolkodás segíti a folyamatok átlátását és mintázatok felismerését\, segíti az innovációs folyamatok harmonizálását\, és növeli a hatékonyságot. \n\n \nAmikor cégekről beszélünk\, olyan organizmusokra gondolunk\, amelyet vezetőként magunk építettünk fel\, tettünk olyanná\, amilyennek most ismerjük. Ennek ellenére szervezet működése bizonyos törvényeknek vannak alávetve\, melyek nem gazdasági jellegűek\, és az élővilág minden szintjén felfedezhetők.\nA vállalti szervezetek szerves elemekből álló rendszerek. Energiát fogyasztanak\, építő és lebontó folyamatok működnek bennük és saját életciklussal bírnak. Reagálnak a környezetükből érkező ingerekre\, hatásokra és egy nagyobb ökoszisztéma részét képezik. \nA Humán klub áprilisi nyílt ülésén\, hálózatokban gondolkodva\, a következő kérdésekre kaphatnak választ Kutsera Róberttől a résztvevők:\nMitől hatékony egy gazdasági szervezet?\nMiért növeli a hatékonyságot a komplexitás?\nMiért érdemes társulni?\nMitől alakulnak ki és elkerülhetők-e a szervezeti krízisek?\nMiért játszik fontos szerepet a többi piaci szereplő saját sikereinkben?\nMitől és hogyan védjük cégünket?\nHogyan vezessünk be változásokat? \nA rendezvény időpontja: 2019. április 9. 15 óra \nHelyszíne:  Pécsi Kereskedelmi Központ (7625 Pécs\, Majorossy I. utca 36) \n  \nA részvétel ingyenes\, de regisztrációhoz kötött. \nThis form is currently closed for submissions.
URL:https://pbkik.hu/esemeny/halozatok-es-vallalati-szervezeti-kultura-barabasi-nyoman/
LOCATION:Pécsi Kereskedelmi Központ
ORGANIZER;CN="Hum%C3%A1n Klub":MAILTO:humanklub@pbkik.hu
GEO:46.081487;18.2347915
END:VEVENT
BEGIN:VEVENT
DTSTART;TZID=Europe/Helsinki:20190409T180000
DTEND;TZID=Europe/Helsinki:20190409T210000
DTSTAMP:20260419T151119
CREATED:20190402T104931Z
LAST-MODIFIED:20190410T132508Z
UID:10001710-1554832800-1554843600@pbkik.hu
SUMMARY:Nyitott Egyetem: régészet és építészet
DESCRIPTION:A Pécsi Tudományegyetem következő Nyitott Egyetem előadására a régészet és az építészet szerelmeseit várja április 9-én 18 órakor a Dóm Kőtárba. \nDr. Visy Zsolt: Örökségvédelem: erdélyi limes-kutatás\, Énlaka \nAz erdélyi limes-kutatás már 12 éve folyik Énlakán. Dr. Visy Zsolt előadásán megismerkedhetünk azokkal a régészeti\, történelmi és kulturális értékekkel\, melyet az évente végzett kutatások során fedeztek fel a 150 fős\, magyar lakosságú faluban. \nDr. Kondor Tamás: Énlaka épített öröksége: értékmentés és értékteremtés \nAz énlakai értékmentés és értékteremtés 2012 óta folyik\, a Pécsi Tudományegyetem építész hallgatóinak és doktoranduszainak köszönhetően. Kutatómunkájuk része a néprajzi örökség védelme mellett egy vidékfejlesztési program\, a térségben élő magyarok segítésének érdekében. Többek között ezzel ismerkedhetünk meg Dr. Kondor Tamás előadásában. \nhttps://www.youtube.com/watch?v=7mum-Dqfel0 \n  \nAz előadás időpontja: 2019. április 9. 18 óra \nHelyszín: Dóm Kőtár (Káptalan utca 8.) \ndóm
URL:https://pbkik.hu/esemeny/nyitott-egyetem-regeszet-es-epiteszet/
END:VEVENT
END:VCALENDAR