BEGIN:VCALENDAR
VERSION:2.0
PRODID:-//Pécs-Baranyai Kereskedelmi és Iparkamara - ECPv6.15.20//NONSGML v1.0//EN
CALSCALE:GREGORIAN
METHOD:PUBLISH
X-ORIGINAL-URL:https://pbkik.hu
X-WR-CALDESC:Események Pécs-Baranyai Kereskedelmi és Iparkamara
REFRESH-INTERVAL;VALUE=DURATION:PT1H
X-Robots-Tag:noindex
X-PUBLISHED-TTL:PT1H
BEGIN:VTIMEZONE
TZID:Europe/Helsinki
BEGIN:DAYLIGHT
TZOFFSETFROM:+0200
TZOFFSETTO:+0300
TZNAME:EEST
DTSTART:20180325T010000
END:DAYLIGHT
BEGIN:STANDARD
TZOFFSETFROM:+0300
TZOFFSETTO:+0200
TZNAME:EET
DTSTART:20181028T010000
END:STANDARD
BEGIN:DAYLIGHT
TZOFFSETFROM:+0200
TZOFFSETTO:+0300
TZNAME:EEST
DTSTART:20190331T010000
END:DAYLIGHT
BEGIN:STANDARD
TZOFFSETFROM:+0300
TZOFFSETTO:+0200
TZNAME:EET
DTSTART:20191027T010000
END:STANDARD
BEGIN:DAYLIGHT
TZOFFSETFROM:+0200
TZOFFSETTO:+0300
TZNAME:EEST
DTSTART:20200329T010000
END:DAYLIGHT
BEGIN:STANDARD
TZOFFSETFROM:+0300
TZOFFSETTO:+0200
TZNAME:EET
DTSTART:20201025T010000
END:STANDARD
END:VTIMEZONE
BEGIN:VEVENT
DTSTART;TZID=Europe/Helsinki:20190218T080000
DTEND;TZID=Europe/Helsinki:20190411T140000
DTSTAMP:20260420T012519
CREATED:20190214T090653Z
LAST-MODIFIED:20190214T090653Z
UID:10001554-1550476800-1554991200@pbkik.hu
SUMMARY:AutóMánia - járműtechnikai szakmaismereti verseny
DESCRIPTION:A 3 fordulós pályaválasztási verseny lehetőséget ad az autóipari\, járműtechnikai szakmákkal való ismerkedésre. Azoknak a tanulóknak ajánljuk\, akik még bizonytalanok a pályaválasztásban és azoknak\, akik érdeklődnek az autóipar és a járműtechnika iránt. (Nem szükséges hozzá szakmai ismeret!)ELSŐ FORDULÓ 2019. február 18. és március 6. között \nA verseny első fordulójában egy szakmaismereti kérdőív online kitöltése a feladat. Ez egyben a versenyre jelentkezés is. A kérdőív\, valamint az adatlap a www.palyavalasztasbaranya.hu weboldalon érhető el 2019. február 18-tól. Az 1. forduló és a jelentkezés 2019. március 6-án 12.00-kor zárul. Eredményhirdetés 2019. március 6-án 16.00-ig. \nMÁSODIK FORDULÓ – 2019. március 11. és március 26. között \nA kérdőívet helyesen megoldó csapatok a második fordulóban március 11. és március 26. között előre egyeztetett időpontokban és helyszíneken üzemlátogatásokon vesznek részt. Minden helyszínen bepillanthatnak az gépjárműiparhoz kapcsolódó üzemek\, vállalkozások napi tevékenységébe\, megismerkedhetnek a szakmákkal\, az alapanyagokkal\, a munkafolyamatokkal\, megtekinthetik a javítóműhelyeket\, esetlegesen az autószalonokat. \nAz üzemlátogatásról egy megadott szempontsor alapján prezentációt kell készíteni. A prezentáció leadási határideje április 2. A zsűri döntését 2019. április 4.-én tesszük közzé. Idén 1-3 perces kisfilmet is lehet készíteni plusz pontokért! A film készítési szempontokat\, javaslatokat\, tippeket és a prezentációhoz szükséges szempontsorokat az üzemlátogatás előtt megkapja a csapat. \nDÖNTŐ – 2019. április 11. \nAz elbírálás során legjobbnak bizonyuló 10 csapat tagjai vehetnek részt a 2019. április 11-én Pécsett a Pécs-Baranyai Kereskedelmi és Iparkamarában tartandó döntőn\, ahol a játékos\, ügyességi feladatok megoldásához a céglátogatások során elsajátított ismeretek mellett a logikát\, a kézügyességet és a csapatmunkát is be kell vetni. A döntőn a II. fordulón beadott prezentációt 5 percben elő is kell adnia a csapatnak. \nA döntőbe jutott csapatok és segítő tanáraik a versenyt támogató cégektől értékes ajándékokat kapnak! Emellett a 10 csapat 2019. május 3-án a győri AUDI gyár megtekintésével egybekötött jutalom kiránduláson vehet részt!
URL:https://pbkik.hu/esemeny/automania-jarmutechnikai-szakmaismereti-verseny/
LOCATION:Pécsi Kereskedelmi Központ
GEO:46.081487;18.2347915
END:VEVENT
BEGIN:VEVENT
DTSTART;VALUE=DATE:20190409
DTEND;VALUE=DATE:20190414
DTSTAMP:20260420T012519
CREATED:20181204T131002Z
LAST-MODIFIED:20190410T132432Z
UID:10001602-1554768000-1555199999@pbkik.hu
SUMMARY:Mostari Nemzetközi Gazdasági Kiállítás és Vásár 2019
DESCRIPTION:A 22. Mostari nemzetközi Kiállítás és Vásár Bosznia-Hercegovina – és egyben a balkáni régió – egyik legrangosabb gazdasági eseménye. Szervezési- és programkoncepciója az országok üzleti\, gazdasági bemutatását célozza meg\, amely lehetőséget biztosít az intenzívebb két- és többoldalú gazdasági kapcsolatok kialakításához. A szervezők konferenciák\, kerekasztal-beszélgetések\, üzleti fórumok és a média nyilvánosságának biztosításával igyekeznek hozzájárulni a kiállítók kulturális\, gazdasági\, gasztronómiai és etnográfiai bemutatásához. \n \nA szervezők 30%-os kedvezményt biztosítanak az egyes országokból kollektívan jelentkező cégek számára. \n  \nA Gazdasági Vásár kiállítási programja: \n\nGépjárműipar\nÉpítőipar\nMezőgazdaság és élelmiszeripar\nFaipar\nKommunális berendezések\nElektronikai- és vegyipar\nEgészségügyi felszerelések és kozmetika\nTelekommunikáció és technológia\nPénzügy és biztosítások\nFémgyártás és feldolgozás\n\n  \nA Turisztikai Vásár kiállítási programja: \n\nTurisztikai egyesületek\nUtazási irodák\nBorászatok és vinotékák\nHotelek és motelek\nTurisztikai desztinációk\nÉttermek és vendéglátás\nVendéglátó szolgáltatások\nVárosok és megyék\nSport és turisztikai tartalmak\nHagyományos termékek\nKísérő iparágak\n\n  \nRészvételi felhívás \nJelentkezési lap \n  \nJelentkezési határidő: 2019. február 25.
URL:https://pbkik.hu/esemeny/mostari-nemzetkozi-gazdasagi-kiallitas-es-vasar-2019/
LOCATION:Mostar\, Bosznia-Hercegovina
END:VEVENT
BEGIN:VEVENT
DTSTART;TZID=Europe/Helsinki:20190410T080000
DTEND;TZID=Europe/Helsinki:20190410T170000
DTSTAMP:20260420T012519
CREATED:20190228T162437Z
LAST-MODIFIED:20190410T132301Z
UID:10001659-1554883200-1554915600@pbkik.hu
SUMMARY:Alapfokú szerzői jogi tanfolyam
DESCRIPTION:A Szellemi Tulajdon Nemzeti Hivatala alapfokú szerzői jogi tanfolyamot indít. A kétnapos képzés dátumai: 2019. április 3. és 10. A tanfolyam végén a résztvevők szakvizsgát tesznek 2019. április 17-én. Az oktatások és a vizsga helyszíne: Szellemi Tulajdon Nemzeti Hivatala\, 1081 Budapest\, II. János Pál pápa tér 3. \nA szellemitulajdon-védelmi képesítésekről szóló 1/2015. (I. 22.) IM rendelet alapján szervezett tanfolyam bemutatja a szerzői jog alapjait\, részletesen tárgyalja a szerzők jogait és e jogok korlátait. A képzés kitér a szerzői művek felhasználása mellett a jogérvényesítésre\, bemutatja a nemzetközi és uniós jog vonatkozó szabályait. \nA képzés írásbeli vizsgával zárul és alapfokú szerzői jogi képesítést tanúsító bizonyítvány megszerzését teszi lehetővé. \nA tanfolyam díja 30.000 forint\, ami tartalmazza:\n• a 20 órás képzést\,\n• a vizsgadíjat és\n• a Bevezetés a szerzői jogba című jegyzetet. \nAmennyiben részt kíván venni a fent megjelölt időpontban induló képzésen\, kérjük részvételi szándékát legkésőbb 2019. március 14-ig jelezze az anna.szenczi(kukac)hipo.gov.hu e-mail címen az alábbi adatok megadásával: \nNév:\nLakcím:\nSzületési hely\, idő:\nAnyja neve:\nMunkáltató megnevezése (amennyiben a munkáltató téríti a képzés díját): \nA részvételi díjat a tanfolyam kezdetéig átutalással kell kiegyenlíteni a Magyar Államkincstárnál vezetett 10032000-01731842-00000000 számú számlára. \nA kérdésekkel kapcsolatban az SZTNH munkatársai rendelkezésre állnak a (061) 474 5548 telefonszámon\, vagy a fenti e-mail címen.
URL:https://pbkik.hu/esemeny/alapfoku-szerzoi-jogi-tanfolyam/2019-04-10/
LOCATION:Szellemi Tulajdon Nemzeti Hivatala\, II. János Pál pápa tér 3.\, Budapest\, 1081\, Magyarország
END:VEVENT
END:VCALENDAR