BEGIN:VCALENDAR
VERSION:2.0
PRODID:-//Pécs-Baranyai Kereskedelmi és Iparkamara - ECPv6.15.20//NONSGML v1.0//EN
CALSCALE:GREGORIAN
METHOD:PUBLISH
X-WR-CALNAME:Pécs-Baranyai Kereskedelmi és Iparkamara
X-ORIGINAL-URL:https://pbkik.hu
X-WR-CALDESC:Események Pécs-Baranyai Kereskedelmi és Iparkamara
REFRESH-INTERVAL;VALUE=DURATION:PT1H
X-Robots-Tag:noindex
X-PUBLISHED-TTL:PT1H
BEGIN:VTIMEZONE
TZID:Europe/Helsinki
BEGIN:DAYLIGHT
TZOFFSETFROM:+0200
TZOFFSETTO:+0300
TZNAME:EEST
DTSTART:20180325T010000
END:DAYLIGHT
BEGIN:STANDARD
TZOFFSETFROM:+0300
TZOFFSETTO:+0200
TZNAME:EET
DTSTART:20181028T010000
END:STANDARD
BEGIN:DAYLIGHT
TZOFFSETFROM:+0200
TZOFFSETTO:+0300
TZNAME:EEST
DTSTART:20190331T010000
END:DAYLIGHT
BEGIN:STANDARD
TZOFFSETFROM:+0300
TZOFFSETTO:+0200
TZNAME:EET
DTSTART:20191027T010000
END:STANDARD
BEGIN:DAYLIGHT
TZOFFSETFROM:+0200
TZOFFSETTO:+0300
TZNAME:EEST
DTSTART:20200329T010000
END:DAYLIGHT
BEGIN:STANDARD
TZOFFSETFROM:+0300
TZOFFSETTO:+0200
TZNAME:EET
DTSTART:20201025T010000
END:STANDARD
END:VTIMEZONE
BEGIN:VEVENT
DTSTART;VALUE=DATE:20190424
DTEND;VALUE=DATE:20190425
DTSTAMP:20260419T181826
CREATED:20190410T131725Z
LAST-MODIFIED:20190507T110409Z
UID:10001748-1556064000-1556150399@pbkik.hu
SUMMARY:InnoPécs 2019.
DESCRIPTION:Egy nap az innovatív pécsi vállalkozásokért – A rendezvény keretein belül InnoPécs International 2019. néven angol nyelvű üzleti konferencia lesz\, ahol a dél-dunántúli régió döntéshozói kulcsfontosságú kérdéseket vitatnak meg az IKT szektor jövőjéről. \n \n  \n \nA rendezvény célja\, hogy az innovációs megoldásokat\, ötleteket\, cégeket Pécsett egy helyre koncentrálja\, hogy megmutassa itt is vannak a jó ötletek és sikeres vállalkozások . \nA rendezvény programja nagy vonalakban: \n\nsikeres startupok előadásai\,\npécsi innovatív vállalkozások kiállítása – állásbörze\,\npécsi innovatív vállalkozások bemutatkozása\nnetworking.\n\nA részletes program a rendezvény honlapján található: \nProgram \nA kamara IT Bizottsága nyílt ülést tart az InnoPécs International alatt 14:50 és 15:20 között. \n  \nA rendezvény ingyenes. A látogatók regisztrációja a rendezvény helyszínén történik\, előzetes regisztráció nincs.   Az International programon történő részvétel viszont regisztrációhoz kötött: \nRegisztrálj itt\, az oldalon!
URL:https://pbkik.hu/esemeny/innopecs-2019/
LOCATION:PTE Műszaki és Informatikai Kar\, Boszorkány út 2.\, Pécs\, 7624\, Magyarország
END:VEVENT
BEGIN:VEVENT
DTSTART;VALUE=DATE:20190424
DTEND;VALUE=DATE:20190425
DTSTAMP:20260419T181826
CREATED:20190416T121557Z
LAST-MODIFIED:20190503T092525Z
UID:10001751-1556064000-1556150399@pbkik.hu
SUMMARY:Indul az ÉKE Roadshow
DESCRIPTION:A Magyar Építőanyag Kereskedelmi Egyesület (ÉKE) elnöksége 2019. április 24-én regionális szakmai napot szervez a Dél-dunántúli régió építőanyag kereskedelmi vállalkozásai számára. \n \nMiért érdemes ellátogatnia? \n\nElső kézből kap a kereskedelmi tevékenységét támogató információkat: a helyi és regionális építőipari és építési fejlesztésekről\, és egyes előkészítés alatti projektekről\, továbbá tervekről!\nÜzletvitelét támogató adózási\, ekáer és egyéb ellenőrzési információkhoz és tapasztalatokhoz juthat – közvetlenül a hatóságtól.\nKoncentrált módon kerülhet képbe az építőanyag-piac aktuális jellemzőiről és arról\, hogy mire számítanak a piacon és a szabályozásban a Magyar Építőanyag Kereskedelmi Egyesület tagjai.\nKözvetlen közelről ismerheti meg a gyártási folyamatokat az Austrotherm Kft. és a Murexin Kft. gyáraiban!\nMegismerheti a hazai építőanyag kereskedőket összefogó ÉKE kezdeményezéseit\, tevékenységét.\n\nMennyibe kerül? A részvétel az építőanyag kereskedelemmel foglalkozó vállalkozások számára díjmentes\, de előzetes regisztrációhoz kötött (a regisztrációs lap visszaküldésével). \nCím: Takler Kúria\, „Böllér Tanya” épület\, H-7100 Szekszárd\, 1799 Hrsz. Decsi-Szőlőhegy PL. 57.\, GPS koordináták: 46.281776\, 18.680823 \nA gyárlátogatás helyszínei: Austrotherm Kft. – 7100 Szekszárd\, Wopfing u. 3.\, Murexin Kft. – 7100 Szekszárd\, Ipari Park\, Wopfing u. 10. \nA rendezvény részletes programja és a jelentkezési lap az alábbi linkre kattintva érhető el: \nEKE_Roadshow_meghívo_Szekszard_20190424
URL:https://pbkik.hu/esemeny/indul-az-eke-roadshow/
LOCATION:Majorossy Imre utca 36.\, Pécs\, 7625\, Magyarország
END:VEVENT
BEGIN:VEVENT
DTSTART;VALUE=DATE:20190424
DTEND;VALUE=DATE:20190426
DTSTAMP:20260419T181826
CREATED:20190205T111013Z
LAST-MODIFIED:20190503T092533Z
UID:10001644-1556064000-1556236799@pbkik.hu
SUMMARY:Körkörös Gazdaság - üzleti delegáció Mexikóban
DESCRIPTION:Az Európai Bizottság üzletember-delegációt szervez európai uniós cégeknek a körkörös gazdaság témakörében Mexikóba. \n \n  \nA Circular Economy Missions egy sor magas szintű politikai és üzleti találkozót tartanak harmadik országokban a fenntartható és erőforrás-hatékony stratégiák kommunikálására és előmozdítására. \n\nA missziókat az Európai Bizottság Környezetvédelmi Főigazgatósága szervezi\, és arra törekszik\, hogy hidakat építsen az európai intézmények\, a nem kormányzati szervezetek és a vállalatok\, valamint az érintett harmadik országok körkörös gazdaságra való áttérés lehetőségeiben érdekeltjei között.\n\n\nEzek a kezdeményezések potenciálisan erősítik a meglévő és új kapcsolatokat az EU és a harmadik országok intézményei között a környezetvédelem területén\, valamint támogatják a zöld európai vállalkozások – különösen a kkv-k – tevékenységét külföldön történő tevékenységük bővítése érdekében.\n\n\nIdőpont: 2019. április 24-25.\nHelyszín: Mexikó\nJelentkezési határidő: 2019. március 1.\n\n\nTovábbi információ a Circular Economy Missions hivatalos honlapján.
URL:https://pbkik.hu/esemeny/korkoros-gazdasag-uzleti-delegacio-mexikoban/
LOCATION:Mexikó\, Mexikó
END:VEVENT
BEGIN:VEVENT
DTSTART;TZID=Europe/Helsinki:20190424T093000
DTEND;TZID=Europe/Helsinki:20190424T133000
DTSTAMP:20260419T181826
CREATED:20190417T091509Z
LAST-MODIFIED:20190503T092547Z
UID:10001758-1556098200-1556112600@pbkik.hu
SUMMARY:Magyar-afrikai fórum és konzultáció
DESCRIPTION:A Magyar Kereskedelmi és Iparkamara Afrika Tagozata szervezésében kerül megrendezésre a „Magyar-afrikai fórum és konzultáció\, fókuszban a közép-afrikai országok” című rendezvény. \n \nAz esemény keretében a Kongói Demokratikus Köztársaság  Nagykövetségének ügyvivője\, illetve az Elefántcsontparti Nagykövetség kereskedelmi tanácsosa ad tájékoztatást a két ország gazdasági és üzleti környezetéről\, a londoni székhelyű CFEII (Consulting for Enterprise and Investments Initiatives) szakértője pedig előadásában gyakorlati információkkal látja el a hallgatóságot a közép-afrikai térség piacra lépési lehetőségeiről és a futó projektekről. \n  \nAz esemény második felében a résztvevőknek lehetőségük lesz kérdések feltételére és rövid\, személyes konzultációra is a CFRII képviselőivel. \n  \nA rendezvény és a konzultáció nyelve az angol és a francia. A francia nyelvű előadásokhoz konszekutív tolmácsolást biztosított. \n  \nA konzultációra kizárólag a rendezvény előtt\, a regisztrációnál lehet majd jelentkezni. A férőhelyek száma korlátozott\, a jelentkezéseket érkezési sorrendben kerülnek elfogadásra. \n  \nPROGRAM \n  \n\n\n\n09.30 – 10.00\nRegisztráció\n\n\n10.00 – 10.15\nKöszöntők \nKiss Zoltán\, elnök\, MKIK Afrika Tagozat \nHorváth Márk\, főosztályvezető\, Afrika Főosztály\, Külgazdasági és Külügyminisztérium (felkérés alatt) \n \n\n\n10.15 – 10.45 \n  \n  \n  \n  \n  \n10.45 – 11.15 \n  \n  \n  \n11.15 – 11.45 \n  \n  \n  \n  \n11.45 – 12.00\nÜzleti lehetőségek a Kongói Demokratikus Köztársaságban \nDr. Paul-Emile Tshinga Ahuka\, ügyvivő\, Kongói Demokratikus Köztársaság Nagykövetsége\, Belgrád (konszekutív tolmácsolással) \n  \nElefántcsontpart üzleti környezetének bemutatása \nAlphonse Gon\, kereskedelmi tanácsos\, Elefántcsontpart Nagykövetsége\, Bécs (konszekutív tolmácsolással) \n  \nKözép-afrikai piacra lépési lehetőségek és projektek magyar vállalkozásoknak \nJocelyne Ngassa\, menedzser\, CFEII (Consulting for enterprise and investments Initiatives\, London) (angol nyelven tolmácsolás nélkül) \n  \nElefántcsontparti üzleti tapasztalatok magyar szemmel \nBalla László\, általános vezérigazgató-helyettes\, ANY Biztonsági Nyomda Nyrt. \n \n\n\n12.00 – 12.10\nKérdések és válaszok \n \n\n\n12.10 –\nKonzultációs lehetőség a CFEEII vállalat képviselőivel (angol nyelven) \n  \nNetworking kávészünet\n\n\n\n  \nRészvétel feltételei: \nJelentkezési határidő: 2019. április 23.\, kedd 12:00 óra \nA férőhelyek száma korlátozott\, ezért a jelentkezéseket azok beérkezésének sorrendjében kerülnek elfogadásra. Egy vállalkozás képviseletében maximum 2 fő vehet részt az eseményen. \nA rendezvényen való részvétel ingyenes\, de előzetes online regisztrációhoz kötött. \nA 10 perces személyes konzultációra a rendezvény előtt\, a regisztráció alkalmával lesz lehetőség jelentkezni érkezési sorrendben.
URL:https://pbkik.hu/esemeny/magyar-afrikai-forum-es-konzultacio/
LOCATION:Magyar Kereskedelmi és Iparkamara székháza\, Pethényi köz 10.\, Budapest\, 1122\, Magyarország
ATTACH;FMTTYPE=image/jpeg:https://pbkik.hu/wp-content/uploads/2019/03/mkik_logo_1.jpg
END:VEVENT
BEGIN:VEVENT
DTSTART;TZID=Europe/Helsinki:20190424T110000
DTEND;TZID=Europe/Helsinki:20190424T143000
DTSTAMP:20260419T181826
CREATED:20190405T073418Z
LAST-MODIFIED:20190503T092553Z
UID:10001584-1556103600-1556116200@pbkik.hu
SUMMARY:Üzleti lehetőségek Kanadában
DESCRIPTION:A Budapesti Kereskedelmi és Iparkamara Nemzetközi és Külgazdasági Kollégiuma és Kereskedelmi Tagozata közös megrendezésében kerül sor az Üzleti lehetőségek Kanadában című eseményre\, amelyen az Európai Unió és Kanada közötti kereskedelmi és befektetési megállapodás (CETA) aktuális helyzetéről is tájékozódhatnak. \n \nIdőpont:                               2019. április 24. 11 óra\, regisztráció 10\,30-tól \nHelyszín:                              BKIK székház (1016 Budapest\, Krisztina krt. 99.)\, VI. emelet Baross terem \n  \nProgram: \n  \nModerátor: Sarkadi Károly\, a BKIK Nemzetközi és Külgazdasági Kollégiumának tanácsosa \n  \n\n\n\n11.00-11.15\nMegnyitó – Rév András\, a Budapesti kereskedelmi és Iparkamara Nemzetközi és Külgazdasági Kollégiumának elnöke\n\n\n11.15-11.30\nKöszöntő – Őexcellenciája Isabelle Poupart\, nagykövet asszony\, Kanada Magyarországi Nagykövetsége\n\n\n11.30-12.00\nA CETA értékelése és a várható export lehetőségek – HEPA\n\n\n12.00-12.30\nKanada-EU közötti átfogó gazdasági és kereskedelmi megállapodás: Mit jelent ez Kanada és mit Magyarország számára?– Martin Barratt\, kereskedelmi főtanácsos\, a Kereskedelmi Osztály vezetője\, Kanadai Nagykövetség\n\n\n12.30-13.00\nNemzetközi kereskedelem és magyar üzleti lehetőségek – Lédig Zoltán\, főosztályvezető Külgazdasági és Külügyminisztérium (felkérés alatt)\n\n\n13.00-tól\nKérdések és válaszok\n\n\n\n  \nA rendezvény nyelve magyar és az angol. \n  \nA rendezvényen való részvétel térítésmentes\, de előzetes regisztrációhoz kötött\, ezért részvételi szándékát feltétlenül jelezze a BKIK regisztrációs felületén.
URL:https://pbkik.hu/esemeny/uzleti-lehetosegek-kanadaban/
LOCATION:Budapesti Kereskedelmi és Iparkamara\, Krisztina krt. 99.\, Budapest\, 1016\, Magyarország
END:VEVENT
END:VCALENDAR