BEGIN:VCALENDAR
VERSION:2.0
PRODID:-//Pécs-Baranyai Kereskedelmi és Iparkamara - ECPv6.15.20//NONSGML v1.0//EN
CALSCALE:GREGORIAN
METHOD:PUBLISH
X-ORIGINAL-URL:https://pbkik.hu
X-WR-CALDESC:Események Pécs-Baranyai Kereskedelmi és Iparkamara
REFRESH-INTERVAL;VALUE=DURATION:PT1H
X-Robots-Tag:noindex
X-PUBLISHED-TTL:PT1H
BEGIN:VTIMEZONE
TZID:Europe/Helsinki
BEGIN:DAYLIGHT
TZOFFSETFROM:+0200
TZOFFSETTO:+0300
TZNAME:EEST
DTSTART:20180325T010000
END:DAYLIGHT
BEGIN:STANDARD
TZOFFSETFROM:+0300
TZOFFSETTO:+0200
TZNAME:EET
DTSTART:20181028T010000
END:STANDARD
BEGIN:DAYLIGHT
TZOFFSETFROM:+0200
TZOFFSETTO:+0300
TZNAME:EEST
DTSTART:20190331T010000
END:DAYLIGHT
BEGIN:STANDARD
TZOFFSETFROM:+0300
TZOFFSETTO:+0200
TZNAME:EET
DTSTART:20191027T010000
END:STANDARD
BEGIN:DAYLIGHT
TZOFFSETFROM:+0200
TZOFFSETTO:+0300
TZNAME:EEST
DTSTART:20200329T010000
END:DAYLIGHT
BEGIN:STANDARD
TZOFFSETFROM:+0300
TZOFFSETTO:+0200
TZNAME:EET
DTSTART:20201025T010000
END:STANDARD
END:VTIMEZONE
BEGIN:VEVENT
DTSTART;VALUE=DATE:20190424
DTEND;VALUE=DATE:20190426
DTSTAMP:20260419T151130
CREATED:20190205T111013Z
LAST-MODIFIED:20190503T092533Z
UID:10001644-1556064000-1556236799@pbkik.hu
SUMMARY:Körkörös Gazdaság - üzleti delegáció Mexikóban
DESCRIPTION:Az Európai Bizottság üzletember-delegációt szervez európai uniós cégeknek a körkörös gazdaság témakörében Mexikóba. \n \n  \nA Circular Economy Missions egy sor magas szintű politikai és üzleti találkozót tartanak harmadik országokban a fenntartható és erőforrás-hatékony stratégiák kommunikálására és előmozdítására. \n\nA missziókat az Európai Bizottság Környezetvédelmi Főigazgatósága szervezi\, és arra törekszik\, hogy hidakat építsen az európai intézmények\, a nem kormányzati szervezetek és a vállalatok\, valamint az érintett harmadik országok körkörös gazdaságra való áttérés lehetőségeiben érdekeltjei között.\n\n\nEzek a kezdeményezések potenciálisan erősítik a meglévő és új kapcsolatokat az EU és a harmadik országok intézményei között a környezetvédelem területén\, valamint támogatják a zöld európai vállalkozások – különösen a kkv-k – tevékenységét külföldön történő tevékenységük bővítése érdekében.\n\n\nIdőpont: 2019. április 24-25.\nHelyszín: Mexikó\nJelentkezési határidő: 2019. március 1.\n\n\nTovábbi információ a Circular Economy Missions hivatalos honlapján.
URL:https://pbkik.hu/esemeny/korkoros-gazdasag-uzleti-delegacio-mexikoban/
LOCATION:Mexikó\, Mexikó
END:VEVENT
BEGIN:VEVENT
DTSTART;VALUE=DATE:20190425
DTEND;VALUE=DATE:20190427
DTSTAMP:20260419T151130
CREATED:20190417T075349Z
LAST-MODIFIED:20190919T131934Z
UID:10001752-1556150400-1556323199@pbkik.hu
SUMMARY:XIII. Pécsi Pénzügyi Napok
DESCRIPTION:A kétnapos rendezvényen a magyar monetáris és fiskális rendszer aktuális elméleti és gyakorlati kérdéseit vizsgáljuk a változó gazdasági feltételrendszerhez való alkalmazkodóképesség – és készség aspektusából.a \n \n  \nA rendezvényre a Pécs-Baranyai Kereskedelmi és Iparkamara\, a Pécsi Tudományegyetem Közgazdaságtudományi Kara és a Magyar Okleveles Adószakértők Egyesülete\, valamint további szakmai szervezetek \, a Magyar Könyvvizsgálói Kamara\, a Magyar Közgazdasági Társaság\, a PENTA UNIÓ Zrt. és a Penta Akadémia Alapítvány szakmai támogatásával kerül sor. \nA plenáris ülésen a gazdaságpolitikai környezet várható alakulását prominens előadók vázolják fel. Az elméleti kérdésekkel foglalkozó két szekció a legújabb hazai pénzügyi kutatási eredmények bemutatására vállalkozik a meghívott egyetemek\, kutatóhelyek és a Magyar Okleveles Adószakértők Egyesülete fiatal képviselőinek\, kutatóinak részvételével. A sokarcú ingatlan kérdéskörét bemutató szekció a jog\, a számvitel\, az adózás\, a finanszírozás\, a biztosítás és persze az adótervezés oldaláról veszi górcső alá a témakört. A harmadik napon egy kihelyezett szekcióban az ingatlan beruházások gyakorlati tapasztalatait tárgyaljuk kerekasztal beszélgetés formájában egy megvalósult projekthez kapcsolódóan. Külön – kreditpontot biztosító – szekció foglalkozik a 2019. évi adóváltozások (art\, szja) megismertetésével. \nSzeretnénk\, ha a rendezvény a gyakorlati szakemberek igényeinek kiszolgálása mellett a magyar pénzügyi kutatások megismerésének\, összehangolásának színterévé válna. \nA szakmai munkát követően a csütörtök estét (hagyományosan) egy zenés-táncos „adófelejtő bállal” zárjuk a Tettyén. A konferenciát követő kísérő program keretében lehetőség nyílik fakultatív kikapcsolódásra a négy csillagos bikali Puchner Kastélyszállóban (2019. április 26-28.). \nHelyszín:                                Pécsi Tudományegyetem Közgazdaságtudományi Kar Aula (7622 Pécs\, Rákóczi út 80.) \nIdőpont:                                  2019. április 25-26. \nA XIII. Pécsi Pénzügyi Napok kiemelt célja\, hogy a pénzügyi-számviteli szakembereknek\, vállalkozások vezetőinek „házhoz hozza” a szaktudást\, információt\, kapcsolatrendszert\, kommunikációs- és érdekérvényesítési lehetőséget. \nA szakmai programon való részvétel\, a fogadócsomag\, az előadások közötti frissítő és kávé a Pécs-Baranyai Kereskedelmi és Iparkamara önkéntes tagjai számára díjmentes. \nA részletes programért és jelentkezéshez kattintson ide. \nJelentkezésnél legyen szíves a megjegyzés rovatba feltüntetni a következőket: PBKIK
URL:https://pbkik.hu/esemeny/xiii-pecsi-penzugyi-napok/
LOCATION:Pécsi Tudományegyetem Közgazdaságtudományi Kar\, Rákóczi út 80.\, Pécs\, Baranya\, 7622\, Magyarország
END:VEVENT
BEGIN:VEVENT
DTSTART;TZID=Europe/Helsinki:20190425T110000
DTEND;TZID=Europe/Helsinki:20190425T130000
DTSTAMP:20260419T151130
CREATED:20190319T082140Z
LAST-MODIFIED:20190503T092608Z
UID:10001571-1556190000-1556197200@pbkik.hu
SUMMARY:Hogyan legyünk sikeresek magyarként az olasz piacon?
DESCRIPTION:Információk és konzultáció az olasz üzleti környezet legfontosabb tudnivalóiról és segítség a piacra jutáshoz. \n \nProgram \n\n\n\n11.00-11.30\nAz olasz-magyar üzleti kapcsolatokról gyakorló és leendő magyar exportőröknek \n·         kereskedelmi sajátosságok \n·         tapasztalatok \n·         praktikus tanácsok \nElőadó: Szilágyi Melinda Magyarország külgazdasági attaséja\, Milánó\n\n\n11.30-12.00\nMinden a piaci siker felé vezető útról Olaszországban: az exportőrtől a disztribútoron át a kereskedelmi ügynök hálózatig \n·         Segítség a piacra jutáshoz \nElőadó: Enrico Seminara\, az Olasz Országos Kereskedelmi Hálózat elnöke\n\n\n12.00-13.00\nKonzultáció\n\n\n\n  \n \nIdőpont: 2019. április 25. 11.00-13.00 \nHelyszín: SKIK székház\, 7400 Kaposvár\, Anna utca 6. II. emeletei előadóterem \n  \n  \n  \nA részvétel térítésmentes\, de előzetes regisztrációhoz kötött. \n  \nInformáció: \nKovács Andrea \n82/501-022 \nakovacs@skik.hu \n  \nRegisztráció a rendezvényre. \n 
URL:https://pbkik.hu/esemeny/hogyan-legyunk-sikeresek-magyarkent-az-olasz-piacon/
LOCATION:SKIK székház\, Anna utca 6.\, Kaposvár\, 7400\, Magyarország
ORGANIZER;CN="Somogyi Kereskedelmi %C3%A9s Iparkamara":MAILTO:akovacs@skik.hu
END:VEVENT
BEGIN:VEVENT
DTSTART;TZID=Europe/Helsinki:20190425T110034
DTEND;TZID=Europe/Helsinki:20190425T110034
DTSTAMP:20260419T151130
CREATED:20190410T072345Z
LAST-MODIFIED:20190410T132106Z
UID:10001717-1556190034-1556190034@pbkik.hu
SUMMARY:Taiwani B2B üzletember-találkozó
DESCRIPTION:A Tajvani Kereskedelmi Külképviselet üzletember-találkozót tart Budapesten. \n \n2019 április 29.-én 12 cégből álló tajvani delegáció érkezik Budapestre kereskedelmi kapcsolatok kiépítése céljából. \nA tajvani üzleti delegáció bemutatkozó anyaga \nHelyszín: Vigadó\, 1051 Budapest Vigadó tér 2. \nDátum\, időpont: 2019.04.29. 9.00-17.00 óráig \nA rendezvényünk díjmentes\, de regisztrációhoz kötött\, tolmácsokat a helyszínen biztosítunk. A rendezvényre a cégekhez megbeszélési időponthoz e-mailben kell egyeztetni Füstös Nándorral fustos@taitra.hu . \n  \n 
URL:https://pbkik.hu/esemeny/taiwani-b2b-uzletember-talalkozo/
END:VEVENT
BEGIN:VEVENT
DTSTART;TZID=Europe/Helsinki:20190425T130000
DTEND;TZID=Europe/Helsinki:20190426T180000
DTSTAMP:20260419T151130
CREATED:20190321T142421Z
LAST-MODIFIED:20190415T054553Z
UID:10001573-1556197200-1556301600@pbkik.hu
SUMMARY:Tanulástechnika képzés
DESCRIPTION:Vannak időszakok egy egyetemi hallgató\, vagy bárki életében\, amikor egyszerűen nem megy a tanulás\, nem sikerül egy információ befogadása\, egy anyag\, tanulmány feldolgozása\, ismereteinek elsajátítása. Sok esetben ér el mindenkit a „ráérünk majd ekkor-\, vagy akkor tanulni\, foglalkozni vele” érzés. A tanulástechnika egyszerű és hatékony módszereivel elkerülhetők ezek az időről időre visszatérő nehézségek. \n \nA tréning célja: \nA résztvevők a meglévő tapasztalataikon\, ismereteiken és gyakorlatukon túl ismerjék meg a tanulással kapcsolatos elméleteket\, valamint a modern\, hatékony ismeretelsajátítási módszerek alapjait. \nA résztvevők számára bemutatni\, hogy minden tanulásnak számít\, ami megváltoztatja az attitűdjüket\, a gondolkodásukat\, vagy a magatartásukat\, hogy a megfelelő módszerekkel véghezvitt tanulás örömöt és sikerélményt szerezhet nekik és általa az életben könnyebben tájékozódhatnak\, magasabb minőségi fokon művelődhetnek\, hogy megértsék\, a folyamatos önművelés hozzásegítheti őket ahhoz\, hogy életük teljesebb legyen és általa reális\, megvalósítható célokat tűzhetnek ki maguk elé. \nA résztvevők számára bemutatni a hazai képzési és szakképzési rendszereket\, lehetőségeket és az élethosszig tartó tanulás fontosságát. \nKépzés célcsoportja: \n\nfelsőoktatásban résztvevő hallgatók\,\nközépiskolai tanulók\,\nálláskeresők\,\npályaorientációs és életpálya tanácsadási szolgáltatást igénylők\, valamint\na téma iránt érdeklődő felnőttek.\n\nAz egyéni\, páros és csoportos gyakorlatokon keresztül bemutatott ismeretek olyan témák és kérdések köré épülnek fel\, mint a: \n\nHogyan tanulhatunk?\nA tanulás folyamata\nTanulást támogató módszerek\, eszközök\, környezet\nA tanulás és a személyiség kapcsolata\nAz emlékezés\nAz egész életen át tartó tanulás és színterei\n\nKépzési idő: 12 óra\, két alkalom \nRészvételi díj: ingyenes \nA képzés az EFOP-3.5.1-16-2017-00003\, A duális képzés fejlesztése a Pécsi Tudományegyetemen projekt keretében kerül megrendezésre. \nA képzés elvégzésével megszerezhető dokumentum: tanúsítvány \nA képzés időpontja: 2019. április 25. és 26. 13.00-18.00 között \nHelyszín: Pécsi Kereskedelmi Központ \nJelentkezés: A csoport betelt. Esetlegesen felszabaduló helyről érdeklődjön telefonon: 20/5544771 \nA PBGSZ Nkft. az érdeklődő magánszemélyek\, vállalkozások és intézmények képviselői\, valamint a képzéseiben résztvevők számára továbbá az alábbi felnőttképzést kiegészítő tevékenységeket is nyújtja térítésmentesen: \nElőzetes tudásszintfelmérés\nKépzési szükségletek felmérése és képzési tanácsadás\nPályaorientációs tanácsadás \nA képzésekkel\, képzési programokkal\, valamint a kiegészítő szolgáltatásokkal kapcsolatban a PBGSZ Nkft. ügyfélszolgálati idejében (H-Cs: 08.30-15.00-ig\, P: 08.30-12.00-ig) az ügyfélszolgálattal megbízott munkatársak állnak az érdeklődők rendelkezésére. Elérhetőségeink: Pécsi Kereskedelmi Központ\, PBGSZ Nkft. 7625 Pécs\, Majorossy I. u. 36. \nPiacsek László\, 72/507-141\, piacsek@pbkik.hu\nGáncs Katalin 72/507-105 gancs@pbkik.hu \nA képzés nyilvántartásba vételi száma: E-001772/2018/D002 \nA PBGSZ Nkft. nyilvántartásba vételi száma: E-001772/2018
URL:https://pbkik.hu/esemeny/tanulastechnika-kepzes-2/
LOCATION:Pécsi Kereskedelmi Központ
GEO:46.081487;18.2347915
END:VEVENT
END:VCALENDAR