BEGIN:VCALENDAR
VERSION:2.0
PRODID:-//Pécs-Baranyai Kereskedelmi és Iparkamara - ECPv6.15.20//NONSGML v1.0//EN
CALSCALE:GREGORIAN
METHOD:PUBLISH
X-WR-CALNAME:Pécs-Baranyai Kereskedelmi és Iparkamara
X-ORIGINAL-URL:https://pbkik.hu
X-WR-CALDESC:Események Pécs-Baranyai Kereskedelmi és Iparkamara
REFRESH-INTERVAL;VALUE=DURATION:PT1H
X-Robots-Tag:noindex
X-PUBLISHED-TTL:PT1H
BEGIN:VTIMEZONE
TZID:Europe/Helsinki
BEGIN:DAYLIGHT
TZOFFSETFROM:+0200
TZOFFSETTO:+0300
TZNAME:EEST
DTSTART:20190331T010000
END:DAYLIGHT
BEGIN:STANDARD
TZOFFSETFROM:+0300
TZOFFSETTO:+0200
TZNAME:EET
DTSTART:20191027T010000
END:STANDARD
BEGIN:DAYLIGHT
TZOFFSETFROM:+0200
TZOFFSETTO:+0300
TZNAME:EEST
DTSTART:20200329T010000
END:DAYLIGHT
BEGIN:STANDARD
TZOFFSETFROM:+0300
TZOFFSETTO:+0200
TZNAME:EET
DTSTART:20201025T010000
END:STANDARD
BEGIN:DAYLIGHT
TZOFFSETFROM:+0200
TZOFFSETTO:+0300
TZNAME:EEST
DTSTART:20210328T010000
END:DAYLIGHT
BEGIN:STANDARD
TZOFFSETFROM:+0300
TZOFFSETTO:+0200
TZNAME:EET
DTSTART:20211031T010000
END:STANDARD
END:VTIMEZONE
BEGIN:VEVENT
DTSTART;TZID=Europe/Helsinki:20200213T093000
DTEND;TZID=Europe/Helsinki:20200213T120000
DTSTAMP:20260423T104431
CREATED:20200131T135526Z
LAST-MODIFIED:20200131T140339Z
UID:10002016-1581586200-1581595200@pbkik.hu
SUMMARY:Klímavédelmi pályázati és finanszírozási lehetőségek a Nyugat-Balkánon
DESCRIPTION:A rendezvény a hazai vállalkozások számára nyújt tájékoztatást: \n\na magyar stratégiai szerepvállalásról a nyugat-balkáni zöldgazdasági beruházások előmozdításában\,\na Nyugat-Balkáni Zöld Központ Nonprofit Kft. tevékenységéről és a most kiírásra kerülő pályázati lehetőségről\, valamint\na magyar cégek nyugat-balkáni törekvéseit elősegítő pénzügyi megoldásokról.\n\n \nAz előadásokat követően a résztvevőknek lehetőségük lesz kötetlen formában konzultálni a szakmai előadókkal. \n  \nProgramterv \n2020. február 13.\, csütörtök\, 10.00 óra \nModerátor: Galambos Attila\, az MKIK Nyugat-balkáni Tagozatának elnöke \n\n\n\n09.30 – 10.00\nRegisztráció\n\n\n10.00 – 10.15\nKöszöntő \nGalambos Attila\, elnök\, MKIK Nyugat-balkáni Tagozat \nDr. Örlős László\, ügyvezető igazgató\, Nyugat-Balkáni Zöld Központ Nonprofit Kft.\n\n\n10.15 – 10.30\nMagyar stratégiai szerepvállalás zöldgazdasági beruházások külpiaci előmozdítására\, a Nyugat-Balkáni Zöld Központ támogatási felhívásának bejelentése \nDr. Botos Barbara\, helyettes államtitkár\, Klímapolitikáért Felelős Helyettes Államtitkárság\, Innovációs és Technológiai Minisztérium \n \n\n\n10.30 – 10.45\nHiánypótló eszközök a magyar technológiaexport támogatására: a Nyugat-Balkáni Zöld Központ tevékenysége \nDr. Örlős László\, ügyvezető igazgató\, Nyugat-Balkáni Zöld Központ Nonprofit Kft. \n \n\n\n10.45 – 11.00 \n  \n \nAz EXIM megoldásai a nyugat-balkáni üzletfejlesztés elősegítésére \nSzőcs Gábor\, igazgató\, Vezérigazgatói Kabinet\, Exim\n\n\n11.00 – 11.10\nEgyüttműködési megállapodások aláírása  \nNyugat-Balkáni Zöld Központ – Magyar Kereskedelmi és Iparkamara \nNyugat-Balkáni Zöld Központ – Exim \n \n\n\n11.10 – 11.20 \n  \n11.20 – 12.00\nKávészünet \n  \nA Nyugat-Balkáni Zöld Központ Nonprofit Kft. Támogatási Koncepciójának részletes ismertetése \nKérdések és válaszok\, egyéni konzultációs lehetőség \nBenedek Gábor\, vezető nemzetközi tanácsadó\, Nyugat-Balkáni Zöld Központ Nonprofit Kft.\n\n\n\n  \nA részvétel feltételei \nJelentkezési határidő: 2020. február 11.\, kedd\, 10.00 óra \nA rendezvényen való részvétel ingyenes\, de előzetes online regisztrációhoz kötött. \nA férőhelyek száma korlátozott\, ezért a jelentkezéseket azok beérkezésének sorrendjében fogadjuk el. Egy vállalkozás képviseletében maximum két fő vehet részt az eseményen. \n  \nTámogatók:
URL:https://pbkik.hu/esemeny/klimavedelmi-palyazati-es-finanszirozasi-lehetosegek-a-nyugat-balkanon/
LOCATION:Magyar Kereskedelmi és Iparkamara székháza\, Pethényi köz 10.\, Budapest\, 1122\, Magyarország
ATTACH;FMTTYPE=image/jpeg:https://pbkik.hu/wp-content/uploads/2019/03/mkik_logo_1.jpg
END:VEVENT
BEGIN:VEVENT
DTSTART;TZID=Europe/Helsinki:20200213T100000
DTEND;TZID=Europe/Helsinki:20200213T120000
DTSTAMP:20260423T104431
CREATED:20200203T132639Z
LAST-MODIFIED:20200205T214455Z
UID:10002018-1581588000-1581595200@pbkik.hu
SUMMARY:Információs nap innovatív KKV-k részére
DESCRIPTION:Az Európai Unió Horizont 2020 kutatási és innovációs keretprogramjának részeként meghirdetett Accelerator program a prototípus szintről induló\, nemzetközi szinten innovatív és piacképes termékek\, szolgáltatások kifejlesztését és piacravitelét\, a vállalkozások növekedésének és nemzetközi terjeszkedésének gyorsítását támogatja. A programra induló vállalkozások (start-upok) is pályázhatnak.\n\n\n \nA fejlesztéshez szükséges támogatás mellett a cég a saját forrás biztosításához és a piacosításhoz befektetést is igényelhet. Az Accelerator pályázatot évente négy alkalommal lehet beadni 2020. október 7-ig. \nDátum: 2020. február 13. 10.00-12.00\nHelyszín: NKFI Hivatal\, 1077 Budapest\, Kéthly Anna tér 1. 231-es terem (Klauzál utcai bejárat) \nProgram: \nAz EIC Accelerator program bemutatása\nDivinyi Ágnes – NKFI Hivatal\, Nemzetközi Főosztály \nStart-up ökoszisztéma fejlesztése az NKFI Hivatal támogatásával\nKölkedi Krisztián – NKFI Hivatal\, Elnöki Kabinet \nPályázatok bírálói szemmel – gyakori hibák és hiányosságok\nDr. Erdő Sándor\, Erdőpharma Kft. \nA pályázók mentorálásának és a nyertes pályázók coachingjának tapasztalatai\nPesti István\, P-Invent Kft. \nPályázatkészítés és megvalósítás buktatói\nDr. Bulkai András\, KSERIS Tudástranszfer Nonprofit Kft. \nKérdések és válaszok \n  \nRegisztrációs lap elérhető IDE kattintva. \nBővebb információ az NKFIH honlapján elérhető.
URL:https://pbkik.hu/esemeny/informacios-nap-innovativ-kkv-k-reszere/
LOCATION:NKFI Hivatal\, Kéthly Anna tér 1. 231-es terem (Klauzál utcai bejárat)\, Budapest\, 1077\, Magyarország
END:VEVENT
END:VCALENDAR