BEGIN:VCALENDAR
VERSION:2.0
PRODID:-//Pécs-Baranyai Kereskedelmi és Iparkamara - ECPv6.15.20//NONSGML v1.0//EN
CALSCALE:GREGORIAN
METHOD:PUBLISH
X-WR-CALNAME:Pécs-Baranyai Kereskedelmi és Iparkamara
X-ORIGINAL-URL:https://pbkik.hu
X-WR-CALDESC:Események Pécs-Baranyai Kereskedelmi és Iparkamara
REFRESH-INTERVAL;VALUE=DURATION:PT1H
X-Robots-Tag:noindex
X-PUBLISHED-TTL:PT1H
BEGIN:VTIMEZONE
TZID:Europe/Helsinki
BEGIN:DAYLIGHT
TZOFFSETFROM:+0200
TZOFFSETTO:+0300
TZNAME:EEST
DTSTART:20190331T010000
END:DAYLIGHT
BEGIN:STANDARD
TZOFFSETFROM:+0300
TZOFFSETTO:+0200
TZNAME:EET
DTSTART:20191027T010000
END:STANDARD
BEGIN:DAYLIGHT
TZOFFSETFROM:+0200
TZOFFSETTO:+0300
TZNAME:EEST
DTSTART:20200329T010000
END:DAYLIGHT
BEGIN:STANDARD
TZOFFSETFROM:+0300
TZOFFSETTO:+0200
TZNAME:EET
DTSTART:20201025T010000
END:STANDARD
BEGIN:DAYLIGHT
TZOFFSETFROM:+0200
TZOFFSETTO:+0300
TZNAME:EEST
DTSTART:20210328T010000
END:DAYLIGHT
BEGIN:STANDARD
TZOFFSETFROM:+0300
TZOFFSETTO:+0200
TZNAME:EET
DTSTART:20211031T010000
END:STANDARD
END:VTIMEZONE
BEGIN:VEVENT
DTSTART;VALUE=DATE:20200401
DTEND;VALUE=DATE:20200404
DTSTAMP:20260423T183344
CREATED:20200120T125858Z
LAST-MODIFIED:20200310T110236Z
UID:10001721-1585699200-1585958399@pbkik.hu
SUMMARY:Nemzetközi üzletember-találkozó fenntartható technológia és ipar témakörben
DESCRIPTION:A rendezvényt a koronavírus terjedésének megelőzése okán tett intézkedéssorozat végett a szervező későbbi időpontban fogja megrendezni\, melyről a Kamara honlapján tájékoztatjuk az érdeklődőket. \n  \nDélkelet-európai Nemzetközi Fenntartható Technológiai Intézet (SEEIIST) 2020. április 1-3. között szervez nemzetközi üzletember-találkozót és konferenciát fenntartható technológia és ipar témakörben Szarajevóban.\n \n \nA konferencia célja a tudomány\, a technológia és az ipar közötti együttműködés előmozdítása a délkelet-európai régióban\, valamint  a Közép-európai Kezdeményezésben részt vevő tagállamok (CEI) között. \nA konferencia során megvitatják a SEEIIST és az ipar közötti együttműködést\, hangsúlyozva a következő szempontokat: az ipar és a dizájn kapcsolata az építészetben; az ipar részvétele a központ üzemeltetésében és kihasználásában; a know-how és a technológiák átvitele a központból az iparba; szakemberek képzése ipari és kórházak számára. \nTovábbi információ: sarajevo.2020@cern.ch \nPROGRAM \nA rendezvény hivatalos honlapja. \n  \n \n  \n 
URL:https://pbkik.hu/esemeny/nemzetkozi-uzletember-talalkozo-fenntarthato-technologia-es-ipar-temakorben/
LOCATION:Városháza Szarajevó\, Szarajevó\, Bosznia-Hercegovina
END:VEVENT
BEGIN:VEVENT
DTSTART;VALUE=DATE:20200402
DTEND;VALUE=DATE:20200406
DTSTAMP:20260423T183344
CREATED:20191106T124047Z
LAST-MODIFIED:20191106T124120Z
UID:10001690-1585785600-1586131199@pbkik.hu
SUMMARY:Autóipari-\, és beszállítói kiállítás Törökországban
DESCRIPTION:Még kellően távoli az időpont ahhoz\, hogy az érdeklődő magyar cégek be tudják tervezni a jövő évi programjukba a 2020 április AutoMechanika – autóipari vásárt\, mely a törökországi Isztambul TÜYAP Vásárközpontjában kerül megrendezésre. \nTörökország legnagyobb autóipari kiállításán 2018-ban több\, mint 47.000 látogató és csaknem 1.400 kiállító vett részt. A magyar érdeklődőknek segítséget ajánl a kapcsolatfelvételben és a tárgyalások leszervezésében az EXIM Törökországi Képviselője. \nAutoMechanika vásár honlapja: https://automechanika-istanbul.tr.messefrankfurt.com/istanbul/en.html \nRegisztráció: https://automechanika-istanbul.tr.messefrankfurt.com/istanbul/en/contact.html \nKérjük\, hogy amennyiben regisztrál akár kiállítóként\, akár tárgyalóként a rendezvényre\, értesítse az alábbi elérhetőségeken az Enterprise Europe Network és az Exim helyi kollégáit: \neepecs@pbkik.hu \npinter.janos@exim.hu
URL:https://pbkik.hu/esemeny/autoipari-es-beszallitoi-kiallitas-torokorszagban/
LOCATION:TÜYAP Fair\, Convention and Congress Center\, Isztambul\, E-5 Karayolu\, Gürpinar Kavsagi\, Isztambul\, Buyukcekmece\, 34522\, Törökország
END:VEVENT
END:VCALENDAR