BEGIN:VCALENDAR
VERSION:2.0
PRODID:-//Pécs-Baranyai Kereskedelmi és Iparkamara - ECPv6.15.20//NONSGML v1.0//EN
CALSCALE:GREGORIAN
METHOD:PUBLISH
X-WR-CALNAME:Pécs-Baranyai Kereskedelmi és Iparkamara
X-ORIGINAL-URL:https://pbkik.hu
X-WR-CALDESC:Események Pécs-Baranyai Kereskedelmi és Iparkamara
REFRESH-INTERVAL;VALUE=DURATION:PT1H
X-Robots-Tag:noindex
X-PUBLISHED-TTL:PT1H
BEGIN:VTIMEZONE
TZID:Europe/Helsinki
BEGIN:DAYLIGHT
TZOFFSETFROM:+0200
TZOFFSETTO:+0300
TZNAME:EEST
DTSTART:20190331T010000
END:DAYLIGHT
BEGIN:STANDARD
TZOFFSETFROM:+0300
TZOFFSETTO:+0200
TZNAME:EET
DTSTART:20191027T010000
END:STANDARD
BEGIN:DAYLIGHT
TZOFFSETFROM:+0200
TZOFFSETTO:+0300
TZNAME:EEST
DTSTART:20200329T010000
END:DAYLIGHT
BEGIN:STANDARD
TZOFFSETFROM:+0300
TZOFFSETTO:+0200
TZNAME:EET
DTSTART:20201025T010000
END:STANDARD
BEGIN:DAYLIGHT
TZOFFSETFROM:+0200
TZOFFSETTO:+0300
TZNAME:EEST
DTSTART:20210328T010000
END:DAYLIGHT
BEGIN:STANDARD
TZOFFSETFROM:+0300
TZOFFSETTO:+0200
TZNAME:EET
DTSTART:20211031T010000
END:STANDARD
BEGIN:DAYLIGHT
TZOFFSETFROM:+0200
TZOFFSETTO:+0300
TZNAME:EEST
DTSTART:20220327T010000
END:DAYLIGHT
BEGIN:STANDARD
TZOFFSETFROM:+0300
TZOFFSETTO:+0200
TZNAME:EET
DTSTART:20221030T010000
END:STANDARD
END:VTIMEZONE
BEGIN:VEVENT
DTSTART;VALUE=DATE:20200901
DTEND;VALUE=DATE:20210101
DTSTAMP:20260420T012603
CREATED:20201002T074740Z
LAST-MODIFIED:20201002T075338Z
UID:10001814-1598918400-1609459199@pbkik.hu
SUMMARY:MyAPEC 2020 online vásár
DESCRIPTION:A Malaysia External Trade Development Corporation (MATRADE) budapesti irodájának tájékoztatása szerint 2020 szeptember 1. és december 31. között kerül megrendezésre a MyAPEC 2020 kiállítás\, Malajziában az Ázsiai és Csendes-óceáni Gazdasági Együttműködés (APEC) 2020 konferenciával együtt. \n \n  \nEnnek a kiállításnak az a célja\, hogy bemutassa az APEC tagországainak sokféle termékét és szolgáltatását\, platformként működjön a hálózatépítésben és az üzleti kapcsolatok bővítésében a résztvevő vállalatok számára. Ez az esemény lesz az első virtuális kiállítás\, amelyet a MATRADE szervezett\, valamint az első az APEC keretében. \n  \nMeghívó \nBemutatkozó anyag \nKiállítók listája \nBeosztás
URL:https://pbkik.hu/esemeny/myapec-2020-online-vasar/
LOCATION:Online
END:VEVENT
BEGIN:VEVENT
DTSTART;TZID=Europe/Helsinki:20201020T080000
DTEND;TZID=Europe/Helsinki:20210410T170000
DTSTAMP:20260420T012603
CREATED:20181119T143237Z
LAST-MODIFIED:20181119T143237Z
UID:10001594-1603180800-1618074000@pbkik.hu
SUMMARY:Dubai EXPO2020 világkiállítás
DESCRIPTION:A Dubai EXPO2020 világkiállításra 2020. október 20. és 2021. április 10. között kerül sor\, melyre 25 millió látogatót várnak. Jelen állás szerint 183 ország fogja képviseltetni magát és a szűkös anyagi lehetőségekkel rendelkező államoknak jelentős forrásokat biztosítanak. Az Expo fő témája az „Elmék összekapcsolása\, a jövő építése” (Connecting Minds\, Creating the Future): egy helyen összehozni különböző népeket\, nyelveket és technológiákat. A központi kupolához három tematikus szárny kapcsolódik: lehetőség\, fenntarthatóság és mobilitás. A világkiállítás 438 hektáros területet foglal el\, naponta 130-170 ezer látogatóra számítanak. \n \n  \nA világkiállítást követően a terület tovább működik „District 2020” néven\, mely hosszabb távú üzleti lehetőséget nyújthat magyar cégeknek az innováció és technológia területén. \n  \nA szervezők elindítottak egy 100 M USD-s innovációs és partnerségi programot EXPO Live néven (https://www.expo2020dubai.com/expo-live/expo-live)\, melyre bárki jelentkezhet\, akinek van társadalmi hatással bíró innovatív projektje\, ötlete. A nyertes projekteket 100.000 USD-vel jutalmazzák\, és amennyiben kiemelkedő ötletről van szó\, akkor önálló kiállítási felületet is biztosítanak. Ezidáig 2.300 pályázatot nyújtottak be. \n  \nEmellett elindítottak egy online beszerzési portált is (https://esource.expo2020dubai.ae/esop/uae-e20-host/public/web/login.jst)\, amely többek között e-piactérként is funkcionál. A felületre történő regisztráció ingyenes\, és mindenki számára nyitott\, aki bármilyen formában\, akár termékkel\, akár szolgáltatással szeretne élni a világkiállítás adta üzleti lehetőségekkel. A honlapon eddig 25.800 cég regisztrált 148 országból\, ezek közül csupán 15 a magyar cég. A tenderkiírásokon\, melyek folyamatosan jelennek meg\, kizárólag a regisztrációs folyamaton túljutott cégek indulhatnak. A tenderek az alábbi területeket érintik: a kiállítási tartalom és programok\, ingatlanfejlesztés\, biztonságtechnika\, licensz vásárlás\, programszervezés\, építőipar\, ICT.
URL:https://pbkik.hu/esemeny/dubai-expo2020-vilagkiallitas/
LOCATION:Dubai\, Magyarország
END:VEVENT
BEGIN:VEVENT
DTSTART;VALUE=DATE:20201209
DTEND;VALUE=DATE:20201210
DTSTAMP:20260420T012603
CREATED:20201208T083907Z
LAST-MODIFIED:20201208T084145Z
UID:10002188-1607472000-1607558399@pbkik.hu
SUMMARY:„Made in Russia”- exportfórum
DESCRIPTION:A fórum kulcstémája 2020-ban: „Az új évtized kihívásai”. A program a következő tematikus blokkokból áll: \n \n\nAz exportőrök sürgős problémáinak megbeszélése az Orosz Föderáció kormányának tagjaival\, valamint orosz és nemzetközi szakértőkkel;\nA nemzetközi piacokra való belépés kérdései;\nÚj üzleti megoldások az exporttevékenység fejlesztésére;\nExport folyamatok digitalizálása –  „One Window” információs rendszer;\nAz élményipar és az online vásárlás fejlesztése.\n\n  \nA Fórum üzleti programja 6 tematikus kerekasztalt és plenáris ülést tartalmaz\, emellett ünnepélyes keretek között kerül sor az ország legjobb exportőreinek – az „Év exportőre” díj nyerteseinek díjazására. \nA fórumon orosz és külföldi vállalatok\, szövetségi és regionális hatóságok\, orosz bankok\, regionális exporttámogató központok\, szakosodott egyesületek és szakszervezetek\, üzleti média és vezető szakértők vesznek részt. \nTovábbi információ: https://drive.google.com/drive/folders/1aeJa9CuoEJPZt2uhLBblgjKMz249trmh?usp=sharing vagy https://forum.exportcenter.ru
URL:https://pbkik.hu/esemeny/made-in-russia-exportforum/
LOCATION:Online
END:VEVENT
BEGIN:VEVENT
DTSTART;TZID=Europe/Helsinki:20201209T100000
DTEND;TZID=Europe/Helsinki:20201209T123000
DTSTAMP:20260420T012603
CREATED:20201124T090639Z
LAST-MODIFIED:20201124T090947Z
UID:10001850-1607508000-1607517000@pbkik.hu
SUMMARY:Befektetési lehetőségek az orosz régiókban
DESCRIPTION:  \nMagyarország Oroszországi Külképviseletei\, a Magyar Kereskedelmi és Iparkamara és a HEPA Magyar Exportfejlesztési Ügynökség online konferenciát szervez „Oroszország nem csak Moszkva: Befektetési lehetőségek az orosz régiókban”  címmel.  \n \nA konferencia keretében négy orosz megye (Kaluga\, Voronyezs\, Leningrád és Orenburg) magas szintű kormányzati képviselője mutatja be a helyi befektetési lehetőségeket. \nA konferencia időpontja 2020. december 9. szerda 10.00 – 12.30. \nA részletes programot szíves tájékoztatásul mellékelten küldjük. \nBefektetesi_lehetosegek_orosz_regiokban.pdf \nAz előadások orosz nyelven\, szinkrontolmácsolással zajlanak. Az esemény ingyenes\, de regisztrációhoz kötött. Regisztrálni a konferenciát megelőzően az alábbi linkre kattintva tudnak: \nhttp://mailer.tradehouse.hu/form.php?f=f5aeek2887 \nA sikeres regisztrációt követően a későbbiekben küldjük az esemény zoom linkjét.
URL:https://pbkik.hu/esemeny/befektetesi-lehetosegek-az-orosz-regiokban/
LOCATION:Pécsi Kereskedelmi Központ
GEO:46.081487;18.2347915
END:VEVENT
BEGIN:VEVENT
DTSTART;TZID=Europe/Helsinki:20201209T143000
DTEND;TZID=Europe/Helsinki:20201209T160000
DTSTAMP:20260420T012603
CREATED:20201126T093338Z
LAST-MODIFIED:20221122T093447Z
UID:10002174-1607524200-1607529600@pbkik.hu
SUMMARY:Szakképzési fórum II. (kereskedelem és vendéglátás)
DESCRIPTION:A Pécs-Baranyai Kereskedelmi és Iparkamara és a Baranya Megyei Szakképzési Centrum közös szervezésében 2020.12.09-én online szakképzési fórumot tart a kereskedelem és a vendéglátás ágazatban dolgozó gyakorlati képzőhelyek részére. \n \nProgram\n\nA megváltozott szakképzési rendszer – Rittlinger Zoltán\, Baranya Megyei Szakképzési Centrum\, főigazgató\nA szakképző intézmény és a duális képzőhelyek együttműködése –  Baranya Megyei SZC Zsolnay Vilmos Technikum és Szakképző Iskola- László Zoltánné igazgató helyettese\nKépzőhelyek feladatai: szakképzési munkaszerződés és annak finanszírozási oldala\, a tanulószerződések kifutó rendszerben\, annak változó finanszírozási rendszerével – Sarkadiné Schmidt Alexandra duális képzési tanácsadó\, PBKIK Humánerőforrás-fejlesztési osztály\nMiben tudja segíteni a kamara a duális képzőhelyeket – Piacsek László Zoltán\, PBKIK Humánerőforrás-fejlesztési osztályvezető\n\nRészvételi díj: ingyenes \nA jelentkezést csak az online regisztrációval tudjuk elfogadni! \nJelentkezési határidő: december 7. (hétfő) \nAz online regisztrációs felületet az alábbiakban éri el! \nThis form is currently closed for submissions. \nA regisztrált résztvevőknek a ZOOM előadás linkjét december 8-án küldjük meg\, a megadott e-mail címre. \nTovábbi információ: Bánné Lukácsovics Aranka 72/507-124\, banne.lukacsovics.aranka@pbkik.hu
URL:https://pbkik.hu/esemeny/szakkepzesi-forum-ii-kereskedelem-es-vendeglatas/
LOCATION:Pécsi Kereskedelmi Központ
ORGANIZER;CN="P%C3%A9cs-Baranyai Kereskedelmi %C3%A9s Iparkamara (Hum%C3%A1ner%C5%91forr%C3%A1s-fejleszt%C3%A9si projektiroda)":MAILTO:marton.judit@pbkik.hu
GEO:46.081487;18.2347915
END:VEVENT
END:VCALENDAR