BEGIN:VCALENDAR
VERSION:2.0
PRODID:-//Pécs-Baranyai Kereskedelmi és Iparkamara - ECPv6.15.20//NONSGML v1.0//EN
CALSCALE:GREGORIAN
METHOD:PUBLISH
X-ORIGINAL-URL:https://pbkik.hu
X-WR-CALDESC:Események Pécs-Baranyai Kereskedelmi és Iparkamara
REFRESH-INTERVAL;VALUE=DURATION:PT1H
X-Robots-Tag:noindex
X-PUBLISHED-TTL:PT1H
BEGIN:VTIMEZONE
TZID:Europe/Helsinki
BEGIN:DAYLIGHT
TZOFFSETFROM:+0200
TZOFFSETTO:+0300
TZNAME:EEST
DTSTART:20190331T010000
END:DAYLIGHT
BEGIN:STANDARD
TZOFFSETFROM:+0300
TZOFFSETTO:+0200
TZNAME:EET
DTSTART:20191027T010000
END:STANDARD
BEGIN:DAYLIGHT
TZOFFSETFROM:+0200
TZOFFSETTO:+0300
TZNAME:EEST
DTSTART:20200329T010000
END:DAYLIGHT
BEGIN:STANDARD
TZOFFSETFROM:+0300
TZOFFSETTO:+0200
TZNAME:EET
DTSTART:20201025T010000
END:STANDARD
BEGIN:DAYLIGHT
TZOFFSETFROM:+0200
TZOFFSETTO:+0300
TZNAME:EEST
DTSTART:20210328T010000
END:DAYLIGHT
BEGIN:STANDARD
TZOFFSETFROM:+0300
TZOFFSETTO:+0200
TZNAME:EET
DTSTART:20211031T010000
END:STANDARD
BEGIN:DAYLIGHT
TZOFFSETFROM:+0200
TZOFFSETTO:+0300
TZNAME:EEST
DTSTART:20220327T010000
END:DAYLIGHT
BEGIN:STANDARD
TZOFFSETFROM:+0300
TZOFFSETTO:+0200
TZNAME:EET
DTSTART:20221030T010000
END:STANDARD
END:VTIMEZONE
BEGIN:VEVENT
DTSTART;TZID=Europe/Helsinki:20201020T080000
DTEND;TZID=Europe/Helsinki:20210410T170000
DTSTAMP:20260419T192154
CREATED:20181119T143237Z
LAST-MODIFIED:20181119T143237Z
UID:10001594-1603180800-1618074000@pbkik.hu
SUMMARY:Dubai EXPO2020 világkiállítás
DESCRIPTION:A Dubai EXPO2020 világkiállításra 2020. október 20. és 2021. április 10. között kerül sor\, melyre 25 millió látogatót várnak. Jelen állás szerint 183 ország fogja képviseltetni magát és a szűkös anyagi lehetőségekkel rendelkező államoknak jelentős forrásokat biztosítanak. Az Expo fő témája az „Elmék összekapcsolása\, a jövő építése” (Connecting Minds\, Creating the Future): egy helyen összehozni különböző népeket\, nyelveket és technológiákat. A központi kupolához három tematikus szárny kapcsolódik: lehetőség\, fenntarthatóság és mobilitás. A világkiállítás 438 hektáros területet foglal el\, naponta 130-170 ezer látogatóra számítanak. \n \n  \nA világkiállítást követően a terület tovább működik „District 2020” néven\, mely hosszabb távú üzleti lehetőséget nyújthat magyar cégeknek az innováció és technológia területén. \n  \nA szervezők elindítottak egy 100 M USD-s innovációs és partnerségi programot EXPO Live néven (https://www.expo2020dubai.com/expo-live/expo-live)\, melyre bárki jelentkezhet\, akinek van társadalmi hatással bíró innovatív projektje\, ötlete. A nyertes projekteket 100.000 USD-vel jutalmazzák\, és amennyiben kiemelkedő ötletről van szó\, akkor önálló kiállítási felületet is biztosítanak. Ezidáig 2.300 pályázatot nyújtottak be. \n  \nEmellett elindítottak egy online beszerzési portált is (https://esource.expo2020dubai.ae/esop/uae-e20-host/public/web/login.jst)\, amely többek között e-piactérként is funkcionál. A felületre történő regisztráció ingyenes\, és mindenki számára nyitott\, aki bármilyen formában\, akár termékkel\, akár szolgáltatással szeretne élni a világkiállítás adta üzleti lehetőségekkel. A honlapon eddig 25.800 cég regisztrált 148 országból\, ezek közül csupán 15 a magyar cég. A tenderkiírásokon\, melyek folyamatosan jelennek meg\, kizárólag a regisztrációs folyamaton túljutott cégek indulhatnak. A tenderek az alábbi területeket érintik: a kiállítási tartalom és programok\, ingatlanfejlesztés\, biztonságtechnika\, licensz vásárlás\, programszervezés\, építőipar\, ICT.
URL:https://pbkik.hu/esemeny/dubai-expo2020-vilagkiallitas/
LOCATION:Dubai\, Magyarország
END:VEVENT
BEGIN:VEVENT
DTSTART;VALUE=DATE:20210218
DTEND;VALUE=DATE:20210320
DTSTAMP:20260419T192154
CREATED:20210112T104646Z
LAST-MODIFIED:20210112T105350Z
UID:10002204-1613606400-1616198399@pbkik.hu
SUMMARY:Munkavédelmi képviselő képzés ONLINE
DESCRIPTION:Online alap- és továbbképzést szervez a Q.P. Kft. /GAZEK® Zuhanásbiztonság munkavédelmi képviselők részére. \n \nTanfolyam időpontja: 2021.02.18.-19. – ALAP képzés \n2021.02.19. – TOVÁBB képzés \n  \nTanfolyam díja:      ALAP képzés: 42.000 Ft + Áfa (0%) \nTOVÁBB képzés: 32.000 Ft + Áfa (0%) \n  \nTovábbi információ és jelentkezés ITT \n 
URL:https://pbkik.hu/esemeny/munkavedelmi-kepviselo-kepzes-online/
END:VEVENT
BEGIN:VEVENT
DTSTART;VALUE=DATE:20210223
DTEND;VALUE=DATE:20210227
DTSTAMP:20260419T192154
CREATED:20210210T111744Z
LAST-MODIFIED:20221122T094845Z
UID:10001878-1614038400-1614383999@pbkik.hu
SUMMARY:EU Industry Days 2021
DESCRIPTION:A 2021-es EU Industry Days a lehetőségekre összpontosít. A felgyorsult átalakulás és a változó globális versenykörnyezet közepette az európai ipari stratégia üzleti lehetőséget teremt a zöldebb\, digitális és rugalmasabb ipar számára. \n \nEszközöket kínál ipari ökoszisztémáink támogatásához ebben az átalakulásban\, és megerősíti globális versenyképességüket. Ugyanakkor az európai társadalmi felhívás új minőségi munkahelyek létrehozására irányul\, miközben tiszteletben tartják a bolygó határait. \nAz első\, 2017-es kiadás óta az EU Industry Days vált az Európai Bizottság fő platformjává\, amelyen az érdekelt felek folytathatnak nyílt párbeszédet és iparági vitát. 2021-ben a teljes programsorozat digitális felületre költözik. Így lehetőség nyílik arra is\, hogy több különféle nézetet és véleményt ismerjenek meg a résztvevők a panelbeszélgetéseken\, beszédekben\, hálózati lehetőségekben\, digitális kiállításban\, podcast-ban és sok izgalmas bejelentésben\, amelyek az ipari átmenet különféle lehetőségeiről szólnak. \nA részletes program és regisztráció az esemény honlapján elérhető.
URL:https://pbkik.hu/esemeny/eu-industry-days-2021/
LOCATION:Online
END:VEVENT
BEGIN:VEVENT
DTSTART;VALUE=DATE:20210226
DTEND;VALUE=DATE:20210227
DTSTAMP:20260419T192154
CREATED:20210201T145823Z
LAST-MODIFIED:20221122T094809Z
UID:10001863-1614297600-1614383999@pbkik.hu
SUMMARY:Gamification\, AI és digitális megoldások az Ed-Tech szektorban
DESCRIPTION:A Smart Manufacturing 2021 idén is többről szól\, mint egyszerű online üzletember találkozóról. Az idei második üzemlátogatás témája a gamification\, mesterséges intelligencia és digitális megoldások az Ed-Tech szektorban. \n \nA virtuális üzemlátogatás programja bővebben: \n– szakértői kerekasztal;\n– a vállalkozások előadásai az Ed-Tech szektorban a gamification\, mesterséges intelligencia és digitális megoldások alkalmazásáról;\n– online\, személyes üzletember találkozó a virtuális üzemlátogatás résztvevőivel. \nAz üzemlátogatás lehetőséget nyújt tapasztalatok cseréjére\, valamint üzleti és kutatási partnerek keresésére olasz és brit vállalatokkal. \nA részvétel díjmentes\, de regisztrációhoz kötött. A program munkanyelve az angol. \nTovábbi információ és regisztráció
URL:https://pbkik.hu/esemeny/gamification-ai-es-digitalis-megoldasok-az-ed-tech-szektorban/
LOCATION:Online
END:VEVENT
BEGIN:VEVENT
DTSTART;TZID=Europe/Helsinki:20210226T130000
DTEND;TZID=Europe/Helsinki:20210226T143000
DTSTAMP:20260419T192154
CREATED:20210219T103530Z
LAST-MODIFIED:20221122T094803Z
UID:10001882-1614344400-1614349800@pbkik.hu
SUMMARY:Ipar 4.0 témájú uniós forráslehetőségeinek áttekintése - I. rész
DESCRIPTION:Az Európai Unió 2021-27-es pénzügyi tervezési időszakában minden korábbinál nagyobb forrás áll rendelkezésre (95\,5 mrd € csak a Horizon Europe program keretében) a vállalkozások számára is fejlesztésre. Az Innomine\, az IPAR 4.0 Nemzeti Technológiai Platform Szövetség tagja\, február és március folyamán online workshop sorozatot indít\, aminek keretében 3 alkalommal\, kimondottan Ipar 4.0 fókusszal\, hazai szemmel elemezik a forrásokat és bemutatnak néhány kézzel fogható lehetőséget. \n \n  \nA Pécs-Baranyai Kereskedelmi és Iparkamara az IPAR 4.0 Nemzeti Technológiai Platform Szövetség tagja. \nAz első alkalom témái: \n\nBevezetés: a 2021-2027. időszak közvetlen uniós forrásainak áttekintése\nIpar 4.0 területen várható témák\, lehetőségek\nHogyan lehet nyerni? Értékelési folyamat\, magyar cégek tapasztalatai\, jótanácsok értékelőktől\nEgy konkrét forráslehetőség rövid bemutatása\n\nA workshop MS Teams felületen kerül megrendezésre. \nRegisztrálni ITT lehet. \nA további workshopok részletes programját is közzé tesszük hamarosan. A dátumokat minden esetre már érdemes beírni a naptárba. \n2. Workshop \n2021/2022 Ipar 4.0 témájú uniós forráslehetőségeinek áttekintése – II. rész\nIdőpont: 2021. március 5. péntek 14:00 – 15:30 \n3. Workshop \nÜzleti és innovációs lehetőségek kidolgozása 1-2 nagy európai projekt bemutatásán keresztül\nIdőpont: 2021. március 19. péntek 14:00 – 15:30
URL:https://pbkik.hu/esemeny/ipar-4-0-temaju-unios-forraslehetosegeinek-attekintese-i-resz/
LOCATION:Online
END:VEVENT
END:VCALENDAR