BEGIN:VCALENDAR
VERSION:2.0
PRODID:-//Pécs-Baranyai Kereskedelmi és Iparkamara - ECPv6.15.20//NONSGML v1.0//EN
CALSCALE:GREGORIAN
METHOD:PUBLISH
X-ORIGINAL-URL:https://pbkik.hu
X-WR-CALDESC:Események Pécs-Baranyai Kereskedelmi és Iparkamara
REFRESH-INTERVAL;VALUE=DURATION:PT1H
X-Robots-Tag:noindex
X-PUBLISHED-TTL:PT1H
BEGIN:VTIMEZONE
TZID:Europe/Helsinki
BEGIN:DAYLIGHT
TZOFFSETFROM:+0200
TZOFFSETTO:+0300
TZNAME:EEST
DTSTART:20200329T010000
END:DAYLIGHT
BEGIN:STANDARD
TZOFFSETFROM:+0300
TZOFFSETTO:+0200
TZNAME:EET
DTSTART:20201025T010000
END:STANDARD
BEGIN:DAYLIGHT
TZOFFSETFROM:+0200
TZOFFSETTO:+0300
TZNAME:EEST
DTSTART:20210328T010000
END:DAYLIGHT
BEGIN:STANDARD
TZOFFSETFROM:+0300
TZOFFSETTO:+0200
TZNAME:EET
DTSTART:20211031T010000
END:STANDARD
BEGIN:DAYLIGHT
TZOFFSETFROM:+0200
TZOFFSETTO:+0300
TZNAME:EEST
DTSTART:20220327T010000
END:DAYLIGHT
BEGIN:STANDARD
TZOFFSETFROM:+0300
TZOFFSETTO:+0200
TZNAME:EET
DTSTART:20221030T010000
END:STANDARD
END:VTIMEZONE
BEGIN:VEVENT
DTSTART;VALUE=DATE:20210426
DTEND;VALUE=DATE:20210501
DTSTAMP:20260419T151117
CREATED:20210204T105710Z
LAST-MODIFIED:20221122T095047Z
UID:10002239-1619395200-1619827199@pbkik.hu
SUMMARY:Divat- és textilipari beszállítói napok - Fashion Match Supply 2021
DESCRIPTION:Az online üzletember találkozó és konferencia lehetőséget biztosít a divat- és textilipari ellátási lánc minden szereplőjének a gyártóktől a tervezőkön át a fuvarozó cégekig a legújabb trendek és potenciális partnerek megismerésére egyaránt. \n \nMIÉRT ÉRDEMES RÉSZT VENNI? \n\nLehetőség üzleti tárgyalások folytatására nemzetközi divatipari partnerekkel.\n\n\nÚj piacok megismerése\, információgyűjtés\, piaci igények felmérése.\n\n\nHatáron túli kapcsolatok és együttműködések kezdeményezése.\n20 perces\, előre megszervezett üzleti megbeszélések.\n\nFÓKUSZBAN: \n\nbeszállítói láncok a divat- és textiliparban\ngyártás\, bérgyártás\ne-kereskedelem és logisztika\nfenntartható textilgyártás\n\nREGISZTRÁCIÓ\nAz érdeklődőknek lehetősége van – díjmentesen – egy profil létrehozására és konkrét üzleti ajánlatok feltöltésére a rendezvény honlapján\, ahol megtekinthetik a többi résztvevő adatlapját is. Javasoljuk a résztvevőknek\,  hogy részletes cégprofilt és együttműködési ajánlatokat készítsenek a számukra megfelelő partner megtalálása érdekében!
URL:https://pbkik.hu/esemeny/divat-es-textilipari-beszallitoi-napok-fashion-match-supply-2021/
LOCATION:Online
ATTACH;FMTTYPE=image/jpeg:https://pbkik.hu/wp-content/uploads/2021/02/fashionmatchsupply.jpg
END:VEVENT
BEGIN:VEVENT
DTSTART;VALUE=DATE:20210428
DTEND;VALUE=DATE:20210501
DTSTAMP:20260419T151117
CREATED:20210401T095737Z
LAST-MODIFIED:20210401T102510Z
UID:10002290-1619568000-1619827199@pbkik.hu
SUMMARY:Moldovai Kereskedelmi Fórum és Üzletember Találkozó
DESCRIPTION:A kereskedelmi fórum célja\, hogy az online előadások és tárgyalások keretében a magyar vállalatok jobban megismerjék a moldovai üzleti lehetőségeket\, mely ösztönözheti és erősítheti a gazdasági együttműködést a két ország vállalatai között. \n \nKiemelt témák: \n\nüzleti\, együttműködési lehetőségek a DFCTA szabadkereskedelmi térségben\nglobális trendek a megváltozott piacon történő hatékony exporthoz\na COVID-19 hatása a KKV szektorra\, újrainduláshoz kapcsolódó intézkedések\nmegoldások az agro-élelmiszeripari és textilgyártók integrálásához a globális ellátási láncba\n\nMiért éri meg? \n\nmegbízható üzleti partnerekkel veheti fel a kapcsolatot egyszerű\, hatékony és költségkímélő módon\nszélesítheti\, tovább erősítheti kapcsolati hálóját\nszakmai tapasztalatok – tudásmegosztás nemzetközi szereplőkkel\npiaci trendek és technológiák megismerése\n\n  \nA részvétel díjmentes\, de előzetes regisztrációhoz kötött: \nREGISZTRÁCIÓ\nA regisztrációt követően ne felejtsék a ’MARKETPLACE’ szekciót minél célzottabb\, aktuális üzleti ajánlatokkal kitölteni. A tárgyalópartnerek az ott szereplő információk alapján fognak dönteni a lehetséges tárgyalásokról.
URL:https://pbkik.hu/esemeny/moldovai-kereskedelmi-forum-es-uzletember-talalkozo/
LOCATION:Online
ATTACH;FMTTYPE=image/png:https://pbkik.hu/wp-content/uploads/2021/04/moldova.png
END:VEVENT
BEGIN:VEVENT
DTSTART;TZID=Europe/Helsinki:20210430T100000
DTEND;TZID=Europe/Helsinki:20210430T120000
DTSTAMP:20260419T151117
CREATED:20210429T072429Z
LAST-MODIFIED:20221122T095023Z
UID:10001928-1619776800-1619784000@pbkik.hu
SUMMARY:EUREKA klaszterek a Zöld Átmenetet támogató kutatások területén
DESCRIPTION:Az NKFI Hivatal online információs webináriumot rendez az EUREKA klaszterek nemzetközi pályázati felhívásáról a Zöld Átmenetet (Green Transition) támogató kutatások területén. \n \nA rendezvényre a regisztráció ingyenes\, de kötelező\, az esemény linkje kizárólag a regisztráltak számára lesz elérhető. \nA rendezvény időpontja: 2021. április 30. 10-12 óra\nA rendezvény helyszíne: online \nProgram: \n\nKöszöntő\nCsuzdi Szonja főosztályvezető\, Nemzetközi Főosztály\, EUREKA High Level Representative\, NKFI Hivatal\nA résztvevő EUREKA klaszterek bemutatkozása\nSinem Altuncu\, Klaszter Képviselő\, Eurogia\nAz GT EUREKA klaszterközi felhívás bemutatása\nSinem Altuncu\, Klaszter Képviselő\, Eurogia\nA felhívás nemzetközi partnerkereső lehetőségei\nSinem Altuncu\, Klaszter Képviselő\, Eurogia\nA nemzetközi-elektronikus pályázati felület használata\nSinem Altuncu\, Klaszter Képviselő\, Eurogia\nA magyar EUREKA program bemutatása és feltételei\nMészáros Gergely\, EUREKA NPC\, NKFI Hivatal\n\nTovábbi információk: \nEUREKA pályázati felhívás a mesterséges intelligencia (MI) és a Zöld Átmenetet (GreenTransition) támogató kutatások területén\nhttps://eureka-eurogia-green.eu/ \nRegisztráció: \nhttps://nkfih.gov.hu/hivatalrol/hivatal-rendezvenyei/eureka-klaszterek-zold-atmenet \n 
URL:https://pbkik.hu/esemeny/eureka-klaszterek-a-zold-atmenetet-tamogato-kutatasok-teruleten/
LOCATION:Online
END:VEVENT
BEGIN:VEVENT
DTSTART;TZID=Europe/Helsinki:20210430T150000
DTEND;TZID=Europe/Helsinki:20210430T170000
DTSTAMP:20260419T151117
CREATED:20210414T161504Z
LAST-MODIFIED:20210414T162906Z
UID:10002308-1619794800-1619802000@pbkik.hu
SUMMARY:Üzlet- és kapcsolatépítés a London-Budapest hídon - webinárium
DESCRIPTION:A Nagy-Britannia és Magyarország közötti diplomáciai kapcsolat 100. évfordulója alkalmából rendezi meg üzleti fókuszú online eseményét a Startup Campus\, melynek célja\, hogy a hazai vállalkozásokkal megismertesse a brit vállalkozásfejlesztést\, valamint a nemzetközi piacra lépés módszertanát. Továbbá\, hogy bemutassa a brit piac lehetőségeit és az innovációs ökoszisztéma kulcs szereplőit\, ezáltal teljes képet mutatva a résztvevőknek. \nA rendezvény időpontja: 2021. április 30. 15:00-17:00 \nAgenda:\nNyitóbeszéd: Dr. Kumin Ferenc\, londoni rendkívüli és meghatalmazott Nagykövet \nElőadók – Piacra lépési program: \n\nGulyás Gergő\nTörök Ildikó\nTóth Zsuzsanna\n\nVendég elóadók: \n\nMokran Ildikó\, IM Bookkeeping Ltd – Üzletvitel\nGörög Krisztina\, Department for International Trade – Brit üzleti ökoszisztéma\n\n  \nREGISZTRÁCIÓ
URL:https://pbkik.hu/esemeny/uzlet-es-kapcsolatepites-a-london-budapest-hidon-webinarium/
LOCATION:Online – Zoom
ATTACH;FMTTYPE=image/jpeg:https://pbkik.hu/wp-content/uploads/2021/04/Brit-uzletfejlesztesi-program-Banner-scaled.jpg
END:VEVENT
END:VCALENDAR