BEGIN:VCALENDAR
VERSION:2.0
PRODID:-//Pécs-Baranyai Kereskedelmi és Iparkamara - ECPv6.15.20//NONSGML v1.0//EN
CALSCALE:GREGORIAN
METHOD:PUBLISH
X-WR-CALNAME:Pécs-Baranyai Kereskedelmi és Iparkamara
X-ORIGINAL-URL:https://pbkik.hu
X-WR-CALDESC:Események Pécs-Baranyai Kereskedelmi és Iparkamara
REFRESH-INTERVAL;VALUE=DURATION:PT1H
X-Robots-Tag:noindex
X-PUBLISHED-TTL:PT1H
BEGIN:VTIMEZONE
TZID:Europe/Helsinki
BEGIN:DAYLIGHT
TZOFFSETFROM:+0200
TZOFFSETTO:+0300
TZNAME:EEST
DTSTART:20200329T010000
END:DAYLIGHT
BEGIN:STANDARD
TZOFFSETFROM:+0300
TZOFFSETTO:+0200
TZNAME:EET
DTSTART:20201025T010000
END:STANDARD
BEGIN:DAYLIGHT
TZOFFSETFROM:+0200
TZOFFSETTO:+0300
TZNAME:EEST
DTSTART:20210328T010000
END:DAYLIGHT
BEGIN:STANDARD
TZOFFSETFROM:+0300
TZOFFSETTO:+0200
TZNAME:EET
DTSTART:20211031T010000
END:STANDARD
BEGIN:DAYLIGHT
TZOFFSETFROM:+0200
TZOFFSETTO:+0300
TZNAME:EEST
DTSTART:20220327T010000
END:DAYLIGHT
BEGIN:STANDARD
TZOFFSETFROM:+0300
TZOFFSETTO:+0200
TZNAME:EET
DTSTART:20221030T010000
END:STANDARD
END:VTIMEZONE
BEGIN:VEVENT
DTSTART;TZID=Europe/Helsinki:20210503T093000
DTEND;TZID=Europe/Helsinki:20210503T180000
DTSTAMP:20260419T181810
CREATED:20210309T145526Z
LAST-MODIFIED:20210415T075426Z
UID:10002261-1620034200-1620064800@pbkik.hu
SUMMARY:Connect Day 2021
DESCRIPTION:2021. májusában kerül megszervezésre a Connect Day 2021 rendezvénysorozat\, melynek célja az innovatív ötletekkel\, technológiákkal rendelkező startupok és az ilyen megoldásokat kereső vállalatok\, kkv-k\, valamint befektetők összekötése. \nKiknek a jelentkezését várják? \n\nVállalatok és kkv-k\nBefektetők\nStartupok\nÁzsiai startupok a GIN goAustria programból\nNemzeti startup ökoszisztéma stakeholderek\nNemzeti vállalati hálózatok\n\nA rendezvény angol nyelvű. \nRegisztrációra 2021. április 30-ig van lehetőség. \nTalálkozók jelölése 2021. április 10. és május 1-je között lehetséges. \nA rendezvényen történő részvétel díjmentes\, de előzetes regisztrációhoz kötött. További információ és jelentkezés elérhető itt: \nREGISZTRÁCIÓ\nAz üzleti tárgyalások időpontjai: \n2021. május 3. 11:00-18:00 \n2021. május 6. 8:00-10:00 \n2021. május 12. 8:00-10:00
URL:https://pbkik.hu/esemeny/connect-day-2021/2021-05-03/
LOCATION:Online
ATTACH;FMTTYPE=image/jpeg:https://pbkik.hu/wp-content/uploads/2021/03/connect-day-2021.jpg
END:VEVENT
END:VCALENDAR