BEGIN:VCALENDAR
VERSION:2.0
PRODID:-//Pécs-Baranyai Kereskedelmi és Iparkamara - ECPv6.15.20//NONSGML v1.0//EN
CALSCALE:GREGORIAN
METHOD:PUBLISH
X-ORIGINAL-URL:https://pbkik.hu
X-WR-CALDESC:Események Pécs-Baranyai Kereskedelmi és Iparkamara
REFRESH-INTERVAL;VALUE=DURATION:PT1H
X-Robots-Tag:noindex
X-PUBLISHED-TTL:PT1H
BEGIN:VTIMEZONE
TZID:Europe/Helsinki
BEGIN:DAYLIGHT
TZOFFSETFROM:+0200
TZOFFSETTO:+0300
TZNAME:EEST
DTSTART:20200329T010000
END:DAYLIGHT
BEGIN:STANDARD
TZOFFSETFROM:+0300
TZOFFSETTO:+0200
TZNAME:EET
DTSTART:20201025T010000
END:STANDARD
BEGIN:DAYLIGHT
TZOFFSETFROM:+0200
TZOFFSETTO:+0300
TZNAME:EEST
DTSTART:20210328T010000
END:DAYLIGHT
BEGIN:STANDARD
TZOFFSETFROM:+0300
TZOFFSETTO:+0200
TZNAME:EET
DTSTART:20211031T010000
END:STANDARD
BEGIN:DAYLIGHT
TZOFFSETFROM:+0200
TZOFFSETTO:+0300
TZNAME:EEST
DTSTART:20220327T010000
END:DAYLIGHT
BEGIN:STANDARD
TZOFFSETFROM:+0300
TZOFFSETTO:+0200
TZNAME:EET
DTSTART:20221030T010000
END:STANDARD
END:VTIMEZONE
BEGIN:VEVENT
DTSTART;VALUE=DATE:20210505
DTEND;VALUE=DATE:20210507
DTSTAMP:20260419T151103
CREATED:20210201T151232Z
LAST-MODIFIED:20221122T095017Z
UID:10001864-1620172800-1620345599@pbkik.hu
SUMMARY:EuroNanoForum 2021 - nanotechnológia EU-s szinten
DESCRIPTION:Az EuroNanoForum 2021 azt a témát járja körbe\, milyen szerepe lesz a nano-alapú iparágaknak abban\, hogy Európa zöldebb és ellenállóbb legyen a jövőben. \n \n  \nA fejlett anyagok alapvető szerepet játszanak a zöldebb technológiákra való áttérésben és a fenntarthatóbb jövőben\, jelentősen hozzájárulva az Európai Zöld Megállapodás által kitűzött ambiciózus célokhoz. \nAz esemény különböző szektorok szakértőit hozza össze\, hogy meghatározzák a szakpolitikai lehetőségeket és prioritásokat\, betekintést adjanak a műszaki\, ipari és társadalmi kihívásokba\, valamint megosszák véleményüket és elképzeléseiket a nanotechnológia és a fejlett anyagok szerepéről. \n  \nTovábbi információ és ingyenes regisztráció a https://euronanoforum2021.eu honlapon.
URL:https://pbkik.hu/esemeny/euronanoforum-2021-nanotechnologia-eu-s-szinten/
LOCATION:Online
END:VEVENT
BEGIN:VEVENT
DTSTART;TZID=Europe/Helsinki:20210505T080000
DTEND;TZID=Europe/Helsinki:20210505T120000
DTSTAMP:20260419T151103
CREATED:20210429T064841Z
LAST-MODIFIED:20210429T070135Z
UID:10001927-1620201600-1620216000@pbkik.hu
SUMMARY:Fenntartható munkába járás
DESCRIPTION:A Greenreg projekt keretében 2021. május 5-én kerül megrendezésre online formában a fenntartható közlekedés témájú workshop és networking esemény. \n \nProgram: \n\n\n\n9:00-9:10\nÜdvözlés \nHeves Gábor\, a projekt szakértője\n\n\n9:10- 9:40\nMitől lesz fenntartható a munkába járás? \nElőadó: Ekés András\, Mobilissimus Kft.\n\n\n9:40-10:10\nFenntartható munkába járás szegedi munkáltatóknál: a SASmob projekt \nElőadó: Pázmány Péter\, Szeged MJV Önkormányzat\n\n\n10:10-10:40\nMunkahelyi mobilitási tervek készítése és megvalósítása Szentendrén \nElőadó: Heves Gábor\, IMRO-DDKK Nonprofit Kft.\n\n\n10:40-11:00\nA Greenreg projekt Szlovéniában \nElőadó: Ales Skalic\, Muraszombati Vállalkozásfejlesztési Központ szakértője\n\n\n11:00-12:00\nKerekasztal beszélgetés\, networking\n\n\n\nKérjük\, hogy részvételi szándékát egy válasz e-mailben jelezze a tunde.fucsko@pannonnovum.hu címen legkésőbb 2021. május 4-ig!
URL:https://pbkik.hu/esemeny/fenntarthato-munkaba-jaras/
LOCATION:Online
END:VEVENT
BEGIN:VEVENT
DTSTART;TZID=Europe/Helsinki:20210505T100000
DTEND;TZID=Europe/Helsinki:20210505T123000
DTSTAMP:20260419T151103
CREATED:20210423T070415Z
LAST-MODIFIED:20210423T085934Z
UID:10001922-1620208800-1620217800@pbkik.hu
SUMMARY:Hogyan vállalkozzunk Romániában? - online fórum
DESCRIPTION:A rendezvény célja\, hogy tájékoztatást nyújtson a Romániával kapcsolatos piaci ismeretekről\, jogi és adózási környezetről\, az új piacokat kereső és a szomszédos országban már jelenlévő vállalkozások számára. \nA rendezvényen a részvétel díjmentes\, de tekintettel a technikai befogadóképességre\, regisztrációhoz kötött. A jelentkezéseket a beérkezés sorrendjében tudják fogadni!  \nA belépési link a fórum előtti munkanapon kerül megküldésre az előzetes regisztráció alapján.  \nRegisztrációs határidő: 2021. május 4.\, 14:00 óra \nProgram és további információk \nRegisztráció
URL:https://pbkik.hu/esemeny/hogyan-vallalkozzunk-romaniaban/
LOCATION:Majorossy Imre utca 36.\, Pécs\, 7625\, Magyarország
END:VEVENT
BEGIN:VEVENT
DTSTART;TZID=Europe/Helsinki:20210505T103000
DTEND;TZID=Europe/Helsinki:20210505T120000
DTSTAMP:20260419T151103
CREATED:20210428T091907Z
LAST-MODIFIED:20221122T095011Z
UID:10001926-1620210600-1620216000@pbkik.hu
SUMMARY:Szellemi tulajdon és mesterséges intelligencia - webinárium
DESCRIPTION:Az Európai Bizottság által működtetett European IP Helpdesk számos érdekes témában szervez online tájékoztatókat és tréningeket az érdeklődőknek. A mostani webes szeminárium célja\, hogy általános áttekintést adjon a mesterséges intelligencia (AI)\, a gépi tanulás és a szellemi tulajdon kapcsolatáról. Az esemény nyelve angol. \n \nHázigazda: European IP Helpdesk\nElőadó: Dr. Robert Harrison \nA webinárium során a résztvevőknek lehetőségük lesz megismerni: \nMit értünk mesterséges intelligencia szellemi tulajdon alatt?\nMilyen jogok vonatkoznak a mesterséges intelligencia (AI) által gépi tanulás során használt adatokra?\nHogyan védik az adatokat az adatbázis-jogok?\nHogyan lehet megszerezni az adatok felhasználásának jogait mesterséges intelligenciával végzett innovációhoz?\nSzabadalmaztatható-e a mesterséges intelligenciával létrejött találmány?\nMilyen hatással lesznek az európai és amerikai szabadalmi hivatalok új tanácsai a szabadalmi bejelentések vizsgálatának megközelítésére?\nKi lesz a más forrásból származó adatokkal készített találmányok tulajdonosa?\nHogyan lehet a mesterséges intelligencia terén elért újításokat eladni vagy felhasználásra engedélyezni? \nIdőtartam: 60 perc (előadás) + 15 perc (kérdések és válaszok) \nDíj: A részvétel díjmentes\, de regisztrációhoz kötött. \nTechnikai segítség vagy kérdés esetén\, vegye fel a kapcsolatot az oktatócsoporttal a következő címen: training@iprhelpdesk.eu \nREGISZTRÁCIÓ
URL:https://pbkik.hu/esemeny/szellemi-tulajdon-es-mesterseges-intelligencia-webinarium/
LOCATION:Pécsi Kereskedelmi Központ
GEO:46.081487;18.2347915
END:VEVENT
BEGIN:VEVENT
DTSTART;TZID=Europe/Helsinki:20210505T170000
DTEND;TZID=Europe/Helsinki:20210505T183000
DTSTAMP:20260419T151103
CREATED:20210421T064906Z
LAST-MODIFIED:20210428T124858Z
UID:10001919-1620234000-1620239400@pbkik.hu
SUMMARY:Létezik márkaépítés marketing nélkül?
DESCRIPTION:Érdekes kérdés egy igazán speciális piacról. A Philip Morris Magyarország Kft. szakértői osztják meg a tapasztalataikat a Corporate Talk harmadik eseményén. \n\n\n \n \nValószínűleg nem. Vagy mégis? Annak érdekében\, hogy ezt kiderítsük\, a rendezvény vendégei lesznek a „dohányipar nagyágyúi\, akikkel arról fognak beszélgetni\, hogyan változott a fogyasztói marketingkommunikáció a trafikrendszer előtt\, illetve után. Milyen dolgozni egy „dark market” típusú piacon\, mit lehet tenni egy olyan helyzetben\, amikor a fogyasztó minden vállalat számára egyre fontosabbá válik\, viszont a vele való kommunikáció az iparági szereplők számára szigorú szabályok és keretek közé van szorítva. Arról is szó esik majd\, hogyan kondicionálnak a folyamatosan és gyorsan változó körülmények egy szervezetet a rugalmasságra\, és hogy ez milyen előnyöket jelentett (még ha furán is hangzik) a pandémia kitörésekor. \nKarnis Gabriella\, a Philip Morris Magyarország Kft. kiskereskedelmi kapcsolatok délnyugat magyarországi vezetője és vendégei \n\nNémeth Emese\, a Philip Morris Magyarország Kft. „Try and Buy” vezetője és\nVizi Tamás\, a Philip Morris Magyarország Kft. külső kereskedelmi kapcsolatok országos vezetője.\n\n  \nIdőpont: 2021. május 5. (szerda) 17.00 \nA részvétel ingyenes\, de regisztrációhoz kötött. A beszélgetésbe MS Teams segítségével kapcsolódhatnak be\, melyhez a linket e-mailben\, a közvetítés előtt küldik el a regisztráltaknak. \nRegisztráció
URL:https://pbkik.hu/esemeny/letezik-markaepites-marketing-nelkul/
LOCATION:Majorossy Imre utca 36.\, Pécs\, 7625\, Magyarország
END:VEVENT
END:VCALENDAR