BEGIN:VCALENDAR
VERSION:2.0
PRODID:-//Pécs-Baranyai Kereskedelmi és Iparkamara - ECPv6.15.20//NONSGML v1.0//EN
CALSCALE:GREGORIAN
METHOD:PUBLISH
X-ORIGINAL-URL:https://pbkik.hu
X-WR-CALDESC:Események Pécs-Baranyai Kereskedelmi és Iparkamara
REFRESH-INTERVAL;VALUE=DURATION:PT1H
X-Robots-Tag:noindex
X-PUBLISHED-TTL:PT1H
BEGIN:VTIMEZONE
TZID:Europe/Helsinki
BEGIN:DAYLIGHT
TZOFFSETFROM:+0200
TZOFFSETTO:+0300
TZNAME:EEST
DTSTART:20200329T010000
END:DAYLIGHT
BEGIN:STANDARD
TZOFFSETFROM:+0300
TZOFFSETTO:+0200
TZNAME:EET
DTSTART:20201025T010000
END:STANDARD
BEGIN:DAYLIGHT
TZOFFSETFROM:+0200
TZOFFSETTO:+0300
TZNAME:EEST
DTSTART:20210328T010000
END:DAYLIGHT
BEGIN:STANDARD
TZOFFSETFROM:+0300
TZOFFSETTO:+0200
TZNAME:EET
DTSTART:20211031T010000
END:STANDARD
BEGIN:DAYLIGHT
TZOFFSETFROM:+0200
TZOFFSETTO:+0300
TZNAME:EEST
DTSTART:20220327T010000
END:DAYLIGHT
BEGIN:STANDARD
TZOFFSETFROM:+0300
TZOFFSETTO:+0200
TZNAME:EET
DTSTART:20221030T010000
END:STANDARD
END:VTIMEZONE
BEGIN:VEVENT
DTSTART;VALUE=DATE:20210506
DTEND;VALUE=DATE:20220101
DTSTAMP:20260419T181903
CREATED:20210506T113600Z
LAST-MODIFIED:20210506T115237Z
UID:10002335-1620259200-1640995199@pbkik.hu
SUMMARY:ENRICH in LAC - Kapcsolatépítő platform Latin-Amerikában
DESCRIPTION:Az RCISD Regionális Tudásközpont által létrehozott platform az ENRICH in LAC (Latin America and Caribbean)\, az innováció területén dolgozó szervezetek és vállalkozások kapcsolatépítését segíti elő. \nA 2017-ben – Európai Unió HORIZON 2020 program által finanszírozott CEBRABIC projekt keretében – létrejött ENRICH in Brazil Innovációs Központ 2021 áprilisától ENRICH in LAC (Latin America and Caribbean) néven működik tovább\, Brazília mellett Argentína\, Chile\, Kolumbia és Uruguay innovációs ökoszisztémáinak legmeghatározóbb szereplőit összekapcsolva. Az egyesületi formában működő központ alapító tagja az RCISD Regionális Tudásközpont Kft. Az ENRICH in LAC központhoz 2021-ben csatlakozott Magyarország Sao Paolo-i konzulátusa is. \nA tudásmegosztó és hálózatépítő szolgáltatásai keretében a tagok számára a dedikált b2match platformon keresztül lehetőséget biztosít kapcsolatépítésére\, tevékenységeik hirdetésére\, valamint online események megvalósítására. Az ENRICH központ hatékonyan segítheti az innovációs területen működő szervezetek tudományos és üzleti jellegű törekvéseit a célországokban. \nA kezdeményezés európai kutatókat és innovációs szakembereket\, kutatóintézeteket\, start-upokat\, valamint kis- és középvállalkozásokat támogat a latin-amerikai szereplőkkel történő kapcsolatépítésben. Szolgáltatási portfóliója ötvözi a tudásmegosztást (tanulmányok készítése a tagok igényeihez igazodva)\, a hálózat- és kapacitásépítést (soft landing hub-ok működtetése\, regionális partnerek és támogatási lehetőségek feltérképezése)\, a képzések biztosítását (webinariumok) és a különböző networking szolgáltatásokat (innovációs kihívások\, b2match platform). \nAz ENRICH in LAC központ európai és latin-amerikai szervezetek csatlakozását várja. \nA szervezet a következő prioritás-területeken megvalósuló tevékenységeket kiemelten kezeli: egészségügy\, digitális átállás\, biomassza alapú gazdaság\, megújuló energia és fenntartható urbanizáció. \nTovábbi információ: ENRICH in LAC \nAz online üzleti partnerkereső platform elérhető itt: europe-lac.b2match.io \n 
URL:https://pbkik.hu/esemeny/enrich-in-lac-kapcsolatepito-platform-latin-amerikaban/
LOCATION:Online
ATTACH;FMTTYPE=image/png:https://pbkik.hu/wp-content/uploads/2021/05/8381594386-31137a65d6.png
END:VEVENT
BEGIN:VEVENT
DTSTART;VALUE=DATE:20210527
DTEND;VALUE=DATE:20210602
DTSTAMP:20260419T181903
CREATED:20210519T092514Z
LAST-MODIFIED:20210519T094556Z
UID:10001942-1622073600-1622591999@pbkik.hu
SUMMARY:Mobilitás és közlekedés a H2020 keretprogramban - nemzetközi üzletember találkozó
DESCRIPTION:Az Enterprise Europe Network társszervezésében megvalósuló online nemzetközi üzletember találkozóra várnak\, minden a közlekedésiparban és szállítmányozásban tevékenykedő céget\, egyetemet\, kutatóintézetet\, akik nyitottak új üzleti kapcsolatok\, technológiai és lehetséges H2020 együttműködések kialakítására. \n \nAz NKFI Hivatal\, a lengyel NCBIR (National Centre for Research and Development)\, a szlovák SLORD (Szlovák Kutatási és Fejlesztési Kapcsolattartó Iroda) és a litván LINO (Litván K + F kapcsolattartó Iroda)\, valamint a cseh CZELO (Cseh Kutatási\, Fejlesztési és Innovációs Kapcsolattartó Iroda) irodák közös szervezésében megvalósuló virtuális tájékoztató és partnerkereső rendezvény a Horizont Európa keretprogram Közlekedés területére fókuszál\, a pályázni szándékozóknak bemutatva a megnyíló finanszírozási lehetőségeket és a kapcsolódó szakpolitikai hátteret.\n\nA rendezvény bemutatkozási lehetőséget is biztosít azon vállalkozásoknak\, egyetemeknek\, kutatóintézeteknek\, nonprofit szervezeteknek\, amelyek jövőbeli projekt partnereiket keresik. Lehetőség lesz projekt ötletek rövid ismertetésére\, valamint B2B megbeszélésekre is. \nA rendezvény ingyenes\, de regisztrációhoz kötött: \nREGISZTRÁCIÓ
URL:https://pbkik.hu/esemeny/mobilitas-es-szallitmanyozas-nemzetkozi-uzletember-talalkozo/
LOCATION:Online
ATTACH;FMTTYPE=image/png:https://pbkik.hu/wp-content/uploads/2021/05/mobility-and-transport.png
END:VEVENT
BEGIN:VEVENT
DTSTART;VALUE=DATE:20210531
DTEND;VALUE=DATE:20210612
DTSTAMP:20260419T181903
CREATED:20210204T114437Z
LAST-MODIFIED:20210204T185830Z
UID:10001872-1622419200-1623455999@pbkik.hu
SUMMARY:Get ready for Japan - Üzleti lehetőségek és exportképzés
DESCRIPTION:Az EU Japan-Centre kéthetes online képzést és üzleti partnertalálkozót szervez\, ahol a vállalkozások első kézből ismerhetik meg a japán üzleti környezet és kultúra sajátosságait online workshopok\, céglátogatások és előadások során. \n \n  \n  \n  \n  \n  \nMiért érdemes jelentkezni? \n\n\n\n\n\n\n\nmegismerhetik és elsajátíthatják a japán üzleti környezet\, az üzleti gyakorlatok és a japán stílusú személyes kommunikáció alapvető elemeit\,\núj üzleti kapcsolatokat alakíthatnak ki\,\nmegismerhetik a japán társaságokon belüli döntéshozatali folyamatot\, növelve a sikeres üzleti megállapodások számát\,\nmegerősíthetik üzleti kapcsolatukat a jelenlegi japán ügyfelekkel\, és megkönnyíteni a kapcsolatokat a jövőbeli partnerekkel\n\n\n\n\n\n\n\nJelentkezés feltételei; a résztvevő \n\n\n\n\n\n\n\nEU-tagállam állampolgára\,\nvállalkozása/munkaadója az EU-tagállamok területén található\,\nvállalkozás tulajdonosa  > 50% EU vagy COSME partnerországban található\,\nangol nyelvtudással rendelkezik\,\nvállalkozásnál menedzseri\, vezetői pozíciót tölt be stb.\nvállalkozásnak legyen Japánban történő piacralépésre\, terjeszkedésre vonatkozó stratégiája.\n\n\n\n\n\n\n\nJelentkezési határidő: 2021. április 15. \nKépzés időpontja: 2020. május 31 – június 11. \nRészletes információk és jelentkezés ITT.\n 
URL:https://pbkik.hu/esemeny/get-ready-for-japan-uzleti-lehetosegek-es-exportkepzes/
LOCATION:Online
ATTACH;FMTTYPE=image/png:https://pbkik.hu/wp-content/uploads/2019/11/eu-japan-e1574411620490.png
END:VEVENT
BEGIN:VEVENT
DTSTART;TZID=Europe/Helsinki:20210531T090000
DTEND;TZID=Europe/Helsinki:20210601T180000
DTSTAMP:20260419T181903
CREATED:20210428T060524Z
LAST-MODIFIED:20210428T062618Z
UID:10001923-1622451600-1622570400@pbkik.hu
SUMMARY:Horizon Europe pályázati partnerkereső rendezvény
DESCRIPTION:Személyre szabott\, virtuális matchmaking találkozót szerveznek a Horizon Europe pályázati kiírásaihoz azzal a céllal\, hogy segítsék az állami szereplőket\, a kutatóközösségeket\, a vállalkozásokat és a civil szervezeteket a megfelelő partner megtalálásában. A rendezvényt két részben tartják meg 2021. május 31. – június 1. illetve 2021. június 3-4. között. \nAz esemény a Horizon Europe 5. és 6. témacsoportjának lehetőségeire összpontosít\, különös figyelmet fordítva az ágazatok közötti együttműködést hangsúlyozó pályázati felhívásokra és példákra. A szervezők célja\, hogy segítsék a résztvevőket olyan regionális innovációs ökoszisztémák kiépítésében\, amelyek célja az európai kihívások megoldása a következő tematikus keretek között: \n\n5. témacsoport – Éghajlat\, energia és mobilitás\n6. témacsoport – Élelmiszer\, biogazdaság\, természeti erőforrások\, mezőgazdaság és környezetvédelem\n\nA rendezvény angol nyelvű! \nTájékoztató \nTovábbi információ az online esemény honlapján található: errin.eu/events/horizon-europe-matchmaking-event-clusters-5-and-6
URL:https://pbkik.hu/esemeny/horizon-europe-palyazati-partnerkereso-rendezveny/2021-05-31/
LOCATION:Online
ATTACH;FMTTYPE=image/jpeg:https://pbkik.hu/wp-content/uploads/2021/04/Horizon-Europe-Matchmaking-event-Clusters-5-and-6.jpg
END:VEVENT
BEGIN:VEVENT
DTSTART;VALUE=DATE:20210601
DTEND;VALUE=DATE:20210605
DTSTAMP:20260419T181903
CREATED:20210401T053323Z
LAST-MODIFIED:20210401T054730Z
UID:10002288-1622505600-1622851199@pbkik.hu
SUMMARY:Textile Connect 2021 - nemzetközi üzletember találkozó
DESCRIPTION:Idén is megrendezésre kerül online formában a svéd Enterprise Europe Network iroda szervezésében a textilipar egyik legnagyobb nemzetközi üzletember találkozója. \n \nA rendezvény lehetőséget biztosít a gyártási partnereket kereső vállalkozókat / tervezőket összekapcsolására a textil- és cipőipar gyártókkal szolgáltatókkal és beszállítókkal. \nMiért éri meg? \n\nmegbízható üzleti partnerekkel veheti fel a kapcsolatot egyszerű\, hatékony és költségkímélő módon\nszélesítheti\, tovább erősítheti kapcsolati hálóját\nszakmai tapasztalatok – tudásmegosztás nemzetközi szereplőkkel\npiaci trendek és technológiák megismerése\n\nA négynapos virtuális üzletember találkozó előzetes angol nyelvű regisztráció alapján szerveződik\, a részvétel díjmentes\, de előzetes regisztrációhoz kötött. A kétoldalú találkozók 20 perc időtartamban a B2Match platformon keresztül fognak megvalósulni. \nREGISZTRÁCIÓ\n 
URL:https://pbkik.hu/esemeny/textile-connect-2021-nemzetkozi-uzletember-talalkozo/
LOCATION:Online
ATTACH;FMTTYPE=image/jpeg:https://pbkik.hu/wp-content/uploads/2020/04/logo-textile-connect.jpg
END:VEVENT
BEGIN:VEVENT
DTSTART;TZID=Europe/Helsinki:20210601T093000
DTEND;TZID=Europe/Helsinki:20210602T123000
DTSTAMP:20260419T181903
CREATED:20210409T112314Z
LAST-MODIFIED:20210409T120624Z
UID:10002301-1622539800-1622637000@pbkik.hu
SUMMARY:Bankgaranciákról kezdőknek - képzés angol nyelven
DESCRIPTION:Az International Chamber of Commerce Austria angol nyelvű\, online képzést szervez bankgaranciák témában. \n \nA projektekkel kapcsolatos bankgaranciák\, egy másik országban történő termékértékesítés és szolgáltatásnyújtás a nemzetközi kereskedelem fontos eszköze\, de a megfelelő és pontos bankgaranciák kidolgozása és tárgyalása egy külföldi országban összetett és megterhelő feladat lehet. \n  \nCélcsoport: \n\nExportőrök\, Importőrök\, Kereskedelmi társaságok\nKereskedelmi pénzügyi vezetők\, kockázatkezelők\nKereskedelmi pénzügyi értékesítési és háttérirodai személyzet\nÉpítőipari vállalatok\nGépipari telephely kivitelezője\nMérnöki irodák\n\n  \nA képzés online\, angol nyelven valósul meg. \nA képzés helyszíne Zoom platform. \nA képzés díja: 420 € + VAT \n  \nTovábbi információ: ICC Austria – Bank Guarantees for Beginners Online June 2021 \n  \nREGISZTRÁCIÓ
URL:https://pbkik.hu/esemeny/bankgaranciakrol-kezdoknek-kepzes-angol-nyelven/
LOCATION:Online
END:VEVENT
BEGIN:VEVENT
DTSTART;TZID=Europe/Helsinki:20210601T103000
DTEND;TZID=Europe/Helsinki:20210601T113000
DTSTAMP:20260419T181903
CREATED:20210528T064419Z
LAST-MODIFIED:20210528T071110Z
UID:10001955-1622543400-1622547000@pbkik.hu
SUMMARY:Magán- és kockázati tőkebefektetések - lehetőségek KKV-knak és start-upoknak Japánban 
DESCRIPTION:Az EU-Japán KKV Központ online tájékoztató rendezvényt szervez\, melyen az EU-s vállalkozások megismerhetik a japán befektetői csoportokat és finanszírozási opciókat\, felmérve a piacralépési lehetőségeiket. \n \nA részvételhez először regisztrálnia kell a következő címen: \nhttp://www.eubusinessinjapan.eu/user/register \nMiután megerősíti regisztrációját a kapott e-mailben\, be tud jelentkezni a rendezvényre: \nIdőpont: 2021. június 01.  10.30 \nRegisztráció: Magán- és kockázati tőkebefektetések – lehetőségek KKV-knak és start-upoknak Japánban  \nTémák: \n\nA startupok és a kockázati tőke szerepe\nA japán kockázatitőke-piac jellemzői\nA japán közösségi finanszírozás jellemzői\nA kockázati tőke és a magántőke legfontosabb szereplői
URL:https://pbkik.hu/esemeny/magan-es-kockazati-tokebefektetesek-lehetosegek-kkv-knak-es-start-upoknak-japanban/
LOCATION:Online
END:VEVENT
END:VCALENDAR