BEGIN:VCALENDAR
VERSION:2.0
PRODID:-//Pécs-Baranyai Kereskedelmi és Iparkamara - ECPv6.15.20//NONSGML v1.0//EN
CALSCALE:GREGORIAN
METHOD:PUBLISH
X-WR-CALNAME:Pécs-Baranyai Kereskedelmi és Iparkamara
X-ORIGINAL-URL:https://pbkik.hu
X-WR-CALDESC:Események Pécs-Baranyai Kereskedelmi és Iparkamara
REFRESH-INTERVAL;VALUE=DURATION:PT1H
X-Robots-Tag:noindex
X-PUBLISHED-TTL:PT1H
BEGIN:VTIMEZONE
TZID:Europe/Helsinki
BEGIN:DAYLIGHT
TZOFFSETFROM:+0200
TZOFFSETTO:+0300
TZNAME:EEST
DTSTART:20200329T010000
END:DAYLIGHT
BEGIN:STANDARD
TZOFFSETFROM:+0300
TZOFFSETTO:+0200
TZNAME:EET
DTSTART:20201025T010000
END:STANDARD
BEGIN:DAYLIGHT
TZOFFSETFROM:+0200
TZOFFSETTO:+0300
TZNAME:EEST
DTSTART:20210328T010000
END:DAYLIGHT
BEGIN:STANDARD
TZOFFSETFROM:+0300
TZOFFSETTO:+0200
TZNAME:EET
DTSTART:20211031T010000
END:STANDARD
BEGIN:DAYLIGHT
TZOFFSETFROM:+0200
TZOFFSETTO:+0300
TZNAME:EEST
DTSTART:20220327T010000
END:DAYLIGHT
BEGIN:STANDARD
TZOFFSETFROM:+0300
TZOFFSETTO:+0200
TZNAME:EET
DTSTART:20221030T010000
END:STANDARD
END:VTIMEZONE
BEGIN:VEVENT
DTSTART;VALUE=DATE:20210506
DTEND;VALUE=DATE:20220101
DTSTAMP:20260419T203435
CREATED:20210506T113600Z
LAST-MODIFIED:20210506T115237Z
UID:10002335-1620259200-1640995199@pbkik.hu
SUMMARY:ENRICH in LAC - Kapcsolatépítő platform Latin-Amerikában
DESCRIPTION:Az RCISD Regionális Tudásközpont által létrehozott platform az ENRICH in LAC (Latin America and Caribbean)\, az innováció területén dolgozó szervezetek és vállalkozások kapcsolatépítését segíti elő. \nA 2017-ben – Európai Unió HORIZON 2020 program által finanszírozott CEBRABIC projekt keretében – létrejött ENRICH in Brazil Innovációs Központ 2021 áprilisától ENRICH in LAC (Latin America and Caribbean) néven működik tovább\, Brazília mellett Argentína\, Chile\, Kolumbia és Uruguay innovációs ökoszisztémáinak legmeghatározóbb szereplőit összekapcsolva. Az egyesületi formában működő központ alapító tagja az RCISD Regionális Tudásközpont Kft. Az ENRICH in LAC központhoz 2021-ben csatlakozott Magyarország Sao Paolo-i konzulátusa is. \nA tudásmegosztó és hálózatépítő szolgáltatásai keretében a tagok számára a dedikált b2match platformon keresztül lehetőséget biztosít kapcsolatépítésére\, tevékenységeik hirdetésére\, valamint online események megvalósítására. Az ENRICH központ hatékonyan segítheti az innovációs területen működő szervezetek tudományos és üzleti jellegű törekvéseit a célországokban. \nA kezdeményezés európai kutatókat és innovációs szakembereket\, kutatóintézeteket\, start-upokat\, valamint kis- és középvállalkozásokat támogat a latin-amerikai szereplőkkel történő kapcsolatépítésben. Szolgáltatási portfóliója ötvözi a tudásmegosztást (tanulmányok készítése a tagok igényeihez igazodva)\, a hálózat- és kapacitásépítést (soft landing hub-ok működtetése\, regionális partnerek és támogatási lehetőségek feltérképezése)\, a képzések biztosítását (webinariumok) és a különböző networking szolgáltatásokat (innovációs kihívások\, b2match platform). \nAz ENRICH in LAC központ európai és latin-amerikai szervezetek csatlakozását várja. \nA szervezet a következő prioritás-területeken megvalósuló tevékenységeket kiemelten kezeli: egészségügy\, digitális átállás\, biomassza alapú gazdaság\, megújuló energia és fenntartható urbanizáció. \nTovábbi információ: ENRICH in LAC \nAz online üzleti partnerkereső platform elérhető itt: europe-lac.b2match.io \n 
URL:https://pbkik.hu/esemeny/enrich-in-lac-kapcsolatepito-platform-latin-amerikaban/
LOCATION:Online
ATTACH;FMTTYPE=image/png:https://pbkik.hu/wp-content/uploads/2021/05/8381594386-31137a65d6.png
END:VEVENT
BEGIN:VEVENT
DTSTART;TZID=Europe/Helsinki:20210622T100000
DTEND;TZID=Europe/Helsinki:20210624T170000
DTSTAMP:20260419T203435
CREATED:20210604T064732Z
LAST-MODIFIED:20210604T074712Z
UID:10002380-1624356000-1624554000@pbkik.hu
SUMMARY:Energiahatékonyság az iparban - online konferencia és kooperációs megbeszélések
DESCRIPTION:A Német-Magyar Ipari és Kereskedelmi Kamara (DUIHK) szervezésében 2021. június 22-én kerül megrendezésre az „Energiahatékonyság az iparban Németországban és Magyarországon – fókuszban az automatizálás és a digitalizáció” című online konferencia. \nA rendezvény 2021. június 23-án és 24-én online kooperációs megbeszélésekkel egészül ki a konferencián előadó német vállalatok részvételével\, amelyek üzleti kapcsolatokat keresnek Magyarországon. \n\nPROGRAM\n2021. június 22. – Online konferencia  \n\nA rendezvényen német és magyar szakemberek számolnak be az ipari energiahatékonyság jelenlegi helyzetéről Magyarországon és Németországban\, fókuszba állítva az automatizációt és digitalizácót.\nEmellett olyan német vállalatok mutatják be innovatív termékeiket\, megoldásaikat\, amelyek üzleti kapcsolatokat\, együttműködő partnereket keresnek Magyarországon.\n\nProgram letöltése IDE kattintva érhető el. \n  \n2021. június 23-24. – Online kooperációs megbeszélések \nA konferenciát követő két napon lehetőség nyílik megbeszélések folytatására a német vállalatokkal. Azon magyar érdeklődők számára\, akik érdeklődnek az alábbi német cégekkel való együttműködés iránt\, egyéni online tárgyalásokat szervezünk: \n\nEngelmann Sensor GmbH – elektronikus hő-\, hideg- és vízmennyiség fogyasztást mérő műszerek\, rádió- és kommunikációs rendszerek\nINDYON GmbH – Innovatív intralogisztikai megoldások\, árukövetés és digitalizálás a raktározásban és a gyártásban\nJanitza electronics GmbH – multifunkcionális energiamérő eszközök\, energia monitorig és villamos hálózati mérések\nJ. Schneider Elektrotechnik GmbH – transzformátorok és egyenáramú szünetmentes áramforrások\nPostberg+Co. GmbH – sűrítettlevegő-rendszer optimalizálása\nWeihe GmbH – ORC energiahatékonysági rendszerek\, füstgáz hőhasznosítás\n\nA vállalatok részletes profilja IDE kattintva olvasható. \nA megbeszélésekhez a DUIHK igény esetén tolmácsot biztosít. \n  \nRészvételi feltételek: \n\naz online rendezvényen\, valamint a tárgyalásokon való részvétel az érdeklődők számára ingyenes\, de előzetes regisztrációhoz kötött\,\na rendezvény linkjét a konferencia előtt néhány nappal küldik meg az addig beregisztrált résztvevőknek\,\na német előadások szinkrontolmácsolással hangzanak el\,\na tárgyalásokhoz szükség esetén díjmentesen tolmácsot biztosítanak\,\njelentkezés az online jelentkezési lap kitöltésével lehetséges.\n\nJelentkezési határidő \n\nEgyéni tárgyalásokra: 2021. június 10.\nKonferenciára: 2021. június 17.\n\nREGISZTRÁCIÓ
URL:https://pbkik.hu/esemeny/energiahatekonysag-az-iparban-online-konferencia-es-kooperacios-megbeszelesek/
LOCATION:Online – Zoom
END:VEVENT
BEGIN:VEVENT
DTSTART;VALUE=DATE:20210623
DTEND;VALUE=DATE:20210625
DTSTAMP:20260419T203435
CREATED:20210622T080335Z
LAST-MODIFIED:20210622T081828Z
UID:10002401-1624406400-1624579199@pbkik.hu
SUMMARY:H2020 - Információs Napok
DESCRIPTION:A H2020 keretprogram pályázati lehetőségeinek bemutatására és projektpartnerségek kialakítására online tájékoztató tájékoztató rendezvénysorozatot szervez. Várják minden érdeklődő vállalkozás\, egyetem\, kutatóintézet részvételét! \n \nAz Európai Bizottság elfogadta a Horizont Európa program 2021–2022 közötti időszakra vonatkozó fő munkaprogramját 14\,7 milliárd eurós összköltségvetéssel. A támogatások elősegítik a zöld és a digitális átmenet felgyorsítását\, hozzájárulnak a koronavírus-járvány után fenntartható helyreállítási folyamatokhoz és erősítik az EU ellenálló képességét a jövőbeli válságokkal szemben.\n\nAz információs napokra az Európai Bizottság szervezésében kerül sor online közvetítés során. A felhívásokkal kapcsolatos kérdések akár előzetesen is feltehetők a rendezvény honlapján. \nEuropean Research and Innovation Days 
URL:https://pbkik.hu/esemeny/h2020-informacios-napok/
LOCATION:Online
END:VEVENT
END:VCALENDAR