BEGIN:VCALENDAR
VERSION:2.0
PRODID:-//Pécs-Baranyai Kereskedelmi és Iparkamara - ECPv6.15.20//NONSGML v1.0//EN
CALSCALE:GREGORIAN
METHOD:PUBLISH
X-WR-CALNAME:Pécs-Baranyai Kereskedelmi és Iparkamara
X-ORIGINAL-URL:https://pbkik.hu
X-WR-CALDESC:Események Pécs-Baranyai Kereskedelmi és Iparkamara
REFRESH-INTERVAL;VALUE=DURATION:PT1H
X-Robots-Tag:noindex
X-PUBLISHED-TTL:PT1H
BEGIN:VTIMEZONE
TZID:Europe/Budapest
BEGIN:DAYLIGHT
TZOFFSETFROM:+0100
TZOFFSETTO:+0200
TZNAME:CEST
DTSTART:20220327T010000
END:DAYLIGHT
BEGIN:STANDARD
TZOFFSETFROM:+0200
TZOFFSETTO:+0100
TZNAME:CET
DTSTART:20221030T010000
END:STANDARD
BEGIN:DAYLIGHT
TZOFFSETFROM:+0100
TZOFFSETTO:+0200
TZNAME:CEST
DTSTART:20230326T010000
END:DAYLIGHT
BEGIN:STANDARD
TZOFFSETFROM:+0200
TZOFFSETTO:+0100
TZNAME:CET
DTSTART:20231029T010000
END:STANDARD
BEGIN:DAYLIGHT
TZOFFSETFROM:+0100
TZOFFSETTO:+0200
TZNAME:CEST
DTSTART:20240331T010000
END:DAYLIGHT
BEGIN:STANDARD
TZOFFSETFROM:+0200
TZOFFSETTO:+0100
TZNAME:CET
DTSTART:20241027T010000
END:STANDARD
END:VTIMEZONE
BEGIN:VEVENT
DTSTART;VALUE=DATE:20230101
DTEND;VALUE=DATE:20240101
DTSTAMP:20260420T051153
CREATED:20230913T110446Z
LAST-MODIFIED:20230913T112728Z
UID:10002836-1672531200-1704067199@pbkik.hu
SUMMARY:Találjon projektpartnert a Clean Energy Transition Partnerség (CETP) következő felhívásához!
DESCRIPTION:A Clean Energy Transition Partnerség (CETP) a Horizont Európa keretprogram közös finanszírozású partnerségi konstrukciója\, melynek keretében 2022 és 2027 között minden évben pályázati felhívások kerülnek meghirdetésre. Az érdeklődőknek lehetősége van beregisztrálni az Enterprise Europe Networkkal együttműködésben kialakított partnerkereső oldalán\, melyen már közel 50 ország\, több\, mint 1 800 résztvevőjével vehetik fel a kapcsolatot! \n \nA kétlépcsős pályázat első körös következő felhívása 2023. szeptember 20-án nyílik meg\, melynek a beadási határideje 2023. november 22.  \nCETP online partnerkereső platform – REGISZTRÁCIÓ\nA CETP célja\, hogy elősegítse a tiszta energiára való átállást Európában\, valamint\, hogy koordinált módon összefogja a nemzeti és regionális KFI finanszírozásokat az átálláshoz szükséges technológiák és rendszermegoldások széles skálája mentén. A tiszta energiára való átállás az ipar\, az állami szervezetek\, a kutatók és a polgárok közös erőfeszítését igényli. \nA CET Partnerség 2023-as pályázati felhívása a második társfinanszírozású felhívás\, amelyet a tervek szerint 31 ország fog finanszírozni. A különböző témák és a KFI-folyamat különböző stációinak lefedése érdekében a felhívás 12 pályázati modulra tagolódik\, amelyek különböző energetikai technológiákra és/vagy rendszerekre\, valamint a kutatás- és innovációorientált megközelítésekre irányulnak különböző technológiai készültségi szinteken (TRL).  \n\n\n\n\n\n\n\n\n\nEgyenáramú (DC) technológiák a villamosenergia-hálózatok számára \nAz energiarendszer rugalmassága: megújulóenergia-termelés\, tárolás és rendszerintegráció \nEnergiatermelési célú fejlett megújulóenergia-technológiák \n\n\n\n\n\n\n\n\n\n\n\n\n\n\n\n\n\n\nSzén-dioxid-leválasztás\, -hasznosítás és -tárolás (CCUS) \nHidrogén és megújuló energiahordozók \nHűtési és fűtési technológiák \nGeotermikus energiát hasznosító technológiák \nIntegrált regionális energetikai rendszerek \n\n\n\n\n\n\n\n\n\n\n\n\n\n\n\n\n\n\nIntegrált ipari energetikai rendszerek \nTiszta energia integrálása az épített környezetbe \n\n\n\n\n\n\n\n\n\nA partnerkereső felületre az alábbi linken keresztül lehet regisztrálni:  https://clean-energy-transition-partnership-2023.cetp.b2match.io/  \nTovábbi információ a felhívásról: https://pbkik.hu/2023/09/13/hirek/fooldal/hamarosan-nyilik-a-clean-energy-transition-partnerseg-cetp-masodik-felhivasa/ 
URL:https://pbkik.hu/esemeny/talaljon-projektpartnert-a-clean-energy-transition-partnerseg-cetp-kovetkezo-felhivasahoz/
LOCATION:Online
ATTACH;FMTTYPE=image/png:https://pbkik.hu/wp-content/uploads/2023/09/CET_P.png
END:VEVENT
BEGIN:VEVENT
DTSTART;VALUE=DATE:20231101
DTEND;VALUE=DATE:20231201
DTSTAMP:20260420T051153
CREATED:20231030T123755Z
LAST-MODIFIED:20240203T070107Z
UID:10002394-1698796800-1701388799@pbkik.hu
SUMMARY:MEDICA Healthcare Brokerage Event 2023
DESCRIPTION:Az egészségipar első számú nemzetközi találkozóhelye\, a MEDICA 2023 (november 13-16.) alkalmából\, az Enterprise Europe Network (EEN) nemzetközi üzletember találkozót szervez\, melynek immár több mint 20 éves hagyománya van. Idén ismét lehetőség lesz személyes találkozók lebonyolítására is a MEDICA 2023 teljes időtartama alatt. Azok számára\, akik nem tudnak utazni vagy helyszíni találkozókat foglalni\, 2023.  november 30-ig online tárgyalási lehetőség is biztosított. Emellett webináriumok\, előadások\, pitchek és egyéb tartalmak is várják a résztvevőket\, akárcsak 2022-ben. \n \n  \nÜzletember találkozó \nonline: 2023. november 1-30. \nszemélyesen: 2023. november 13-16. Helyszín: Messe Düsseldorf\, Hall 6\, First Floor Gallery\, Stand A6.1 \nWebináriumok\, szakértői előadások\, workshopok az alábbi témakörökben: \n\nTextilanyag- és technológiai innovációk az orvosi termékekhez\nTelemedicina és távgondozás – mi vár ránk?\nPrototípusok és 3D nyomtatás az orvostudományban\n\n  \nMiért érdemes részt venni: \n\nKezdeményezzen új üzleti kapcsolatokat.\nTalálkozzon innovatív technológiák szolgáltatóival egész Európából és Európán kívülről.\nLépjen kapcsolatba potenciális partnerekkel a jövőbeli együttműködés érdekében.\nTeremtsen határokon átnyúló\, hosszú távú üzleti kapcsolatokat.\nTaláljon új partnereket kutatási projektekhez.\n\n  \nRegisztrációs díjak \n\n150 euró – vállalkozások\, szövetségek\, kutatóintézetek stb.\n75 euró – startupok (EEN\, 2020. január 1-jén\, vagy azt követően alapítva)\n0 euró – Állami vásárló / kórházak / idősotthonok\n\nMinden résztvevő\, aki tájékoztatja a szervezőket a B2B-nek köszönhetően született együttműködésről és ezt megerősíti írásban\, visszakapja a regisztrációs díjat. \n  \nTovábbi információ és regisztráció
URL:https://pbkik.hu/esemeny/medica-healthcare-brokerage-event-2023/
LOCATION:Online\, Düsseldorf\, Németország
END:VEVENT
BEGIN:VEVENT
DTSTART;VALUE=DATE:20231108
DTEND;VALUE=DATE:20231123
DTSTAMP:20260420T051153
CREATED:20231103T061820Z
LAST-MODIFIED:20231103T063037Z
UID:10002400-1699401600-1700697599@pbkik.hu
SUMMARY:HORECA\, GASTROFOOD\, ENOEXPO 2023 - nemzetközi üzletember találkozó
DESCRIPTION:A vendéglátást\, szállodaipart és borászati szektort átölelő szakvásárok társrendezvényeként az Enterprise Europe Network 2023. november 8-22. között online üzletember találkozót szervez. \n \nA vásárszervező Kraków EXPO évről évre bemutatkozási lehetőséget biztosít a világ minden részéből származó élelmiszereknek\, italoknak és boroknak\, éppúgy\, mint a szállodák\, szabadidős létesítmények és vendéglátóhelyek különféle felszereléseinek. Európa ezen részén ez az egyetlen olyan rendezvény\, amely lehetővé teszi a bortermelők és importőrök szervezett üzleti találkozóját a HoReCa szektor képviselőivel. \nFőbb szektorok: \n\nborászat\nalkoholos italok\nélelmiszerek és italok\nüdítőitalok\, kávé\, tea\nédességek és cukrászati termékek\ntejtermékek\nzöldség-gyümölcs\, diófélék (friss\, szárított\, tartósított)\néttermi\, bár\, pizzéria\, kávézó\, cukrászdai berendezések\nszállodák\, panziók és szabadidős létesítmények berendezései\n\nAz üzleti találkozón való részvétel ingyenes\, de előzetes regisztrációhoz kötött. Jelentkezési határidő: 2023. november 6. \nREGISZTRÁCIÓ
URL:https://pbkik.hu/esemeny/horeca-gastrofood-enoexpo-2023-nemzetkozi-uzletember-talalkozo/
LOCATION:Online
END:VEVENT
BEGIN:VEVENT
DTSTART;VALUE=DATE:20231114
DTEND;VALUE=DATE:20231117
DTSTAMP:20260420T051153
CREATED:20230822T083817Z
LAST-MODIFIED:20230823T090856Z
UID:10002835-1699920000-1700179199@pbkik.hu
SUMMARY:Subcontractor Connect 2023
DESCRIPTION:Elmia Subcontractor Connect 2023 november 14-16. – Találja meg ipari üzleti partnerét\, alvállalkozóját a rendezvényen! Ez az üzletember találkozó kiváló alkalom a beszerzők\, a K+F szakemberek és a beszállítók számára\, akik külföldi üzleti partnereket keresnek. \nAz előre lefoglalt és leszervezett B2B találkozókon való részvételre lesz lehetőség online és személyesen is a svédországi Jönköpingben megrendezésre kerülő Elmia alvállalkozói vásáron. \nA B2B rendezvényen; \n\nTalálja meg az igényeinek megfelelő beszállítókat/vásárlókat!\nTárgyaljon előre lefoglalt B2B-találkozók során potenciális üzleti partnerekkel\, akik például az autó-\, építő-\, berendezés-\, teherautó/busz-\, orvosi\, bútor- és egyéb általános iparban jártasak.\nÚj technológiák és innovatív megoldások megvitatása.\n\nAz Enterprise Europe Network és az Elmia Subcontractor támogatást nyújt a rendezvény előtt\, alatt és után is a résztvevők számára. \nTovábbi információ az alábbi linken: \nREGISZTRÁCIÓ\n  \n 
URL:https://pbkik.hu/esemeny/subcontractor-connect-2023/
LOCATION:Hibrid
ATTACH;FMTTYPE=image/jpeg:https://pbkik.hu/wp-content/uploads/2023/08/elmia-subcontractor-2023.jpg
END:VEVENT
BEGIN:VEVENT
DTSTART;VALUE=DATE:20231115
DTEND;VALUE=DATE:20231118
DTSTAMP:20260420T051153
CREATED:20230705T083818Z
LAST-MODIFIED:20230705T084450Z
UID:10002816-1700006400-1700265599@pbkik.hu
SUMMARY:SICUREZZA - biztonságtechnikai és tűzvédelmi szakkiállítás
DESCRIPTION:A Sicurezza biztonsági és tűzvédelmi szakkiállítás fő témái az idei évben\, a digitalizáció\, az integrált rendszerek\, valamint az egyéni megoldások. Az eseményen a tavalyi évben 250 kiállító\, valamint közel 70 országból több min 20 ezer látogató vett részt. \nTovábbi információk a kiállítókról:https://expoplaza-sicurezza.fieramilano.it/it/espositori \nKöltségek: \n\nKiállítói díj: \n\n8 m2stand\, berendezve\, regisztrációs díjjal: 2.300 € + áfa\n12m2 stand\, berendezve\, regisztrációs díjjal: 4.809 €+ áfa\n\n\nRészvételi díj látogatóként: 8 €\n\nAmennyiben a lehetőség felkeltette érdeklődésüket\, kérjük\, hogy további részletek\, valamint a részvétel megvalósítása kapcsán vegyék fel a kapcsolatot a milánói főkonzulátussal az alábbi elérhetőségek bármelyikén: \n\ntelefon: 0039 379 278 4523 (Paschek Dániel külgazdasági attasé)\ne-mail: mil@mfa.gov.hu\, daniel.paschek@mfa.gov.hu\n\nTovábbi információ: www.sicurezza.it
URL:https://pbkik.hu/esemeny/sicurezza-biztonsagtechnikai-es-tuzvedelmi-szakkiallitas/
LOCATION:Fiera Milano\, Strada Statale Sempione\, 28.\, Rho\, 20017\, Olaszország
ATTACH;FMTTYPE=image/jpeg:https://pbkik.hu/wp-content/uploads/2023/07/sicurezza.jpg
END:VEVENT
BEGIN:VEVENT
DTSTART;VALUE=DATE:20231115
DTEND;VALUE=DATE:20231118
DTSTAMP:20260420T051153
CREATED:20230705T084620Z
LAST-MODIFIED:20230705T085514Z
UID:10002817-1700006400-1700265599@pbkik.hu
SUMMARY:SMART BUILDING EXPO - technológiai integrációs vásár
DESCRIPTION:A kétévente megrendezett SMART BUILDING EXPO célja\, hogy bemutatkozási lehetőséget teremtsen az egyre inkább automatizált és összekapcsolt\, többfeladatos otthonok\, munkahelyek és vásárok jelenét és jövőjét jelentő technológiák\, valamint az azokat fejlesztő és kivitelező vállalkozások számára. Az eseményen komoly szerepet kap a mesterséges intelligencia energiahatékonyságra gyakorolt hatása is. \n\n  \nVásár résztvevői 2021-ben: https://smartbuildingexpo.it/en/exhibitors/ \nKöltségek \n\nKiállítói díj: \n\n8 m2stand\, berendezve\, regisztrációs díjjal: 2.300 € + áfa\n12m2 stand\, berendezve\, regisztrációs díjjal: 4.809 €+ áfa\n\n\nRészvételi díj látogatóként: 8 €\n\nAmennyiben a lehetőség felkeltette érdeklődésüket\, kérjük\, hogy további részletek\, valamint a részvétel megvalósítása kapcsán vegyék fel a kapcsolatot a milánói főkonzulátussal az alábbi elérhetőségek bármelyikén: \n\ntelefon: 0039 379 278 4523 (Paschek Dániel külgazdasági attasé)\ne-mail: mil@mfa.gov.hu\, daniel.paschek@mfa.gov.hu\n\nTovábbi információ: smartbuildingexpo.it
URL:https://pbkik.hu/esemeny/smart-building-expo-technologiai-integracios-vasar/
LOCATION:Fiera Milano\, Strada Statale Sempione\, 28.\, Rho\, 20017\, Olaszország
ATTACH;FMTTYPE=image/jpeg:https://pbkik.hu/wp-content/uploads/2023/07/smart-building-expo.jpg
END:VEVENT
BEGIN:VEVENT
DTSTART;TZID=Europe/Budapest:20231115T140000
DTEND;TZID=Europe/Budapest:20231115T160000
DTSTAMP:20260420T051153
CREATED:20231108T103820Z
LAST-MODIFIED:20231108T130539Z
UID:10002861-1700056800-1700064000@pbkik.hu
SUMMARY:Szinergiák & duális felhasználás - Policy Workshop
DESCRIPTION:A Horizont Európa európai keretprogram időközi értékelő tanulmányának részeként\, amely a digitális és ipari átmenethez hozzájáruló tevékenységekre összpontosít\, a Technopolis Csoport szakpolitikai workshopok sorozatát szervezi a program átfogó kérdéseiről. \nA workshop célja\, hogy feltárja és azonosítsa azokat a tényezőket\, amelyek elősegítik vagy akadályozzák a szinergiák kialakítását és fejlesztését más uniós programokkal és kezdeményezésekkel\, valamint nemzeti/regionális szinten. Különös hangsúlyt kap a kettős felhasználás\, amelynek célja\, hogy megértsük\, melyek azok a csatornák\, amelyek a legjobban elősegíthetik a kutatási eredmények széles körű felhasználását a különböző uniós programokban. \nTovábbi információ és regisztráció \nForrás: NKFIH
URL:https://pbkik.hu/esemeny/policy-workshop-on-synergies-dual-use/
LOCATION:M. Teams – online\, Magyarország
END:VEVENT
END:VCALENDAR