BEGIN:VCALENDAR
VERSION:2.0
PRODID:-//Pécs-Baranyai Kereskedelmi és Iparkamara - ECPv6.15.20//NONSGML v1.0//EN
CALSCALE:GREGORIAN
METHOD:PUBLISH
X-ORIGINAL-URL:https://pbkik.hu
X-WR-CALDESC:Események Pécs-Baranyai Kereskedelmi és Iparkamara
REFRESH-INTERVAL;VALUE=DURATION:PT1H
X-Robots-Tag:noindex
X-PUBLISHED-TTL:PT1H
BEGIN:VTIMEZONE
TZID:Europe/Helsinki
BEGIN:DAYLIGHT
TZOFFSETFROM:+0200
TZOFFSETTO:+0300
TZNAME:EEST
DTSTART:20220327T010000
END:DAYLIGHT
BEGIN:STANDARD
TZOFFSETFROM:+0300
TZOFFSETTO:+0200
TZNAME:EET
DTSTART:20221030T010000
END:STANDARD
BEGIN:DAYLIGHT
TZOFFSETFROM:+0200
TZOFFSETTO:+0300
TZNAME:EEST
DTSTART:20230326T010000
END:DAYLIGHT
BEGIN:STANDARD
TZOFFSETFROM:+0300
TZOFFSETTO:+0200
TZNAME:EET
DTSTART:20231029T010000
END:STANDARD
BEGIN:DAYLIGHT
TZOFFSETFROM:+0200
TZOFFSETTO:+0300
TZNAME:EEST
DTSTART:20240331T010000
END:DAYLIGHT
BEGIN:STANDARD
TZOFFSETFROM:+0300
TZOFFSETTO:+0200
TZNAME:EET
DTSTART:20241027T010000
END:STANDARD
BEGIN:DAYLIGHT
TZOFFSETFROM:+0200
TZOFFSETTO:+0300
TZNAME:EEST
DTSTART:20250330T010000
END:DAYLIGHT
BEGIN:STANDARD
TZOFFSETFROM:+0300
TZOFFSETTO:+0200
TZNAME:EET
DTSTART:20251026T010000
END:STANDARD
END:VTIMEZONE
BEGIN:VTIMEZONE
TZID:Europe/Budapest
BEGIN:DAYLIGHT
TZOFFSETFROM:+0100
TZOFFSETTO:+0200
TZNAME:CEST
DTSTART:20230326T010000
END:DAYLIGHT
BEGIN:STANDARD
TZOFFSETFROM:+0200
TZOFFSETTO:+0100
TZNAME:CET
DTSTART:20231029T010000
END:STANDARD
BEGIN:DAYLIGHT
TZOFFSETFROM:+0100
TZOFFSETTO:+0200
TZNAME:CEST
DTSTART:20240331T010000
END:DAYLIGHT
BEGIN:STANDARD
TZOFFSETFROM:+0200
TZOFFSETTO:+0100
TZNAME:CET
DTSTART:20241027T010000
END:STANDARD
BEGIN:DAYLIGHT
TZOFFSETFROM:+0100
TZOFFSETTO:+0200
TZNAME:CEST
DTSTART:20250330T010000
END:DAYLIGHT
BEGIN:STANDARD
TZOFFSETFROM:+0200
TZOFFSETTO:+0100
TZNAME:CET
DTSTART:20251026T010000
END:STANDARD
END:VTIMEZONE
BEGIN:VEVENT
DTSTART;VALUE=DATE:20231116
DTEND;VALUE=DATE:20241119
DTSTAMP:20260423T092738
CREATED:20230206T144829Z
LAST-MODIFIED:20240203T121132Z
UID:10002759-1700092800-1731974399@pbkik.hu
SUMMARY:AGROBUSINESS MEDAFRIQUE EXPO 2023 - Nemzetközi agrár-élelmiszeripari vásár Tunéziában
DESCRIPTION:Az önellátás és az élelmezésbiztonság ma már a világ valamennyi országa számára elsődleges fontosságú. Az agrár-élelmiszeripari ágazat megismerése Tunéziában\, a Földközi-tenger térségében és Afrikában hozzájárulhatna ezen régió partnerségben történő fejlesztéséhez. Ebből a szempontból az AGROBUSINESS MEDAFRIQUE EXPO 2023 első alkalommal történő megrendezése a tunéziai vállalatok háromoldalú partnerségre való nyitása lesz a nyugati és az afrikai országokkal. \n\nA Tunéziai Ipari\, Bányászati és Energiaügyi Minisztérium égisze alatt szervezett kiállítás és vásár 2023 november 16-18. között kerül megrendezésre a Medina\, Yasmine Hammamet Expo központbanTunéziában\, és három napon keresztül több mint 3500 tunéziai és külföldi szakmai látogatót fogad. A vásár 3 napja alatt 3 nemzetközi fórumot szerveznek a tunéziai hatóságokkal és az agrár-élelmiszeripari ágazatban\, a mediterrán térségben és Afrikában érdekelt nemzetközi szervezetekkel\, mint például az Afrikai Unió\, a FAO\, az Európai Unió\, az ADB stb. partnerségben: \n\nÖnellátás és élelmezésbiztonság Afrikában\nA nemzetközi partnerség mint az agrár-élelmiszeripari ágazat fejlődésének mozgatórugója Tunéziában és a világban\nKorszerűsítés\, minőségi normák és nemzetközi szabványok az agrár-élelmiszeripari ágazatban\n\nTovábbi információ: https://www.agrobusiness-medafrica.com/ \nTunézia Magyarországi Nagykövetsége +36 1 336 1616 / 7 mellék \nemail: at.budapest@t-online-hu
URL:https://pbkik.hu/esemeny/agrobusiness-medafrique-expo-2023-nemzetkozi-agrar-elelmiszeripari-vasar-tuneziaban/
LOCATION:Tunézia
CATEGORIES:EEN események
END:VEVENT
BEGIN:VEVENT
DTSTART;VALUE=DATE:20240326
DTEND;VALUE=DATE:20240328
DTSTAMP:20260423T092738
CREATED:20240118T083153Z
LAST-MODIFIED:20240118T083336Z
UID:10002886-1711411200-1711583999@pbkik.hu
SUMMARY:VTM Torino - Vehicle and Transportation Technology Innovation Meetings
DESCRIPTION:A VTM Torinó az egyik legnagyobb mobilitástechnológiai konferencia és B2B találkozó\, amelyen a járműgyártóktól\, az új technológiai vállalkozókon és megoldásszállítókon keresztül egészen a beszállítókig képviseltetik magukat a szektor legfontosabb szereplői. \nA 2024-es esemény kiemelt témái: \n\nElektromos és hibrid járművek\, akkumulátorok és elektromos alkatrészek\, hidrogén\, új fenntartható hajtóműrendszerek\nÉrzékelési és irányítási technológiák az ADAS-hoz és az autonóm vezetéshez\nRövid és hosszú távú kapcsolatok\, okos infrastruktúrák\, felhőszolgáltatások\nBiztonság Tesztelés\, validálás és járművek és alkatrészeik tanúsítása\nAlkalmazások a szoftverdefiniált járművekhez\nMikro mobilitás és új mobilitási koncepciók\nVárosi\, légi mobilitás\n\nA 2022-es esemény kulcsszereplői: \nApma\, Audi\, AWS\, BEM eMobilitat\, BERLIN PARTNER Für Wirtshaft und Technologie\, BOSCH\, Continental Engineering Services\, FEV\, Fraunhofer\, HYUNDAI\, intel\, Jaguar\, Land Rover\, MAGNA\, NASA\, NVIDIA\, PANASONIC\, PUNCH Torino\, TOYOTA TSUSHO\, VOLVO \nRészvételi díj: \n\nkiállítók számára: 6 m² berendezett stand (katalógus\, elektromos áram\, wifi\, parkolás\, kitűző): 2.000 euró\nlátogatok részvétele a rendezőkkel egyéni alapon egyeztetett feltételek mentén\n\nTovábbi információk: een@pbkik.hu
URL:https://pbkik.hu/esemeny/vtm-torino-vehicle-and-transportation-technology-innovation-meetings/
LOCATION:Torino\, Torino\, Olaszország
ATTACH;FMTTYPE=image/png:https://pbkik.hu/wp-content/uploads/2024/01/vtm.png
END:VEVENT
BEGIN:VEVENT
DTSTART;TZID=Europe/Budapest:20240326T170000
DTEND;TZID=Europe/Budapest:20240326T190000
DTSTAMP:20260423T092738
CREATED:20240220T072451Z
LAST-MODIFIED:20240320T094732Z
UID:10002442-1711472400-1711479600@pbkik.hu
SUMMARY:Merre tart Baranya? – Vállalkozói fórum Siklóson
DESCRIPTION:A Pécs-Baranyai Kereskedelmi és Iparkamara\, valamint Siklós önkormányzata vállalkozói fórumot szervez. \nAz önkormányzatok és vállalkozások együttműködése elengedhetetlen. Fenntartható\, egymásra épülő és illeszkedő fejlesztésekre van szükség a közeljövőben.  Fontos a helyi önkormányzat és a gazdaságfejlesztési zóna tervezett projektjeinek összehangolása. \nA célok megvalósulása érdekében szakmai térségi települési fórumot szervezünk\, amelyen a települési önkormányzat és a térségben működő vállalkozások egyeztetik fejlesztéspolitikai\, konkrét vállalkozói fejlesztési javaslataikat\, illetve szakértők adnak választ a felmerülő kérdésekre kötetlen beszélgetés formájában. \n  \nIdőpont: 2024. március 26. 17.00 \nHelyszín: Taki étterem – 7800 Siklós\, Vókányi u. \n \n  \nProgram: \n\nKöszöntő\nRiegl Gábor polgármester\, Siklós\nDr. Síkfői Tamás elnök\, Pécs-Baranyai Kereskedelmi és Iparkamara\nRabb Szabolcs főtitkár\, Pécs-Baranyai Kereskedelmi és Iparkamara\nTémák\nGazdaságfejlesztési irányok és stratégiai fejlesztések\nA régió meghatározó cégeinek fejlesztései\nA kkv-k fejlesztési és üzletszerzési lehetőségei\, kapcsolódó kamarai szolgáltatások\nTurizmusfejlesztés\nHR körkép – Viapan Group\n\n\nKérdezzen Ön is! – kötetlen beszélgetés a szakértőkkel\n\nSzámítunk részvételére\, hiszen mindannyiunk közös érdeke\, hogy együtt cselekedjünk. \nA rendezvényen való részvétel díjmentes\, de regisztrációhoz kötött. \nA rendezvény nem sajtó nyilvános. \nTovábbi információ: Katona Petra 20/9210-612 \nKérjük részvételi szándékát március 19-ig  az alábbi űrlap kitöltésével jelezze. \n  \n\n\n\n\nVállalkozói fórum - Siklós\n\n\n\n\n\n\n\n\nRésztvevő adatai\n\n\n\n    Név\n        *\n    \n    \n    \n    \n\n\n    Résztvevő beosztása\n        *\n    \n    \n    \n    \n\n\n    E-mail\n        *\n    \n    \n    \n    \n\n\n    További résztvevők és beosztásuk\n        \n    \n    \n    \n    \n\n\n\nVállalkozás adatai\n\n\n\n    Cégnév\n        *\n    \n    \n    \n    \n\n\n    Adószám\n        *\n    \n    \n    \n    \n\n\n    Székhely\n        *\n    \n    \n    \n    \n\n\n\n    Kérdezzen Ön is!\n        \n    \n    \n    \n    \n\n\n    Adatkezelési tájékoztató\n        *\n    \n    					\n			 A tájékoztató tartalmát megismertem és elfogadom.\n\n     Adatkezelési tájékoztató \n    \n\n\n	\nBeküldés\n\n\n\n\n\n	\n	\n\n\n\n\n\n\nA projekt a Nemzetgazdasági Minisztérium támogatásával (VF/44/5/2023_PBKIK számú támogatási szerződés szerint) valósul meg.
URL:https://pbkik.hu/esemeny/merre-tart-baranya-vallalkozoi-forum-sikloson/
LOCATION:Taki étterem\, Vókányi utca.\, Siklós\, Baranya\, 7800\, Magyarország
ATTACH;FMTTYPE=image/png:https://pbkik.hu/wp-content/uploads/2024/02/siklos.png
END:VEVENT
END:VCALENDAR