BEGIN:VCALENDAR
VERSION:2.0
PRODID:-//Pécs-Baranyai Kereskedelmi és Iparkamara - ECPv6.15.20//NONSGML v1.0//EN
CALSCALE:GREGORIAN
METHOD:PUBLISH
X-WR-CALNAME:Pécs-Baranyai Kereskedelmi és Iparkamara
X-ORIGINAL-URL:https://pbkik.hu
X-WR-CALDESC:Események Pécs-Baranyai Kereskedelmi és Iparkamara
REFRESH-INTERVAL;VALUE=DURATION:PT1H
X-Robots-Tag:noindex
X-PUBLISHED-TTL:PT1H
BEGIN:VTIMEZONE
TZID:Europe/Helsinki
BEGIN:DAYLIGHT
TZOFFSETFROM:+0200
TZOFFSETTO:+0300
TZNAME:EEST
DTSTART:20220327T010000
END:DAYLIGHT
BEGIN:STANDARD
TZOFFSETFROM:+0300
TZOFFSETTO:+0200
TZNAME:EET
DTSTART:20221030T010000
END:STANDARD
BEGIN:DAYLIGHT
TZOFFSETFROM:+0200
TZOFFSETTO:+0300
TZNAME:EEST
DTSTART:20230326T010000
END:DAYLIGHT
BEGIN:STANDARD
TZOFFSETFROM:+0300
TZOFFSETTO:+0200
TZNAME:EET
DTSTART:20231029T010000
END:STANDARD
BEGIN:DAYLIGHT
TZOFFSETFROM:+0200
TZOFFSETTO:+0300
TZNAME:EEST
DTSTART:20240331T010000
END:DAYLIGHT
BEGIN:STANDARD
TZOFFSETFROM:+0300
TZOFFSETTO:+0200
TZNAME:EET
DTSTART:20241027T010000
END:STANDARD
BEGIN:DAYLIGHT
TZOFFSETFROM:+0200
TZOFFSETTO:+0300
TZNAME:EEST
DTSTART:20250330T010000
END:DAYLIGHT
BEGIN:STANDARD
TZOFFSETFROM:+0300
TZOFFSETTO:+0200
TZNAME:EET
DTSTART:20251026T010000
END:STANDARD
END:VTIMEZONE
BEGIN:VTIMEZONE
TZID:Europe/Budapest
BEGIN:DAYLIGHT
TZOFFSETFROM:+0100
TZOFFSETTO:+0200
TZNAME:CEST
DTSTART:20230326T010000
END:DAYLIGHT
BEGIN:STANDARD
TZOFFSETFROM:+0200
TZOFFSETTO:+0100
TZNAME:CET
DTSTART:20231029T010000
END:STANDARD
BEGIN:DAYLIGHT
TZOFFSETFROM:+0100
TZOFFSETTO:+0200
TZNAME:CEST
DTSTART:20240331T010000
END:DAYLIGHT
BEGIN:STANDARD
TZOFFSETFROM:+0200
TZOFFSETTO:+0100
TZNAME:CET
DTSTART:20241027T010000
END:STANDARD
BEGIN:DAYLIGHT
TZOFFSETFROM:+0100
TZOFFSETTO:+0200
TZNAME:CEST
DTSTART:20250330T010000
END:DAYLIGHT
BEGIN:STANDARD
TZOFFSETFROM:+0200
TZOFFSETTO:+0100
TZNAME:CET
DTSTART:20251026T010000
END:STANDARD
END:VTIMEZONE
BEGIN:VEVENT
DTSTART;VALUE=DATE:20231116
DTEND;VALUE=DATE:20241119
DTSTAMP:20260420T114604
CREATED:20230206T144829Z
LAST-MODIFIED:20240203T121132Z
UID:10002759-1700092800-1731974399@pbkik.hu
SUMMARY:AGROBUSINESS MEDAFRIQUE EXPO 2023 - Nemzetközi agrár-élelmiszeripari vásár Tunéziában
DESCRIPTION:Az önellátás és az élelmezésbiztonság ma már a világ valamennyi országa számára elsődleges fontosságú. Az agrár-élelmiszeripari ágazat megismerése Tunéziában\, a Földközi-tenger térségében és Afrikában hozzájárulhatna ezen régió partnerségben történő fejlesztéséhez. Ebből a szempontból az AGROBUSINESS MEDAFRIQUE EXPO 2023 első alkalommal történő megrendezése a tunéziai vállalatok háromoldalú partnerségre való nyitása lesz a nyugati és az afrikai országokkal. \n\nA Tunéziai Ipari\, Bányászati és Energiaügyi Minisztérium égisze alatt szervezett kiállítás és vásár 2023 november 16-18. között kerül megrendezésre a Medina\, Yasmine Hammamet Expo központbanTunéziában\, és három napon keresztül több mint 3500 tunéziai és külföldi szakmai látogatót fogad. A vásár 3 napja alatt 3 nemzetközi fórumot szerveznek a tunéziai hatóságokkal és az agrár-élelmiszeripari ágazatban\, a mediterrán térségben és Afrikában érdekelt nemzetközi szervezetekkel\, mint például az Afrikai Unió\, a FAO\, az Európai Unió\, az ADB stb. partnerségben: \n\nÖnellátás és élelmezésbiztonság Afrikában\nA nemzetközi partnerség mint az agrár-élelmiszeripari ágazat fejlődésének mozgatórugója Tunéziában és a világban\nKorszerűsítés\, minőségi normák és nemzetközi szabványok az agrár-élelmiszeripari ágazatban\n\nTovábbi információ: https://www.agrobusiness-medafrica.com/ \nTunézia Magyarországi Nagykövetsége +36 1 336 1616 / 7 mellék \nemail: at.budapest@t-online-hu
URL:https://pbkik.hu/esemeny/agrobusiness-medafrique-expo-2023-nemzetkozi-agrar-elelmiszeripari-vasar-tuneziaban/
LOCATION:Tunézia
CATEGORIES:EEN események
END:VEVENT
BEGIN:VEVENT
DTSTART;VALUE=DATE:20240404
DTEND;VALUE=DATE:20240426
DTSTAMP:20260420T114604
CREATED:20240111T122159Z
LAST-MODIFIED:20240118T131929Z
UID:10002882-1712188800-1714089599@pbkik.hu
SUMMARY:TechTextil 2024 - partnerkereső rendezvény
DESCRIPTION:A műszaki textíliák és a nem szőtt textíliák vezető nemzetközi szakkiállítása\, a TechTextil alkalmából 2024. április 23. és 26. között Frankfurtban az Enterprise Europe Network nemzetközi közvetítői eseményt szervez olyan vállalatok\, kutatóintézetek és minden olyan érdekelt fél számára\, akik közös projekteket\, műszaki együttműködést vagy új üzleti kapcsolatokat szeretnének feltárni európai és világszintű partnerekkel. \nAz érdeklődők 2024. április végéig regisztrálhatnak erre az ingyenes eseményre együttműködési profiljukkal az online rendezvényplatformon\, és kiválaszthatják az érdekes résztvevőket a kétoldalú találkozókhoz. \nIdőpont: 2024. április 4-25.\nHelyszín: Németország \nA B2B-ken való részvétel ingyenes\, de előzetes regisztrációhoz kötött. Regisztrálni ITT lehet.\nA TechTextil 2024 rendezvényen való részvétel jegyvásárláshoz kötött\, amire ITT van lehetőség. \nSzemélyes részvétel esetén a kiutazás és szállás egyénileg szervezendő. \nTovábbi információ
URL:https://pbkik.hu/esemeny/techtextil-2024-partnerkereso-rendezveny/
LOCATION:Németország\, Németország
ATTACH;FMTTYPE=image/png:https://pbkik.hu/wp-content/uploads/2024/01/textiles.png
END:VEVENT
BEGIN:VEVENT
DTSTART;VALUE=DATE:20240410
DTEND;VALUE=DATE:20240518
DTSTAMP:20260420T114604
CREATED:20240422T115133Z
LAST-MODIFIED:20250703T064218Z
UID:10002467-1712707200-1715990399@pbkik.hu
SUMMARY:IFAT 2024 - Környezettechnológiai üzletember találkozó
DESCRIPTION:Az IFAT München 2024\, a világ vezető víz-\, szennyvíz-\, hulladék- és nyersanyaggazdálkodási szakvására\, melynek keretében az Enterprise Europe Network szervezésében nemzetközi üzletember találkozóra kerül sor! \n \nA rendezvényt megelőzően online\, a kiállítás ideje alatt pedig személyes üzleti tárgyalások lebonyolítására nyújt lehetőséget a ‘Water and Resources – Networking before and at IFAT 2024’ c. üzletember találkozó. \nKiemelt témák: \n\nSzennyvízkezelés\nErőforrás-hasznosítás\nVízellátás és infrastruktúra\nDigitalizáció a vízgazdálkodásban\n\nA kiállításon történő részvétel önköltséges és önállóan szervezendő. \nREGISZTRÁCIÓ – IFAT 2024
URL:https://pbkik.hu/esemeny/ifat-2024-kornyezettechnologiai-uzletember-talalkozo/
LOCATION:Hibrid
CATEGORIES:EEN események
ATTACH;FMTTYPE=image/png:https://pbkik.hu/wp-content/uploads/2024/04/ifat-munich.png
END:VEVENT
BEGIN:VEVENT
DTSTART;VALUE=DATE:20240417
DTEND;VALUE=DATE:20240420
DTSTAMP:20260420T114604
CREATED:20240118T083757Z
LAST-MODIFIED:20240118T084139Z
UID:10002888-1713312000-1713571199@pbkik.hu
SUMMARY:Exposanità - Az olasz egészségügyi szektor meghatározó rendezvénye
DESCRIPTION:A 23. alkalommal megrendezésre kerülő Exposanità\, az olasz egészségügyi szektor\, gazdasági szempontból egyik legfontosabb eseménye\, amelyen az ágazat összes meghatározó szereplője – gyártók\, beszállítók\, egészségügyi intézmények\, kutatók\, stb. – képviselteti magát. A kiállítás lehetőséget teremt a helyi viszonyok\, tendenciák\, szabályozások és fő szereplők megismerésére\, valamint innovatív kutatási eredmények/termékek/szolgáltatások bemutatására. Így komoly kiugrási pontot jelenthet azon magyar egészségügyi szereplők számára\, amelyek célul tűzték ki az olasz piacra való belépést. \nKiemelt szektorok: \n\nkórházi technológiák és termékek\nortopéd és rehabilitációs termékeke és szolgáltatások\ndiagnosztikai berendezések\negészségügyi informatika és telemedicina\nidősgondozási megoldások\, termékek\, szolgáltatások\n\nRészvételi díj: \nAz eseményen először kiállító cégeknek\, 3 650 euró fejében lehetőségük van igénybe venni a „Formula Start” csomagot\, amely egy 8 m2-es alapterületű kompletten berendezett standot jelent. \nTovábbi információk: een@pbkik.hu
URL:https://pbkik.hu/esemeny/exposanita-az-olasz-egeszsegugyi-szektor-meghatarozo-rendezvenye/
LOCATION:Bologna\, Olaszország
ATTACH;FMTTYPE=image/png:https://pbkik.hu/wp-content/uploads/2024/01/expo.png
END:VEVENT
BEGIN:VEVENT
DTSTART;VALUE=DATE:20240417
DTEND;VALUE=DATE:20240420
DTSTAMP:20260420T114604
CREATED:20240201T070737Z
LAST-MODIFIED:20240203T170016Z
UID:10002895-1713312000-1713571199@pbkik.hu
SUMMARY:GreenTech Days meet Future of Building 2024
DESCRIPTION:Az Enterprise Europe Network Ausztria társszervezésében kerül megrendezésre ‘GreenTech Days meet Future of Building’ c. nemzetközi üzletember találkozó\, melynek középpontjában a zöldtechnológiák és az építőipari szektor áll. \n \nA rendezvény keretében személyes üzleti találkozók lebonyolítására 2024. április 17-én\, online pedig 2024. április 18-19-én lesz lehetőség. \nREGISZTRÁCIÓ\nKiemelt témák: \n\nKörnyezetvédelem:\nhulladékgazdálkodás\, újrahasznosítás\, körforgásos gazdaság\, hulladékból energiává alakítás\, erőforrás-hatékonyság\, vízgazdálkodás\, vízellátás\, szennyvízkezelés\, szennyvíztisztítás\, szűrőrendszerek stb.\nEnergia:\nvízenergia\, szélenergia\, napenergia és fotovoltaika\, biomassza\, bioüzemanyagok\, biogáz\, hőszivattyúk\, geotermikus energia\, hidrogén\, energiatárolás stb.\nHatékonyság/zöld épületek:\népítési technológiák\, energiatakarékos épületek\, építőanyagok\, szigetelőanyagok stb.\nÉpítőipar/infrastruktúra:\nélvonalbeli fejlesztések az építőipar és az infrastruktúra területén\, beleértve a legmodernebb építőanyagokat\, innovatív építési módszereket\, jövőorientált tervezési stratégiákat\, robotika integrációját\, fa- és faépítési technikákat\, technológiai és együttműködéseket és még sok minden mást.\n\nAz üzletember találkozón történő részvétel díjmentes\, a kutazás és szállás önköltséges. \n  \nTovábbi információ: een@pbkik.hu
URL:https://pbkik.hu/esemeny/greentech-days-meet-future-of-building-2024/
LOCATION:Hibrid
CATEGORIES:EEN események
ATTACH;FMTTYPE=image/jpeg:https://pbkik.hu/wp-content/uploads/2024/02/20240131_GreenTech_Days.jpg
END:VEVENT
BEGIN:VEVENT
DTSTART;VALUE=DATE:20240417
DTEND;VALUE=DATE:20240425
DTSTAMP:20260420T114604
CREATED:20240321T091543Z
LAST-MODIFIED:20240402T092037Z
UID:10002921-1713312000-1714003199@pbkik.hu
SUMMARY:InnoElectro 2024 Expo & hibrid B2B fórum
DESCRIPTION:Az InnoElectro 2024 kiállítás mellett rendezett hibrid B2B üzletember találkozót az Enterprise Europe Network támogatja. A meeting helyszíne Budapest\, BOK Csarnok\, ahol a rendezvény az évente megrendezésre kerülő InnoElectro kiállítással párhuzamosan kerül megvalósításra. A B2B rendezvényen való részvételre virtuális formában\, online (április 17-18.) és személyesen (április 24.) is be lehet csatlakozni. \n \nNemzetközi üzletember találkozó regisztráció: https://www.b2match.com/e/innoelectro-2024-expo \nA rendezvény az elektronikai ipar résztvevői számára a következő területeken kínál lehetőséget a kapcsolatépítésre\, tudásmegosztásra és új megoldások keresésére: \n\nElektronikai alkatrészek\nGyártóeszközök és anyagok\nGyártási folyamatok\, gyártástechnológia\, minőségbiztosítás\nAutomatizálás\, irányítástechika\, robottechnika\nMagas minőségi követelményeket támasztó ágazatok (autóelektronika\, orvoselektronika\, repülés-\, űr és haditechnika)\nMéréstechnika\, hibaanalízis\nVilágítástechnika\nBiztonságtechnika\nIpari villamos berendezések\nTervezőrendszerek\, ipari szoftverek\nTervezés\, fejlesztés\nGyártásszolgáltatás\nMűszaki\, kereskedelmi\, logisztikai szolgáltatások\nSzakmai továbbképzés\, oktatás\n\nA B2B rendezvényre az elmúlt évben közel 100 résztvevő jelentkezett 14 országból. \nA személyes B2B időpontja: 2024. április 24. 10:00 – 17:00 \nAz online B2B időpontja: 2024. április 17.\, 18. \nRegisztráció határideje: 2024. április 22. \nRegisztráció és aktuális információk: https://www.b2match.com/e/innoelectro-2024-expo \nRészvételi feltétel: INGYENES \nMegvalósulás módja: \nHelyszín: online\, illetve Budapest\, BOK Csarnok\n20 perces tárgyalások
URL:https://pbkik.hu/esemeny/innoelectro-2024-expo-hibrid-b2b-forum/
CATEGORIES:EEN események
END:VEVENT
BEGIN:VEVENT
DTSTART;TZID=Europe/Budapest:20240418T080000
DTEND;TZID=Europe/Budapest:20240419T150000
DTSTAMP:20260420T114604
CREATED:20240207T121155Z
LAST-MODIFIED:20240207T122825Z
UID:10002435-1713427200-1713538800@pbkik.hu
SUMMARY:IX. Automotive CEE Day - autóipari beszállítói üzletember találkozó
DESCRIPTION:2024. április 18 és 19 között a dél-lengyelországi Opole városban immáron 9. alkalommal kerül megrendezésre az „Automotive CEE Day” beszállítói nap. Az esemény Lengyelország egyik legnagyobb autóipari beszállítói találkozója\, melynek célja a járműgyártók beszerzési osztályai és az elsőrendű (Tier-1) beszállítók\, valamint az alvállalkozók közötti kapcsolatfelvétel megteremtése. \n \nAz előző\, 2023 évi\, eseményen 600 résztvevő vett részt\, akik 13 országból több mint 420 vállalatot képviseltek. A kétnapos találkozó során a résztvevők 1900 előre leegyeztetett B2B találkozót bonyolítottak le\, továbbá több száz interjú lefolytatására volt lehetőségük. \nKiknek ajánlott a részvétel? \nAz autóipari ágazatban működő vagy az ellátási láncba belépni kívánó vállalkozások\, különösen a következő ágazatokból: \n\nJárműgyártás\nAlkatrész- és alkatrészgyártás\nAkkumulátorok\, energiarendszerek\, energiatárolás és újrahasznosítás\nIT\nAutomatizálás és robotizálás\nGyártás és szerviz\nKutatás és fejlesztés\nGyártást támogató megoldások szolgáltatói\nMinőségellenőrzés\nMunkavállalói menedzsment\n\n  \nAz Automotive CEE Day-en való részvétel előnyei a következők: \n\nhozzáférés egy online B2B időpont egyeztető platformhoz\,\njelentős idő- és pénzmegtakarítás – lehetőség arra\, hogy egy időben (a rendezvény egyik vagy mindkét napján) tucatnyi potenciális gyártó és beszállítóval találkozzanak a résztvevők\,\nközvetlen befolyás a találkozók ütemezésére (a résztvevők döntik el\, hogy kivel találkoznak Opole-ban).\n\n  \nA fentiek szerint az „Automotive CEE Day” kiváló lehetőség biztosít számos új együttműködési\, értékesítési kapcsolatok kialakítására számos közép-kelet-európai partnerrel. \nA korábbi eseménnyel kapcsolatos részletes információk a rendezvény honlapján érhetők el: automotiveceeday.eu \nAz esemény szervezője az AutomotiveSuppliers.pl. lengyel járműipari elemző cég. \nREGISZTRÁCIÓ
URL:https://pbkik.hu/esemeny/ix-automotive-cee-day-autoipari-beszallitoi-uzletember-talalkozo/
LOCATION:Centrum Wystawienniczo Kongresowe\, ul. Wrocławska 158\, Opole\, 45-835\, Lengyelország
ATTACH;FMTTYPE=image/jpeg:https://pbkik.hu/wp-content/uploads/2024/02/automotive-cee.jpg
END:VEVENT
BEGIN:VEVENT
DTSTART;VALUE=DATE:20240419
DTEND;VALUE=DATE:20240422
DTSTAMP:20260420T114604
CREATED:20240118T083431Z
LAST-MODIFIED:20240118T083650Z
UID:10002887-1713484800-1713743999@pbkik.hu
SUMMARY:Cosmofarma - Gyógyszeripari kiállítás
DESCRIPTION:A Cosmofarma Európa egyik vezető gyógyszeripari kiállítása\, amely több mint 400 kiállítóval\, 26 ezer résztvevővel\, valamint közel 100 szakmai előadással biztosít lehetőséget az iparág legújabb tendenciáinak és lehetőségeinek megismerésére\, illetve üzletfejlesztésre és kapcsolatépítésre. \nKiemelet szektorok: \n\nhagyományos és természetes gyógyászat\ntáplálékkiegészítők\nszépségápolás\ngyógyszertári szolgáltatások\n\nRészvételi díj: \nKiállítók számára: \n\nMinimum standméret 16 m2\, a stand díja 6.000 euró (berendezve)\nLehetőség van akár két cég számára is kiállítani\, ebben az esetben a minimum standméret 24 m2\, ára 6.200 euró; a társkiállító cég számára + 1.000 euró a regisztrációs díj\n\nLátogatók számára a belépő díja: 30 Euró/nap \n2023-as vásár résztvevői: https://eventi.senaf.it/preview-espositori.php?ide=1208 \nTovábbi információk: een@pbkik.hu
URL:https://pbkik.hu/esemeny/cosmofarma-gyogyszeripari-kiallitas/
LOCATION:Bologna\, Olaszország
ATTACH;FMTTYPE=image/png:https://pbkik.hu/wp-content/uploads/2024/01/cosmofarma.png
END:VEVENT
BEGIN:VEVENT
DTSTART;TZID=Europe/Budapest:20240419T100000
DTEND;TZID=Europe/Budapest:20240419T120000
DTSTAMP:20260420T114604
CREATED:20240220T081433Z
LAST-MODIFIED:20240220T081853Z
UID:10002902-1713520800-1713528000@pbkik.hu
SUMMARY:Merre tart Baranya? – Vállalkozói fórum Sásdon
DESCRIPTION:A Pécs-Baranyai Kereskedelmi és Iparkamara\, valamint Sásd önkormányzata vállalkozói fórumot szervez. \nAz önkormányzatok és vállalkozások együttműködése elengedhetetlen. Fenntartható\, egymásra épülő és illeszkedő fejlesztésekre van szükség a közeljövőben.  Fontos a helyi önkormányzat és a gazdaságfejlesztési zóna tervezett projektjeinek összehangolása. \nA célok megvalósulása érdekében szakmai térségi települési fórumot szervezünk\, amelyen a települési önkormányzat és a térségben működő vállalkozások egyeztetik fejlesztéspolitikai\, konkrét vállalkozói fejlesztési javaslataikat\, illetve szakértők adnak választ a felmerülő kérdésekre kötetlen beszélgetés formájában. \n  \nIdőpont: 2024. április 19. 10.00 \nHelyszín: Közösségi Ház – 7370 Sásd\, Szent I. u. 25-27.\n \n  \nProgram: \n\nKöszöntő\nDr. Jusztinger János polgármester\, Sásd\nDr. Síkfői Tamás elnök\, Pécs-Baranyai Kereskedelmi és Iparkamara\nRabb Szabolcs főtitkár\, Pécs-Baranyai Kereskedelmi és Iparkamara\nTémák\nGazdaságfejlesztési irányok és stratégiai fejlesztések\nA régió meghatározó cégeinek fejlesztései\nA kkv-k fejlesztési és üzletszerzési lehetőségei\, kapcsolódó kamarai szolgáltatások\n\n\nKérdezzen Ön is! – kötetlen beszélgetés a szakértőkkel\n\nSzámítunk részvételére\, hiszen mindannyiunk közös érdeke\, hogy együtt cselekedjünk. \nA rendezvényen való részvétel díjmentes\, de regisztrációhoz kötött. \nA rendezvény nem sajtó nyilvános. \nTovábbi információ: Katona Petra 20/9210-612 \nKérjük részvételi szándékát április 12-ig  az alábbi űrlap kitöltésével jelezze. \n  \n\n\n\n\nVállalkozói fórum - Sásd\n\n\n\n\n\n\n\n\nRésztvevő adatai\n\n\n\n    Név\n        *\n    \n    \n    \n    \n\n\n    Résztvevő beosztása\n        *\n    \n    \n    \n    \n\n\n    E-mail\n        *\n    \n    \n    \n    \n\n\n    További résztvevők és beosztásuk\n        \n    \n    \n    \n    \n\n\n\nVállalkozás adatai\n\n\n\n    Cégnév\n        *\n    \n    \n    \n    \n\n\n    Adószám\n        *\n    \n    \n    \n    \n\n\n    Székhely\n        *\n    \n    \n    \n    \n\n\n\n    Kérdezzen Ön is!\n        \n    \n    \n    \n    \n\n\n    Adatkezelési tájékoztató\n        *\n    \n    					\n			 A tájékoztató tartalmát megismertem és elfogadom.\n\n     Adatkezelési tájékoztató \n    \n\n\n	\nBeküldés\n\n\n\n\n\n	\n	\n\n\n\n\n\n\nA projekt a Nemzetgazdasági Minisztérium támogatásával (VF/44/5/2023_PBKIK számú támogatási szerződés szerint) valósul meg.
URL:https://pbkik.hu/esemeny/merre-tart-baranya-vallalkozoi-forum-sasdon/
LOCATION:Sásd – Közösségi Ház\, Szent I. u. 25-27.\, Sásd\, Baranya\, 7370\, Magyarország
ATTACH;FMTTYPE=image/png:https://pbkik.hu/wp-content/uploads/2024/02/sasd.png
END:VEVENT
END:VCALENDAR