BEGIN:VCALENDAR
VERSION:2.0
PRODID:-//Pécs-Baranyai Kereskedelmi és Iparkamara - ECPv6.15.20//NONSGML v1.0//EN
CALSCALE:GREGORIAN
METHOD:PUBLISH
X-ORIGINAL-URL:https://pbkik.hu
X-WR-CALDESC:Események Pécs-Baranyai Kereskedelmi és Iparkamara
REFRESH-INTERVAL;VALUE=DURATION:PT1H
X-Robots-Tag:noindex
X-PUBLISHED-TTL:PT1H
BEGIN:VTIMEZONE
TZID:Europe/Helsinki
BEGIN:DAYLIGHT
TZOFFSETFROM:+0200
TZOFFSETTO:+0300
TZNAME:EEST
DTSTART:20220327T010000
END:DAYLIGHT
BEGIN:STANDARD
TZOFFSETFROM:+0300
TZOFFSETTO:+0200
TZNAME:EET
DTSTART:20221030T010000
END:STANDARD
BEGIN:DAYLIGHT
TZOFFSETFROM:+0200
TZOFFSETTO:+0300
TZNAME:EEST
DTSTART:20230326T010000
END:DAYLIGHT
BEGIN:STANDARD
TZOFFSETFROM:+0300
TZOFFSETTO:+0200
TZNAME:EET
DTSTART:20231029T010000
END:STANDARD
BEGIN:DAYLIGHT
TZOFFSETFROM:+0200
TZOFFSETTO:+0300
TZNAME:EEST
DTSTART:20240331T010000
END:DAYLIGHT
BEGIN:STANDARD
TZOFFSETFROM:+0300
TZOFFSETTO:+0200
TZNAME:EET
DTSTART:20241027T010000
END:STANDARD
BEGIN:DAYLIGHT
TZOFFSETFROM:+0200
TZOFFSETTO:+0300
TZNAME:EEST
DTSTART:20250330T010000
END:DAYLIGHT
BEGIN:STANDARD
TZOFFSETFROM:+0300
TZOFFSETTO:+0200
TZNAME:EET
DTSTART:20251026T010000
END:STANDARD
END:VTIMEZONE
BEGIN:VTIMEZONE
TZID:Europe/Budapest
BEGIN:DAYLIGHT
TZOFFSETFROM:+0100
TZOFFSETTO:+0200
TZNAME:CEST
DTSTART:20230326T010000
END:DAYLIGHT
BEGIN:STANDARD
TZOFFSETFROM:+0200
TZOFFSETTO:+0100
TZNAME:CET
DTSTART:20231029T010000
END:STANDARD
BEGIN:DAYLIGHT
TZOFFSETFROM:+0100
TZOFFSETTO:+0200
TZNAME:CEST
DTSTART:20240331T010000
END:DAYLIGHT
BEGIN:STANDARD
TZOFFSETFROM:+0200
TZOFFSETTO:+0100
TZNAME:CET
DTSTART:20241027T010000
END:STANDARD
BEGIN:DAYLIGHT
TZOFFSETFROM:+0100
TZOFFSETTO:+0200
TZNAME:CEST
DTSTART:20250330T010000
END:DAYLIGHT
BEGIN:STANDARD
TZOFFSETFROM:+0200
TZOFFSETTO:+0100
TZNAME:CET
DTSTART:20251026T010000
END:STANDARD
END:VTIMEZONE
BEGIN:VEVENT
DTSTART;VALUE=DATE:20231116
DTEND;VALUE=DATE:20241119
DTSTAMP:20260423T014157
CREATED:20230206T144829Z
LAST-MODIFIED:20240203T121132Z
UID:10002759-1700092800-1731974399@pbkik.hu
SUMMARY:AGROBUSINESS MEDAFRIQUE EXPO 2023 - Nemzetközi agrár-élelmiszeripari vásár Tunéziában
DESCRIPTION:Az önellátás és az élelmezésbiztonság ma már a világ valamennyi országa számára elsődleges fontosságú. Az agrár-élelmiszeripari ágazat megismerése Tunéziában\, a Földközi-tenger térségében és Afrikában hozzájárulhatna ezen régió partnerségben történő fejlesztéséhez. Ebből a szempontból az AGROBUSINESS MEDAFRIQUE EXPO 2023 első alkalommal történő megrendezése a tunéziai vállalatok háromoldalú partnerségre való nyitása lesz a nyugati és az afrikai országokkal. \n\nA Tunéziai Ipari\, Bányászati és Energiaügyi Minisztérium égisze alatt szervezett kiállítás és vásár 2023 november 16-18. között kerül megrendezésre a Medina\, Yasmine Hammamet Expo központbanTunéziában\, és három napon keresztül több mint 3500 tunéziai és külföldi szakmai látogatót fogad. A vásár 3 napja alatt 3 nemzetközi fórumot szerveznek a tunéziai hatóságokkal és az agrár-élelmiszeripari ágazatban\, a mediterrán térségben és Afrikában érdekelt nemzetközi szervezetekkel\, mint például az Afrikai Unió\, a FAO\, az Európai Unió\, az ADB stb. partnerségben: \n\nÖnellátás és élelmezésbiztonság Afrikában\nA nemzetközi partnerség mint az agrár-élelmiszeripari ágazat fejlődésének mozgatórugója Tunéziában és a világban\nKorszerűsítés\, minőségi normák és nemzetközi szabványok az agrár-élelmiszeripari ágazatban\n\nTovábbi információ: https://www.agrobusiness-medafrica.com/ \nTunézia Magyarországi Nagykövetsége +36 1 336 1616 / 7 mellék \nemail: at.budapest@t-online-hu
URL:https://pbkik.hu/esemeny/agrobusiness-medafrique-expo-2023-nemzetkozi-agrar-elelmiszeripari-vasar-tuneziaban/
LOCATION:Tunézia
CATEGORIES:EEN események
END:VEVENT
BEGIN:VEVENT
DTSTART;VALUE=DATE:20240616
DTEND;VALUE=DATE:20240623
DTSTAMP:20260423T014157
CREATED:20240322T114048Z
LAST-MODIFIED:20240801T111708Z
UID:10002923-1718496000-1719100799@pbkik.hu
SUMMARY:Támogatott üzleti delegáció Dél-Koreába az MKIK szervezésében
DESCRIPTION:A Magyar Kereskedelmi és Iparkamara (MKIK) Vállalkozásfejlesztési Projektjének keretében 2024. június 16-22. között támogatott részvételi lehetőséggel üzleti delegációt szervez Szöulba\, Dél-Koreába. Az exportőr kis- és középvállalkozások részvételét a Nemzetgazdasági Minisztérium támogatja költségvetési forrásból. \n \nA kiutazás célja – az általános üzleti kapcsolatok fejlesztése mellett – a két ország vállalkozói közötti együttműködési lehetőségek és a koreai üzleti környezet bemutatása. A delegáció látogatást tesz a Smart Tech Korea technológiai szakvásáron. Ezenkívül terveink között szerepel egy látogatással egybekötött üzleti fórum a Koreai Kereskedelmi és Iparkamara szervezésében. \nMiért érdemes részt venni? \n\ningyenes részvétel a szakmai és üzleti programokon\,\ntájékozódási lehetőség Dél-Korea üzleti környezetéről\, a gazdasági együttműködési és befektetési lehetőségekről\,\ntárgyalás potenciális üzleti partnerekkel\,\nvásárlátogatás a Smart Tech Korea technológiai szakvásáron\,\ntámogatott részvétel exportőr kis- és középvállalkozások számára:\nszállástámogatás cégenként egy fő részére a négy éjszakára egyágyas szobában reggelivel\,\nkinti transzfert a későbbiekben meghatározott hotel és a szakmai programok helyszínei között biztosítunk\, max. 2 fő számára cégenként.\n\nA Smart Tech Korea szakvásárról röviden \nA 2024. június 19-21 között megrendezésre kerülő Smart Tech Korea egy háromnapos nemzetközi technológiai szakvásár Szöulban. A Smart Tech Korea vásár innovatív technológiákra fókuszál a következő kiemelt területekkel: 5G technológia\, robotika\, AI&Big Data\, adatbiztonság\, ezeken belül is a gyártási\, forgalmazási\, szállítási folyamatok optimalizálására szolgáló megoldások. 2023-ban több mint 350 kiállító és megközelítőleg 50 ezer látogató részvételével zajlott le a vásár. \nA delegációba elsősorban a koreai üzleti lehetőségek iránt érdeklődő exportorientált cégprofilú kis- és középvállalkozások jelentkezését várják. \nTervezett szakmai és üzleti programok \n\nTájékoztató rendezvény a dél-koreai gazdaságról és üzleti lehetőségekről.\nÜzleti fórum a Koreai Kereskedelmi és Iparkamara szervezésében\, tájékozódás az üzleti lehetőségekről (egyeztetés alatt)\nVásárlátogatás a Smart Tech Korea nemzetközi technológiai szakvásáron.\n\nA részletes szakmai programról a későbbiekben küldenek tájékoztatást. A szakmai programok nyelve az angol\, magyar tolmácsolást nem biztosítanak. \n  \nSzervezők \nA Magyar Kereskedelmi és Iparkamara (MKIK) együttműködve Magyarország Szöuli Nagykövetségével. \nA támogatott részvétel feltételei \n\nexportorientált cégprofil\,\na delegált cégképviselő megfelelő szintű angol nyelvtudása\,\nérvényes kamarai regisztráció\,\na jelentkezéshez és a részvételhez szükséges minden dokumentum megfelelő minőségben történő kitöltése és visszaküldése a megjelölt határidőig: jelentkezési lap\, angol nyelvű cégprofil\, cégszerűen aláírt költségvállalási nyilatkozat\, személyenként aláírt adatkezelési tájékoztató és a hozzájáruló nyilatkozat\,\naz MKIK fizeti egy fő számára a négy éjszaka szállásköltségét (egyágyas szobában reggelivel a későbbiekben meghatározott szállodában) és a kinti transzfereket\,\negy cégtől egy fő jelentkezését várjuk\, de a szabad férőhelyek függvényében max. 2 fő részvétele lehetséges\, a második résztvevőnek az MKIK csak a kinti transzferköltségeket fizeti\,\na szállásköltség támogatásának feltétele a költségvállalási nyilatkozat meghatározott határidőig történő cégszerű aláírása és visszaküldése.\nA kinti transzferek csak abban az esetben biztosítottak\, amennyiben a cégképviselő a későbbiekben javasolt szállodában száll meg\, valamint végig a csoporttal közlekedik a szakmai programokra. Egyéb esetben a közlekedés egyéni szervezésben történik.\nA kinti szervezők mindent megtesznek a rendezvények sikeréért\, de javasoljuk\, hogy az eredményes kiutazás érdekében\, saját szervezésben is hívjanak partnereket az üzleti fórumra. A megfelelő mennyiségű és minőségű üzleti partnerek felkutatása a külföldi szervezők felelőssége\, erre vonatkozólag az MKIK nem tud garanciát vállalni.\nAz üzleti delegáció külföldi szakmai programjának gördülékeny lebonyolítása miatt az a célszerű\, ha a csoport tagjai a kinti helyszínek között együtt közlekednek és egy hotelben szállnak meg. Az MKIK ezért tesz javaslatot szállodára. Ezektől eltérő szolgáltatásokat is igénybe lehet venni\, de ebben az esetben a résztvevő nem részesül a szállás- és transzferköltség támogatásában.\n\nFelhívjuk figyelmüket\, hogy a jelentkezők részvételéről a Nemzetgazdasági Minisztérium és a Magyar Kereskedelmi és Iparkamara dönt. Az MKIK írásban értesíti a döntésről a jelentkezőket. \n  \nVárható költségek \n\na kiutazás költségei repülővel\,\na szakmai programon kívüli étkezések\, transzferek\, fakultatív programok\,\na második céges résztvevő esetén szállásköltség négy éjszakára egyágyas szobában reggelivel.\n\nKöltségvállalási nyilatkozat \n\nA szállásköltség támogatásának feltétele a mellékelt költségvállalási nyilatkozat meghatározott határidőig történő cégszerű aláírása és visszaküldése.\nVisszamondás esetén a cég köteles megtéríteni az előzetesen megrendelt szolgáltatás (szállás négy éjszakára reggelivel) költségét az MKIK-nak.\n\nAdatkezelés \nA résztvevők személyes adatainak továbbítása harmadik országba történik. Csatoltan küldjük az adatkezelési tájékoztatót és a hozzájáruló nyilatkozatot\, melyet kérünk\, hogy kiutazó személyenként (nem cégként) aláírva és szkennelve szíveskedjenek visszaküldeni. \n  \nJelentkezési határidő: 2024. április 19. \n  \nJelentkezés módja \nAz alábbiakban felsorolt négy melléklet együttes\, határidőre történő megküldése a reok.miklos@mkik.hu e-mail címre: \n\njelentkezési lap – jelentkezőnként kell kitölteni\nangol nyelvű cégprofil – cégenként kell kitölteni\nköltségvállalási nyilatkozat – cégenként kell kitölteni cégszerű aláírással\nadatkezelési tájékoztatás és hozzájáruló nyilatkozat – a kiutazó tölti ki és írja alá\n\nA támogatással kiutazó résztvevők létszáma korlátozott\, ezért a jelentkezéseket azok beérkezésének sorrendjében fogadjuk be. \nKérjük\, hogy az üzleti delegációval kapcsolatos foglalásaikat csak azt követően véglegesítsék\, hogy az MKIK elfogadta és visszaigazolta cégük részvételét. \n  \nTovábbi információ: Végvári Kristóf kamarai tanácsos \nE-mail: vegvari.kristof@mkik.hu \nTelefon: +36 1 474 5106
URL:https://pbkik.hu/esemeny/uzleti-delegacio-del-koreaba-az-mkik-szervezeseben/
ATTACH;FMTTYPE=image/jpeg:https://pbkik.hu/wp-content/uploads/2019/03/mkik_logo_1.jpg
END:VEVENT
BEGIN:VEVENT
DTSTART;VALUE=DATE:20240618
DTEND;VALUE=DATE:20240620
DTSTAMP:20260423T014157
CREATED:20240508T063737Z
LAST-MODIFIED:20240508T063928Z
UID:10002939-1718668800-1718841599@pbkik.hu
SUMMARY:Clusters meet Regions - Klasztertalálkozó és partnerkereső rendezvény
DESCRIPTION:2024. június 18-19-én\, Grazban\, Ausztriában kerül megrendezésre a „Clusters meet Regions” klasztertalálkozó és partnerkereső rendezvény. \nAz esemény a „Tradition Reinvented” (Újra feltalált hagyományok) témája köré szerveződik\, és célja annak feltárása\, hogy a klaszterek hogyan tudnak az európai fenntarthatósági célokhoz igazodva az éghajlat-semleges\, digitális jövő felé vezető átalakulások élére állni. \nCélcsoportok:\n\nKlasztermenedzserektől a politikai döntéshozókig\nIpari szakértőktől a KKV-kig mindenkit várnak.\n\nAz esemény elősegíti az ágazatközi párbeszédet és együttműködést\, és innovatív megoldásokat kínál a sürgető kihívásokra. \nA rendezvényt uniós vállalkozások\, klaszterszervezetek\, EEN-ek\, nemzeti és regionális kutatásfejlesztési és innovációs ügynökségek\, vállalkozástámogató szervezetek és politikai döntéshozók vehetik igénybe. \nRészletes program\, további információ és regisztráció \nA kiutazás egyénileg szervezendő.
URL:https://pbkik.hu/esemeny/clusters-meet-regions-klasztertalalkozo-es-partnerkereso-rendezveny/
LOCATION:Graz\, Graz\, Ausztria
ATTACH;FMTTYPE=image/jpeg:https://pbkik.hu/wp-content/uploads/2024/05/klaszteres.jpg
END:VEVENT
BEGIN:VEVENT
DTSTART;TZID=Europe/Budapest:20240618T080000
DTEND;TZID=Europe/Budapest:20240620T170000
DTSTAMP:20260423T014157
CREATED:20240405T113054Z
LAST-MODIFIED:20240801T111701Z
UID:10002461-1718697600-1718902800@pbkik.hu
SUMMARY:Kamarai üzleti delegáció Münchenbe támogatott részvételi lehetőséggel
DESCRIPTION:A Magyar Kereskedelmi és Iparkamara (MKIK) Vállalkozásfejlesztési Projektjének keretében 2024. június 18-20. között támogatott részvételi lehetőséggel üzleti delegációt szervez Németországba\, Münchenbe. Az exportőr kis- és középvállalkozások részvételét a Nemzetgazdasági Minisztérium támogatja költségvetési forrásból. \n \nA kiutazás célja – az általános üzleti kapcsolatok fejlesztése mellett – a két ország vállalkozói közötti együttműködési lehetőségek feltérképezése\, valamint a német üzleti környezet bemutatása. A delegáció látogatást tesz a The smarter E Europe nemzetközi energiaipari szakvásáron. Ezenkívül terveink között szerepel egy bajor partnerszervezet meglátogatása\, esetleges üzleti fórum szervezése is. \nMiért érdemes részt venni? \n\ningyenes részvétel a szakmai és üzleti programokon\,\ntájékozódási lehetőség Bajorország üzleti környezetéről\, a gazdasági együttműködési lehetőségekről\,\ntárgyalás potenciális üzleti partnerekkel\,\nvásárlátogatás a The smarter E Europe nemzetközi energiaipari szakvásáron\,\ntámogatott részvétel a megjelölt szektorokban tevékenykedő exportőr kis- és középvállalkozások számára:\n\nszállástámogatás cégenként egy fő részére a két éjszakára egyágyas szobában reggelivel\,\nbelépőjegy a vásárra egy napra egy fő számára cégenként\,\nkinti transzfer a hotel és a szakmai programok helyszínei között max. 2 fő számára cégenként – a transzfert csak a mellékletben megjelölt repülőjáratokhoz\, a későbbiekben meghatározott hotelhez és a közös szakmai programokhoz biztosítjuk.\n\n\n\nA The smarter E Europe 2024 szakvásárról röviden \nA 2024. június 18-21. között megrendezésre kerülő The smarter E Europe Európa legnagyobb energiaipari platformja\, melynek fókuszában a megújuló energiák\, a fenntartható energiaellátás\, az energiaipar decentralizációja és digitalizálása\, valamint a villamosipari-\, hőenergetikai- és közlekedési szektorok ágazatközi megoldásai állnak. A The smarter E Europe az Intersolar Europe\, az ees Europe\, a Power2Drive Europe és az EM-Power Europe kiállításokat fogja össze 2800 kiállítóval\, széles körű kísérőprogramokkal és négy konferenciával. \nAz Intersolar Europe-on a napenergiaipar vezető beszállítói\, gyártói\, forgalmazói és start-upjai mutatják be a globális trendeket és újításokat. \nAz ees Europe Európa legnagyobb kiállítása\, mely az akkumulátorokra és az energiatároló rendszerekre fókuszál. A középpontban a megújuló energiák tárolására szolgáló jövőorientált megoldások\, mint például a hidrogén és a power-to-gas technológiák állnak. \nA Power2Drive Europe a töltési infrastruktúra és az e-mobilitás nemzetközi kiállítása\, mely a tiszta közlekedés széles skáláját mutatja be. \nAz EM-Power Europe középpontjában az energia intelligens felhasználása áll az építőiparban és az iparban\, mely magába foglalja az intelligens hálózatokat és a megújuló energiák integrációját\, valamint a hálózati infrastruktúrát és a rendszerszolgáltatásokat is. \nKiemelt energetikai szektorok: Fotovoltaikus ipar; napkollektoros hőtermelés; energiatároló rendszerek\, energiatárolási technológiák; hidrogén és power-to-gas; akkumulátorgyártási technológiák\, gép- és üzemépítés; elektromos járműellátó berendezések; töltési infrastruktúra; elektromos járművek (BEV\, PHEV); EV akkumulátor-technológia; EV rendszer és gyártás; hidrogénalapú mobilitás; mobilitási szolgáltatások; intelligens hálózatok és a megújuló energiák integrációja\, villamosenergia-kereskedelem és -forgalmazás; smart city; energiagazdálkodás és épületautomatizálás; decentralizált és megújuló energiaellátás; kereskedelmi és ipari energiaszolgáltatások \nA delegációba a Németország iránt érdeklődő\, a fenti területeken tevékenykedő\, exportorientált cégprofilú kis- és középvállalkozások jelentkezését várjuk. \nTervezett szakmai és üzleti programok \n\nTájékoztató rendezvény a bajor gazdaságról és üzleti lehetőségekről.\nSzakmai szervezetek meglátogatása. (egyeztetés alatt)\nVásárlátogatás a The smarter E Europe energiaipari szakvásáron.\n\nA részletes szakmai programról a későbbiekben küldünk tájékoztatást. A szakmai programok nyelve az angol/német\, magyar tolmácsolást nem biztosítunk. \n  \nSzervezők \nA Magyar Kereskedelmi és Iparkamara (MKIK) együttműködve Magyarország Müncheni Főkonzulátusával. \nA támogatott részvétel feltételei \n\na magyaroroszági bejegyzésű kis- és középvállalkozás a fent megjelölt szektorok valamelyikében tevékenykedik\,\nexportorientált cégprofil\,\na delegált cégképviselő megfelelő szintű angol/német nyelvtudása\,\nérvényes kamarai regisztráció\,\na jelentkezéshez és a részvételhez szükséges minden dokumentum hiánytalan és megfelelő minőségben történő kitöltése és visszaküldése a megjelölt határidőig: jelentkezési lap\, angol nyelvű cégprofil\, cégszerűen aláírt költségvállalási nyilatkozat\,\na megjelölt szektorokban tevékenykedő vállalkozások esetében az MKIK fizeti egy fő számára a két éjszaka szállásköltségét (egyágyas szobában reggelivel a későbbiekben meghatározott szállodában)\, a vásári belépőjegyet egy napra és a kinti transzfereket\,\negy cégtől egy fő jelentkezését várjuk\, de a szabad férőhelyek függvényében max. 2 fő részvétele lehetséges\, a második résztvevőnek az MKIK csak a kinti transzferköltségeket fizeti\,\na szállásköltség és a vásári belépőjegy támogatásának feltétele a költségvállalási nyilatkozat meghatározott határidőig történő cégszerű aláírása és visszaküldése.\nA kinti transzferek csak abban az esetben biztosítottak\, amennyiben a cégképviselő a későbbiekben javasolt szállodában száll meg\, valamint végig a csoporttal közlekedik a szakmai programokra. Egyéb esetben a közlekedés egyéni szervezésben történik.\nAz üzleti delegáció külföldi szakmai programjának gördülékeny lebonyolítása miatt az a célszerű\, ha a csoport tagjai a kinti helyszínek között együtt közlekednek és egy hotelben szállnak meg. Az MKIK ezért tesz javaslatot szállodára. Ezektől eltérő szolgáltatásokat is igénybe lehet venni\, de ebben az esetben a résztvevő nem részesül a szállás- és transzferköltség támogatásában.\n\nFelhívjuk figyelmüket\, hogy a jelentkezők részvételéről a Nemzetgazdasági Minisztérium és a Magyar Kereskedelmi és Iparkamara dönt. Az MKIK írásban értesíti a döntésről a jelentkezőket. \n  \nVárható költségek \n\na kiutazás költségei saját gépkocsival\, vonattal vagy repülővel (a repülőjegy az út meghirdetésekor kb. 213 200 Ft/fő\, mely ár a szabad helyek függvényében változhat)\,\na szakmai programon kívüli étkezések\, transzferek\, fakultatív programok\,\na második céges résztvevő esetén szállásköltség két éjszakára egyágyas szobában reggelivel\, valamint a vásári belépőjegy.\n\nKöltségvállalási nyilatkozat \n\nA szállásköltség és a vásári belépőjegy támogatásának feltétele a mellékelt költségvállalási nyilatkozat meghatározott határidőig történő cégszerű aláírása és visszaküldése.\nVisszamondás esetén a cég köteles megtéríteni az előzetesen megrendelt szolgáltatás (szállás két éjszakára reggelivel) és a vásári belépőjegy költségét az MKIK-nak.\n\nAdatkezelés \nA Magyar Kereskedelmi és Iparkamara (MKIK) által végzett\, személyes adatokra vonatozó adatkezelés az MKIK Adatkezelési Tájékoztatójában meghatározottak és a hatályos jogszabályok szerint valósul meg. Az MKIK Adatkezelési Tájékoztatója az MKIK honlapján elérhető: www.mkik.hu. \n  \nJelentkezési határidő: 2024. április 19. \n  \nJelentkezés módja \nAz alábbiakban felsorolt három melléklet együttes\, határidőre történő megküldése a reok.miklos@mkik.hu e-mail címre: \n\njelentkezési lap – jelentkezőnként kell kitölteni\nangol nyelvű cégprofil – cégenként kell kitölteni\nköltségvállalási nyilatkozat – cégenként kell kitölteni cégszerű aláírással\n\nA mellékletek letölthetőek ezen a linken: \nJELENTKEZÉS\nA támogatással kiutazó résztvevők létszáma korlátozott\, ezért a jelentkezéseket azok beérkezésének sorrendjében fogadjuk be. \nKérjük\, hogy az üzleti delegációval kapcsolatos foglalásaikat csak azt követően véglegesítsék\, hogy az MKIK elfogadta és visszaigazolta cégük részvételét. \n  \nTovábbi információ: Reök Miklós külpiaci koordinátor \nE-mail: reok.miklos@mkik.hu \nTelefon: +36 1 474 5117
URL:https://pbkik.hu/esemeny/kamarai-uzleti-delegacio-munchenbe-tamogatott-reszveteli-lehetoseggel/
ATTACH;FMTTYPE=image/jpeg:https://pbkik.hu/wp-content/uploads/2019/03/mkik_logo_1.jpg
END:VEVENT
BEGIN:VEVENT
DTSTART;TZID=Europe/Budapest:20240618T150000
DTEND;TZID=Europe/Budapest:20240618T160000
DTSTAMP:20260423T014157
CREATED:20240531T073935Z
LAST-MODIFIED:20240531T075217Z
UID:10002951-1718722800-1718726400@pbkik.hu
SUMMARY:AMULET webinárium - Fókuszban a szálerősítésű polimerek
DESCRIPTION:A webinárium címe:  Integratív szimuláció szálerősítésű műanyagok folyamat- és szerkezeti elemzéséhez\n \n\nEz a webinárium az integratív szimuláció részletes vizsgálatát mutatja be egy konkrét példán keresztül. A webinárium az autóipar szakértőinek\, anyagtudósoknak\, valamint a kompozit anyagok területén dolgozó kutatóknak és fejlesztőknek szól. A webináriumon a szálerősítésű műanyagok fröccsöntésének és szerkezeti elemzésének integratív szimulációja kerül bemutatásra. \nAz előadáson lehetőség van a szakértőkkel való eszmecserére\, valamint betekintést nyerhet a legújabb trendekbe és technológiákba. \nIdőpont: 2024.06.18. 15:00-16:00 \nElőadó: Dr.-Ing. Sascha Müller (Technische Universität Chemnitz) \nA részvétel ingyenes\, de előzetes regisztrációhoz kötött. \nREGISZTRÁCIÓ
URL:https://pbkik.hu/esemeny/amulet-webinarium-fokuszban-a-szalerositesu-polimerek/
LOCATION:Online – Zoom
END:VEVENT
END:VCALENDAR