BEGIN:VCALENDAR
VERSION:2.0
PRODID:-//Pécs-Baranyai Kereskedelmi és Iparkamara - ECPv6.15.20//NONSGML v1.0//EN
CALSCALE:GREGORIAN
METHOD:PUBLISH
X-WR-CALNAME:Pécs-Baranyai Kereskedelmi és Iparkamara
X-ORIGINAL-URL:https://pbkik.hu
X-WR-CALDESC:Események Pécs-Baranyai Kereskedelmi és Iparkamara
REFRESH-INTERVAL;VALUE=DURATION:PT1H
X-Robots-Tag:noindex
X-PUBLISHED-TTL:PT1H
BEGIN:VTIMEZONE
TZID:Europe/Helsinki
BEGIN:DAYLIGHT
TZOFFSETFROM:+0200
TZOFFSETTO:+0300
TZNAME:EEST
DTSTART:20220327T010000
END:DAYLIGHT
BEGIN:STANDARD
TZOFFSETFROM:+0300
TZOFFSETTO:+0200
TZNAME:EET
DTSTART:20221030T010000
END:STANDARD
BEGIN:DAYLIGHT
TZOFFSETFROM:+0200
TZOFFSETTO:+0300
TZNAME:EEST
DTSTART:20230326T010000
END:DAYLIGHT
BEGIN:STANDARD
TZOFFSETFROM:+0300
TZOFFSETTO:+0200
TZNAME:EET
DTSTART:20231029T010000
END:STANDARD
BEGIN:DAYLIGHT
TZOFFSETFROM:+0200
TZOFFSETTO:+0300
TZNAME:EEST
DTSTART:20240331T010000
END:DAYLIGHT
BEGIN:STANDARD
TZOFFSETFROM:+0300
TZOFFSETTO:+0200
TZNAME:EET
DTSTART:20241027T010000
END:STANDARD
BEGIN:DAYLIGHT
TZOFFSETFROM:+0200
TZOFFSETTO:+0300
TZNAME:EEST
DTSTART:20250330T010000
END:DAYLIGHT
BEGIN:STANDARD
TZOFFSETFROM:+0300
TZOFFSETTO:+0200
TZNAME:EET
DTSTART:20251026T010000
END:STANDARD
END:VTIMEZONE
BEGIN:VTIMEZONE
TZID:Europe/Budapest
BEGIN:DAYLIGHT
TZOFFSETFROM:+0100
TZOFFSETTO:+0200
TZNAME:CEST
DTSTART:20230326T010000
END:DAYLIGHT
BEGIN:STANDARD
TZOFFSETFROM:+0200
TZOFFSETTO:+0100
TZNAME:CET
DTSTART:20231029T010000
END:STANDARD
BEGIN:DAYLIGHT
TZOFFSETFROM:+0100
TZOFFSETTO:+0200
TZNAME:CEST
DTSTART:20240331T010000
END:DAYLIGHT
BEGIN:STANDARD
TZOFFSETFROM:+0200
TZOFFSETTO:+0100
TZNAME:CET
DTSTART:20241027T010000
END:STANDARD
BEGIN:DAYLIGHT
TZOFFSETFROM:+0100
TZOFFSETTO:+0200
TZNAME:CEST
DTSTART:20250330T010000
END:DAYLIGHT
BEGIN:STANDARD
TZOFFSETFROM:+0200
TZOFFSETTO:+0100
TZNAME:CET
DTSTART:20251026T010000
END:STANDARD
END:VTIMEZONE
BEGIN:VEVENT
DTSTART;VALUE=DATE:20231116
DTEND;VALUE=DATE:20241119
DTSTAMP:20260423T152958
CREATED:20230206T144829Z
LAST-MODIFIED:20240203T121132Z
UID:10002759-1700092800-1731974399@pbkik.hu
SUMMARY:AGROBUSINESS MEDAFRIQUE EXPO 2023 - Nemzetközi agrár-élelmiszeripari vásár Tunéziában
DESCRIPTION:Az önellátás és az élelmezésbiztonság ma már a világ valamennyi országa számára elsődleges fontosságú. Az agrár-élelmiszeripari ágazat megismerése Tunéziában\, a Földközi-tenger térségében és Afrikában hozzájárulhatna ezen régió partnerségben történő fejlesztéséhez. Ebből a szempontból az AGROBUSINESS MEDAFRIQUE EXPO 2023 első alkalommal történő megrendezése a tunéziai vállalatok háromoldalú partnerségre való nyitása lesz a nyugati és az afrikai országokkal. \n\nA Tunéziai Ipari\, Bányászati és Energiaügyi Minisztérium égisze alatt szervezett kiállítás és vásár 2023 november 16-18. között kerül megrendezésre a Medina\, Yasmine Hammamet Expo központbanTunéziában\, és három napon keresztül több mint 3500 tunéziai és külföldi szakmai látogatót fogad. A vásár 3 napja alatt 3 nemzetközi fórumot szerveznek a tunéziai hatóságokkal és az agrár-élelmiszeripari ágazatban\, a mediterrán térségben és Afrikában érdekelt nemzetközi szervezetekkel\, mint például az Afrikai Unió\, a FAO\, az Európai Unió\, az ADB stb. partnerségben: \n\nÖnellátás és élelmezésbiztonság Afrikában\nA nemzetközi partnerség mint az agrár-élelmiszeripari ágazat fejlődésének mozgatórugója Tunéziában és a világban\nKorszerűsítés\, minőségi normák és nemzetközi szabványok az agrár-élelmiszeripari ágazatban\n\nTovábbi információ: https://www.agrobusiness-medafrica.com/ \nTunézia Magyarországi Nagykövetsége +36 1 336 1616 / 7 mellék \nemail: at.budapest@t-online-hu
URL:https://pbkik.hu/esemeny/agrobusiness-medafrique-expo-2023-nemzetkozi-agrar-elelmiszeripari-vasar-tuneziaban/
LOCATION:Tunézia
CATEGORIES:EEN események
END:VEVENT
BEGIN:VEVENT
DTSTART;VALUE=DATE:20240923
DTEND;VALUE=DATE:20241012
DTSTAMP:20260423T152958
CREATED:20240508T125349Z
LAST-MODIFIED:20240508T125917Z
UID:10002946-1727049600-1728691199@pbkik.hu
SUMMARY:Conxemar 2024 - B2B találkozók a Nemzetközi Fagyasztott Tengeri Élelmiszerek Kiállításán
DESCRIPTION:Conxemar 2024 – B2B találkozók\nEzt az eseményt a Galiciai Enterprise Europe Network szervezi a Conxemarral együttműködve\, hogy találkozási platformként szolgáljon a teljes tengeri élelmiszeripar számára: nagykereskedők\, importőrök\, exportőrök\, transzformátorok\, gyártók\, forgalmazók\, hűtőházak\, gépek\, segédipar (hűtés\, csomagolás\, műanyag stb.). \nA résztvevők számára lehetőség nyílik ingyenes tárgyalások lebonyolítására. \nA virtuális találkozókat szeptember 23. és október 11. között lehet lebonyolítani\, egyenként 20 perces időtartamban. \nÉrintett témák: \n\nÉlelmiszerek (akvakultúra\, kéthéjú kagylók\, konzervek\, fejlábúak\, rákfélék\, halak\, fagylaltok/sütemények\, húskészítmények\, puhatestűek\, egyéb tengeri herkentyűk\, készételek\, hozzáadott értékű tengeri herkentyűk és halak\, zöldségek).\nAdalékanyagok\nKiegészítő iparágak és gépek\nKapcsolódó szolgáltatások\n\nA rendezvény előzetes regisztrációhoz kötött.\nRegisztrálni ITT lehet. \nTovábbi információ a B2B találkozókról \nConxemar 2024 – Nemzetközi Fagyasztott Tengeri Élelmiszerek Kiállítása\nA vásárra 2024. október 1-jén\, 2-án és 3-án kerül sor Vigo városában\, Európa fő halászkikötőjében\, ahol a halfeldolgozó ipar legjelentősebb vállalatai találhatók. \nA Conxemar-on 2023-ban 26 736 látogató és 767 kiállító vett részt több mint 110 országból. \nEurópai referenciaként a teljes feldolgozóipar találkozási pontjaként szolgál: nagykereskedők\, importőrök\, exportőrök\, transzformátorok\, gyártók\, forgalmazók\, hűtőházak\, gépek\, segédipar (hűtés\, csomagolás\, műanyag stb.). \nA vásár keretében konferenciákat\, szemináriumokat és képzéseket szerveznek\, hogy a résztvevők és a kiállítók számára eszközöket biztosítsanak versenyképességük javításához\, különösen a jelenlegi gazdasági piacon. \nTovábbi információk a vásárról
URL:https://pbkik.hu/esemeny/conxemar-2024-b2b-talalkozok-a-nemzetkozi-fagyasztott-tengeri-elelmiszerek-kiallitasan/
LOCATION:Online
ATTACH;FMTTYPE=image/jpeg:https://pbkik.hu/wp-content/uploads/2024/05/conxemar.jpg
END:VEVENT
BEGIN:VEVENT
DTSTART;VALUE=DATE:20241007
DTEND;VALUE=DATE:20241011
DTSTAMP:20260423T152958
CREATED:20240902T135757Z
LAST-MODIFIED:20240903T070328Z
UID:10002513-1728259200-1728604799@pbkik.hu
SUMMARY:ELECTROSUB 2024 – nemzetközi üzletember találkozó\, konferencia és kiállítás az Ipar 4.0 jegyében
DESCRIPTION:Az október 9-10-én zajló ELECTROSUB Konferencia és Kiállítás az Ipar4.0-hoz köthető innovatív technológiák koncentrált szakmai és üzleti fóruma. Az idei program fókuszterületei: elektronika\, elektrotechnika\, digitalizáció\, AI\, IoT\, robottechnika\, automatizáció. Idén az Enterprise Europe Network szervezésében nemzetközi üzletember találkozó is segíti az üzleti partnerkeresést. \n \n\nNapjainkban az iparban jelentős változások zajlanak. Az Ipar4.0 technológiák alkalmazása\, a digitalizáció\, a fejlődés kikerülhetetlen útja\, a fenntarthatóság záloga. Az ELECTROSUB bemutatkozási lehetőséget\, üzleti\, szakmai fórumot kínál a cégeknek\, amelyek a tematikájához köthető iparágak műszaki megoldásokon alapuló termékeinek és szolgáltatásainak előállításában érdekeltek\, akár tervezőként\, kutatóként\, fejlesztőként\, gyártóként\, szolgáltatóként\, oktatóként\, kereskedőkén vagy bármi más módon. \nAz ELECTROSUB két fő pillére\, a konferencia és kiállítás\, melyet idén egy személyes részvétel mellett zajló nemzetközi üzletember találkozó is erősít.\nA konferencia előadásai a kiállításon bemutatott termékekhez\, szolgáltatásokhoz kapcsolódó\, innovatív megoldásokról szólnak. \nFókuszban: elektronika\, elektrotechnika\, digitális átalakulás\, robotika\, automatizálás \nMiért érdemes részt venni? \n\nVásárlóként – hatékony személyes találkozók során találhat képzett európai beszállítókat.\nPiaci/értékesítési menedzserként – új európai ügyfelek felkutatása.\nTermékfejlesztőként – találjon partnereket az új technológiák és innovatív megoldások megvitatásához.\n\nA részvétel díjmentes\, de regisztrációhoz kötött. \nTovábbi információ és regisztráció az üzletember találkozóra
URL:https://pbkik.hu/esemeny/electrosub-2024-nemzetkozi-uzletember-talalkozo-konferencia-es-kiallitas-az-ipar-4-0-jegyeben/
LOCATION:Lurdy Ház\, Könyves Kálmán krt. 12-14.\, Budapest\, 1097
END:VEVENT
BEGIN:VEVENT
DTSTART;VALUE=DATE:20241007
DTEND;VALUE=DATE:20241012
DTSTAMP:20260423T152958
CREATED:20240517T114727Z
LAST-MODIFIED:20241121T143050Z
UID:10002487-1728259200-1728691199@pbkik.hu
SUMMARY:Biotechnológiai üzleti misszió Japánban
DESCRIPTION:Gyógyszeripari\, biotechnológiával foglalkozó\, vagy az élettudományok területén működő vállalkozást vezet? Szeretné bemutatni technológiáit és termékeit a potenciális japán és külföldi partnereknek és ügyfeleknek? Ha igen\, akkor idén ősszel csatlakozzon a japán biotechnológiai misszióhoz\, és mutassa be vállalkozását. Ne hagyja ki ezt a nagyszerű kapcsolatépítési lehetőséget! \nA MISSZIÓRÓL \nA misszió október 7-én (hétfőn) kezdődik Oszakában az EU-Japán Biotechnológiai és Gyógyszeripari Partnerkonferencián való részvétellel\, egy egynapos partneri rendezvényen\, majd október 8-án (kedden) helyszíni látogatásra kerül sor\, amelyet a helyi hatóságokkal és biotechnológiai klaszterekkel együttműködésben szerveznek Oszaka régióban\, Japán második legnagyobb biotechnológiai és gyógyszeripari ökoszisztémájában és a japán gyógyszerkutatás történelmi központjában. \nSzerdától a misszió résztvevői kiállítanak és részt vesznek a BioJapan 2024-en Yokohamában\, Japán legnagyobb és legelismertebb biotechnológiai\, élettudományi és gyógyszeripari szakvásárán. Ez a háromnapos kiállítás és partneri esemény október 9-től (szerda) október 11-ig (péntek) kiváló lehetőséget kínál a B2B találkozókra a külön erre a célra kialakított partneri területen. A kiállítási területen található EU-Japán Központ közös standján japán nyelvű poszterek kerülnek kihelyezésre a misszió résztvevőinek anyagai alapján\, a Központ munkatársai és hivatásos tolmácsok pedig segítenek a misszió résztvevőinek termékeinek és technológiáinak népszerűsítésében\, és biztosítják a kiállítás látogatói számára a maximális megjelenést. Az esti kapcsolatépítő rendezvények növelik a potenciális üzleti partnerekkel és ügyfelekkel való kapcsolatteremtés lehetőségét. \nA missziót megelőzően tájékoztató webináriumot szerveznek a japán piacra való felkészülés érdekében\, és hozzáférést biztosítanak az online partnerkapcsolati lehetőségekhez. \nCÉLOK \nPartnerségi lehetőségek felkutatása japán biotechnológiai\, gyógyszeripari és egészségügyi technológiai vállalatokkal.\nTalálkozás és kapcsolatépítés potenciális üzleti partnerekkel Japánban\nÚj üzleti lehetőségek és partnerségek kialakítása japán vállalatokkal\nÉrtékes betekintést és ismereteket szerezni a japán piacról\, hogy KKV-ként globális szinten versenyképesebbé váljon.\nKlaszterként előkészíti a terepet a japán partnerekkel való gyakorlati klaszter-együttműködéshez. \nRÉSZTVEVŐI PROFIL \nEz a pályázati felhívás az Európai Unióból vagy az egységes piaci program kkv-pilléréhez (***) társult európai országból származó\, az alábbi ágazatokban tevékenykedő kkv-k (*) (kis- és középvállalkozások\, induló vállalkozások) vagy klaszterek (**) számára készült: \nGyógyszerkutatás\nGyógyszerkutatás támogatása\, beleértve a mesterséges intelligenciával támogatott gyógyszerfejlesztést is.\nregeneratív gyógyászat\nDigitális terápiák\, például gyógyszer-eszköz kombinációk\, nem farmakológiai terápiás rendszerek. \nPÁLYÁZATI FELVÉTEL \nA pályázónak a következőkkel kell rendelkeznie: \nAz Európai Unióban vagy az egységes piaci program kkv-pilléréhez társult országban (***) székhellyel rendelkező jogi személynél kell dolgoznia.\nmunkáltatója által aláírt levéllel támogatott (amennyiben nem tartozik a felsővezetéshez).\nKépesnek kell lennie arra\, hogy részt vegyen a teljes programban\nJó angol nyelvtudással rendelkezik (ajánlott B2 vagy magasabb szintű nyelvtudás).\nBizonyított tapasztalattal rendelkezik az iparágban \nVÁLASZTÁS \nA Központ a következő elsődleges kiválasztási kritériumok alapján értékeli a jelentkezőket: \nA vállalat Japánnal kapcsolatos stratégiája\nA vállalat által kínált termék/technológia/szolgáltatás innovatív aspektusai.\na pályázó szakmai háttere \nA misszió 12 vállalatot fogad. \nMIT KÍNÁLUNK? \nAz EU-Japán Központ fedezi a kiválasztott vállalat/klaszter egy-egy képviselőjének költségeit: \nHozzáférés az online partnerségi eszközhöz\nRészvétel az oszakai EU-Japán Biotechnológiai és gyógyszeripari partnerségi konferencián.\nA misszió második napján Oszakából Yokohamába történő egyirányú szállítás a Shinkansen járattal.\nEgyéni stand a BioJapan kiállításon az EU-Japán Központ közös standján.\nAz EU-Japán Központ munkatársai és hivatásos tolmácsok támogatása az EU-Japán Központ közös standjánál.\nHozzáférés a BioJapan partneri rendszerhez\, a partneri területhez és a kapcsolódó hálózati eseményekhez.\nA poszter és a vállalati profil fordítása\, valamint a kiállítási poszter nyomtatása. \nKÖLTSÉGEK \nA misszió résztvevői felelősek a költségek fedezéséért: \nRepülőjegy és egyéb utazási költségek a misszió kiindulási pontjához\, Oszakába és a misszió végpontjához\, Yokohamába.\nszállás Oszakában és Yokohamában\nEgyéb megélhetési költségek Japánban\, beleértve a helyi közlekedést és étkezést. \nBEFIZETÉS \nA misszióra kiválasztott résztvevőknek 1000 euró előleget kell befizetniük\, hogy biztosítsák helyüket a misszióban. Az eseményt követő rövid beszámoló benyújtása után az előleget visszatérítik. Kérjük\, hogy a jelentkezés előtt győződjön meg arról\, hogy elkötelezte magát\, mivel a részvétel megerősítése utáni lemondás a foglaló elvesztését vonja maga után. \nTovábbi információ és jelentkezés
URL:https://pbkik.hu/esemeny/biotechnologiai-uzleti-misszio-japanban/
LOCATION:Japán
CATEGORIES:EEN események
END:VEVENT
BEGIN:VEVENT
DTSTART;VALUE=DATE:20241009
DTEND;VALUE=DATE:20241012
DTSTAMP:20260423T152958
CREATED:20240916T131719Z
LAST-MODIFIED:20240916T131719Z
UID:10002973-1728432000-1728691199@pbkik.hu
SUMMARY:Nemzetközi gépipari fórum Ausztriában
DESCRIPTION:Az Osztrák Gazdasági Kamara 2024. október 9-11. között Bécsben International Machinery Forum néven szervez gépgyártási konferenciát és nemzetközi üzletember találkozót\, B2B tárgyalásokat. \n\n \nIdén immár hatodik alkalommal kerül megrendezésre az esemény\, amely a szakmai tartalom mellett a gépipar szereplőinek találkozására is lehetőséget kínál. \nAz idei konferencia a következő témákra fókuszál: \n\nVersenyképes gyártás a globalizált világban\nFenntartható termelési technológiák\nIpari mesterséges intelligencia és AR/VR\nAdditív gyártás\nAutomatizálás és robotika\nBeszerzés: nemzetközi\, fenntartható és hatékony\nAz uniós ellátási láncról szóló törvény\n\nAz érdekes szakmai előadások\, kirándulások és beszélgetések mellet idén is lehetőség van B2B tárgyalásokon keresztül új kapcsolatok kialakítására. További információ\, a teljes program és a jelentkezés a rendezvény hivatalos oldalán elérhető: https://www.machineryforum.at/ \nA részvétel a bécsi helyszínen és online is egyaránt ingyenes. A rendezvény hivatalos nyelve az angol.
URL:https://pbkik.hu/esemeny/nemzetkozi-gepipari-forum-ausztriaban/
LOCATION:Austrian Federal Economic Chamber\, Vienna\, Wiedner Hauptstraße 63\, Bécs\, Austria
CATEGORIES:EEN események
END:VEVENT
BEGIN:VEVENT
DTSTART;TZID=Europe/Budapest:20241009T150000
DTEND;TZID=Europe/Budapest:20241009T163000
DTSTAMP:20260423T152958
CREATED:20240909T104853Z
LAST-MODIFIED:20241121T143138Z
UID:10002518-1728486000-1728491400@pbkik.hu
SUMMARY:Forgassuk fel Pécset! - filmes fórum
DESCRIPTION:Egy filmforgatás rengeteg szakember összehangolt munkáját igényli\, hiszen egy jó film elkészítése nem csupán a színészek és a rendező érdeme. A háttérben számos különböző szakma képviselői dolgoznak együtt: operatőr\, díszlettervező\, hangmérnök\, sminkes\, fénytechnikus…mind helyi vállalkozók szolgáltatásai\, amiket nagy számban vesznek igénybe egy forgatáshoz. \n \nAz esemény célja\, hogy betekintést nyújtson a filmkészítés rejtelmeibe\, és bemutassa\, milyen sokrétű csapatmunka eredménye egy film\, ami egyszerre hasznos a városnak\, a benne dolgozó cégeknek\, az abban megjelenő helyszíneknek\, termékeknek. \nA filmben történő termékelhelyezés vagy egy helyszín megjelenése – gondoljunk csak James Bond órájára\, kocsijára vagy a Harry Potter kastélyra – hatékony marketingeszköz bármilyen helyi márka vagy vállalkozás számára\, mert integrálja a márkát a film történetébe\, így nem zavarja a néző élményét. Ez a módszer lehetővé teszi\, hogy a termék a nézők tudatalattijába ivódjon\, növelve ezzel az elköteleződést és a márka ismertségét. A filmekben megjelenő termékek gyakran trendeket teremtenek\, hiszen a nézők hajlamosak utánozni a látottakat\, megvásárolni ezeket a termékeket. Ráadásul a termékelhelyezés hosszú távú előnyöket is biztosíthat\, mivel a filmeket évek múlva is újranézik. Szerepelt már cége terméke egy filmen? Szerintünk itt az idő és az alkalom\, hogy ezt is kipróbálja! \nElőadók: \n\nDeák Zoltán – Pillango Productions Kft.\nKovács Tamás – TSP Design Kft.\n\nA részvétel ingyenes\, de előzetes regisztrációhoz kötött. \nRegisztráljon a rendezvényre az alábbi űrlap kitöltésével: \n\n\n\n\n2024.10.09. Forgassuk fel Pécset! workshop - DP\n\n\n\n\n\n\n\n\n	Cég / szervezet neve:\n		*\n	\n	\n	\n	\n\n\n	Résztvevő neve:\n		*\n	\n	\n	\n	\n\n\n	Résztvevő email címe:\n		*\n	\n	\n	\n	\n\n\n	Kérdés az előadókhoz Pécsett készülő filmekkel kapcsolatban:\n		\n	\n	\n	\n	\n\n\n	Együttműködési lehetőségek - helyszín\, termék\, szolgáltatás amivel támogatná a pécsi filmgyártást.\n		\n	\n	\n	\n	\n\n\n	\nBeküldés\n\n\n\n\n\n	\n	\n\n\n\n\n\n\n  \nA DesignPécs 2024 esemény tovább rendezvényeiről ITT tájékozódhat. \n 
URL:https://pbkik.hu/esemeny/forgassuk-fel-pecset-filmes-forum/
LOCATION:Pécsi Kereskedelmi Központ
ATTACH;FMTTYPE=image/png:https://pbkik.hu/wp-content/uploads/2024/09/Forgassuk-fel-Pecset-DP-2024-FB-borito_v2.png
GEO:46.081487;18.2347915
END:VEVENT
END:VCALENDAR