BEGIN:VCALENDAR
VERSION:2.0
PRODID:-//Pécs-Baranyai Kereskedelmi és Iparkamara - ECPv6.15.20//NONSGML v1.0//EN
CALSCALE:GREGORIAN
METHOD:PUBLISH
X-ORIGINAL-URL:https://pbkik.hu
X-WR-CALDESC:Események Pécs-Baranyai Kereskedelmi és Iparkamara
REFRESH-INTERVAL;VALUE=DURATION:PT1H
X-Robots-Tag:noindex
X-PUBLISHED-TTL:PT1H
BEGIN:VTIMEZONE
TZID:Europe/Budapest
BEGIN:DAYLIGHT
TZOFFSETFROM:+0100
TZOFFSETTO:+0200
TZNAME:CEST
DTSTART:20240331T010000
END:DAYLIGHT
BEGIN:STANDARD
TZOFFSETFROM:+0200
TZOFFSETTO:+0100
TZNAME:CET
DTSTART:20241027T010000
END:STANDARD
BEGIN:DAYLIGHT
TZOFFSETFROM:+0100
TZOFFSETTO:+0200
TZNAME:CEST
DTSTART:20250330T010000
END:DAYLIGHT
BEGIN:STANDARD
TZOFFSETFROM:+0200
TZOFFSETTO:+0100
TZNAME:CET
DTSTART:20251026T010000
END:STANDARD
BEGIN:DAYLIGHT
TZOFFSETFROM:+0100
TZOFFSETTO:+0200
TZNAME:CEST
DTSTART:20260329T010000
END:DAYLIGHT
BEGIN:STANDARD
TZOFFSETFROM:+0200
TZOFFSETTO:+0100
TZNAME:CET
DTSTART:20261025T010000
END:STANDARD
END:VTIMEZONE
BEGIN:VEVENT
DTSTART;VALUE=DATE:20250506
DTEND;VALUE=DATE:20250508
DTSTAMP:20260424T120836
CREATED:20250312T082445Z
LAST-MODIFIED:20250408T131102Z
UID:10003101-1746489600-1746662399@pbkik.hu
SUMMARY:PTE Innovációs Napok 2025 „A jövő technológiái” - konferencia és üzletember találkozó
DESCRIPTION:A Pécsi Tudományegyetem a Pécs-Baranyai Kereskedelmi és Iparkamara közreműködésével 2025. május 6-7. között ismét megszervezi Magyarország legnagyobb egyetemi technológia transzfer találkozóját! Vegyen részt Ön is! A kamara társszervezésében idén üzletember találkozó is segíti a kapcsolatépítést\, az innováció- és technológiatranszfert. \nA programról:\nA rendezvény fókusza az egyetemi innovációs ökoszisztémában keletkező kutatási eredmények bemutatása\, üzleti és társadalmi hasznosítása\, valamint az akadémia-ipar partnerség építése és a résztvevő vállalatok\, kutatók\, munkatársak számára a kapcsolatépítés lehetőségének megteremtése. \nAz első napon az előadások és a pódiumbeszélgetések a jövő technológiái köré épülnek\, de fókuszt kapnak a PTE\, a társegyetemek és nemzetközi partnerek innovatív technológiái is. A második napon a téma az egyetemi innovációs ökoszisztéma hazai és nemzetközi kihívásai lesznek\, valamint partnernapot tart a PTE Természettudományi és Gyógyszerésztudományi Kar is. \nAkár a legizgalmasabb kutatási eredményeit szeretné népszerűsíteni\, akár befektetni szeretne egy ígéretes új megoldás piacra juttatásába\, vagy új partnerséget szeretne kialakítani\, a PTE Innovációs Napok 2025 a megfelelő hely. \n  \nMilyen kulcstémákat érintenek az eseményen?\n\nJövőbeli technológiák és digitális átalakulás\nBiotechnológiai és orvostechnológiai innovációk\nInnováció és technológia transzfer\nAkadémiai és ipari együttműködés\nTudományos előrejelzés és trendkutatás\n\n  \nHelyszín:\nDél-dunántúli Regionális Könyvtár és Tudásközpont – Pécs\, Universitas u. 2/A \nA konferencia angol és magyar nyelven kerül megrendezésre\, a résztvevők számára fordítási lehetőséget biztosítanak! \nA teljes program is elérhető a regisztrációs felületen\n  \nSzervezők:
URL:https://pbkik.hu/esemeny/pte-innovacios-napok-2025-a-jovo-technologiai-beharangozo/
LOCATION:Dél-Dunántúli Regionális Könyvtár és Tudásközpont\, Universitas u. 2/A\,\, Pécs\, Magyarország
ATTACH;FMTTYPE=image/png:https://pbkik.hu/wp-content/uploads/2025/03/Kepernyokep-2025-03-12-093129.png
END:VEVENT
BEGIN:VEVENT
DTSTART;TZID=Europe/Budapest:20250507T080000
DTEND;TZID=Europe/Budapest:20250507T170000
DTSTAMP:20260424T120836
CREATED:20250507T105717Z
LAST-MODIFIED:20250507T111413Z
UID:10003110-1746604800-1746637200@pbkik.hu
SUMMARY:XVII. Pécsi Pénzügyi Napok
DESCRIPTION:A 2025. június 12-13-án (csütörtök-péntek) NAPRAKÉSZEN A PÉNZÜGY-SZÁMVITELBEN /Elmélet és gyakorlat/ címmel a Pécsi Tudományegyetem Közgazdaságtudományi Karán kerül megrendezésre a XVII. Pécsi Pénzügyi Napok\, ahol Magyarország egész területéről érkező elméleti és gyakorlati közgazdász előadók gondolatait ismerhetjük meg. \nA szakmai rendezvény kiemelt célja\, hogy az érdeklődő hallgatóknak\, szakembereknek\, egyetemi oktatóknak\, kutatóknak\, vállalkozások képviselőinek „házhoz hozza” a szakmai tudást az adózás\, pénzügyek és számvitel területén\, kitérve a gyakorlati és szabályozási aktualitásokra\, a gyakorlatban hasznosítható kutatási eredményekre. Emellett a két napos rendezvény a kapcsolatrendszer építését\, kommunikációs- és érdekérvényesítési\, valamint a kutatók számára publikációs lehetőséget biztosít. \nA konferencia személyes jelenlét mellett online részvételre is lehetőséget biztosít a szakma képviselői és kutatói számára. \nA konferencia idei témafelhívásai: \nVÁLTOZÓ VILÁG\, ALKALMAZKODÓ PÉNZÜGYEK:\nFENNTARTHATÓSÁG\, TECHNOLÓGIA ÉS TURBULENCIA \nA globális pénzügyi rendszerek és a vállalatok működését soha nem látott mértékű változások formálják. A fenntarthatósági szempontok egyre hangsúlyosabbá válnak a szabályozásokban és a befektetői döntéshozatalban\, míg a mesterséges intelligencia (AI) és az adatalapú technológiák forradalmasítják a pénzügyi modelleket és kockázatelemzéseket. Míg makroszinten a geopolitikai instabilitás\, a deglobalizáció\, valamint az energia- és nyersanyagpiaci volatilitás új kihívásokat teremtenek\, addig a vállalatok üzleti modelljeik adaptációjával\, a kiberbiztonsági fenyegetésekkel\, és a fogyasztói elvárások gyors változásával szembesülnek. Konferenciánk célja\, hogy a tudományos és szakmai közösségek közös platformot találjanak ezen komplex kihívások és lehetőségek megvitatására\, elősegítve az innovációt és a fenntartható megoldásokat. \n  \nA programtervezetet a következő linkre kattintva tekintheti meg: ppn_programtervezet 20250506 \nTovábbi információ ide kattintva érhető el. \n 
URL:https://pbkik.hu/esemeny/xvii-pecsi-penzugyi-napok/
LOCATION:Pécsi Tudományegyetem Közgazdaságtudományi Kar\, Rákóczi út 80.\, Pécs\, Baranya\, 7622\, Magyarország
END:VEVENT
END:VCALENDAR