BEGIN:VCALENDAR
VERSION:2.0
PRODID:-//Pécs-Baranyai Kereskedelmi és Iparkamara - ECPv6.15.20//NONSGML v1.0//EN
CALSCALE:GREGORIAN
METHOD:PUBLISH
X-WR-CALNAME:Pécs-Baranyai Kereskedelmi és Iparkamara
X-ORIGINAL-URL:https://pbkik.hu
X-WR-CALDESC:Események Pécs-Baranyai Kereskedelmi és Iparkamara
REFRESH-INTERVAL;VALUE=DURATION:PT1H
X-Robots-Tag:noindex
X-PUBLISHED-TTL:PT1H
BEGIN:VTIMEZONE
TZID:Europe/Budapest
BEGIN:DAYLIGHT
TZOFFSETFROM:+0100
TZOFFSETTO:+0200
TZNAME:CEST
DTSTART:20240331T010000
END:DAYLIGHT
BEGIN:STANDARD
TZOFFSETFROM:+0200
TZOFFSETTO:+0100
TZNAME:CET
DTSTART:20241027T010000
END:STANDARD
BEGIN:DAYLIGHT
TZOFFSETFROM:+0100
TZOFFSETTO:+0200
TZNAME:CEST
DTSTART:20250330T010000
END:DAYLIGHT
BEGIN:STANDARD
TZOFFSETFROM:+0200
TZOFFSETTO:+0100
TZNAME:CET
DTSTART:20251026T010000
END:STANDARD
BEGIN:DAYLIGHT
TZOFFSETFROM:+0100
TZOFFSETTO:+0200
TZNAME:CEST
DTSTART:20260329T010000
END:DAYLIGHT
BEGIN:STANDARD
TZOFFSETFROM:+0200
TZOFFSETTO:+0100
TZNAME:CET
DTSTART:20261025T010000
END:STANDARD
END:VTIMEZONE
BEGIN:VEVENT
DTSTART;VALUE=DATE:20250514
DTEND;VALUE=DATE:20250529
DTSTAMP:20260424T130156
CREATED:20250326T084526Z
LAST-MODIFIED:20250326T092313Z
UID:10003090-1747180800-1748476799@pbkik.hu
SUMMARY:Nyílt innovációs kihívások - Egészségügyi forradalmak kongresszusa 2025
DESCRIPTION:Az ‘Open Innovation Challenge Health Revolution Congress 2025’ rendezvényt a katalán kormány Vállalkozás- és Munkaügyi Minisztériumának ACCIÓ nevű szervezeti egysége szervezi\, együttműködve az Enterprise Europe Networkkel\, a világ legnagyobb vállalkozástámogató hálózatával. \nMiért érdemes részt venni? \n\nEgyedülálló alkalom\, hogy kapcsolatot teremtsünk gyógyszeripari vállalatokkal\, innovatív kkv-kkal\, kórházakkal és biztosítótársaságokkal\, amelyek új technológiai megoldásokat keresnek a digitális egészségügyben.\nSzemélyre szabott B2B napirendet kap az Ön érdeklődési körének és lehetőségeinek megfelelően\nA részvétel ingyenes\, akár teljesen online formában is lehetséges\nA 30 perces találkozók kulcsfontosságúak a kezdeti kapcsolatok kiépítéséhez\, lehetővé teszik a potenciális együttműködési partnerekkel való találkozást\, a résztvevők gyorsan felmérhetik egymás érdeklődési körét és szakértelmét\n\nRegisztráció: https://www.b2match.com/e/health-revolution-congress-openinnovationchallenge \nHatáridő: 2025. május 12. (a helyszíni találkozóra) \nHelyszín: Barcelona vagy online
URL:https://pbkik.hu/esemeny/nyilt-innovacios-kihivasok-egeszsegugyi-forradalmak-kongresszusa-2025/
LOCATION:Barcelona\, Recinte Modernista de Sant Pau\, Barcelona\, Spain
ATTACH;FMTTYPE=image/jpeg:https://pbkik.hu/wp-content/uploads/2025/03/health.jpg
END:VEVENT
BEGIN:VEVENT
DTSTART;VALUE=DATE:20250521
DTEND;VALUE=DATE:20250524
DTSTAMP:20260424T130156
CREATED:20250325T143232Z
LAST-MODIFIED:20250325T144044Z
UID:10003088-1747785600-1748044799@pbkik.hu
SUMMARY:AUTOPROMOTEC 2025
DESCRIPTION:A Promotec és a Unioncamere Emilia-Romagna az Enterprise Europe Networkkel együttműködve közvetítői eseményt szervez az AUTOPROMOTEC 2025 – Nemzetközi autóipari felszerelések és utángyártott termékek kiállítása (Bologna\, Olaszország\, 2025. május 21-24.) keretében.\nA közvetítői esemény jó lehetőséget kínál a nemzetközi üzleti és technológiai partnerségi megállapodások fellendítésére. \n  \nA közvetítői eseményen való részvétel egyedülálló lehetőséget kínál: \n\nüzleti és/vagy technológiai partnerség létrehozására\nminőségi partnerség kiépítésére\ntechnológiáit/projektötleteit/szolgáltatásait mutathatja be\ntalálkozzon az európai K+F projektek potenciális együttműködési partnereivel\nismerje meg az új technológiákat és megoldásokat\n\nRegisztráció: https://autopromotec-2025.b2match.io/ 
URL:https://pbkik.hu/esemeny/autopromotec-2025/
LOCATION:Bologna\, Olaszország
ATTACH;FMTTYPE=image/jpeg:https://pbkik.hu/wp-content/uploads/2025/03/autopromotec.jpg
END:VEVENT
BEGIN:VEVENT
DTSTART;VALUE=DATE:20250521
DTEND;VALUE=DATE:20250528
DTSTAMP:20260424T130156
CREATED:20250325T091553Z
LAST-MODIFIED:20250325T093026Z
UID:10003081-1747785600-1748390399@pbkik.hu
SUMMARY:Matchmaking @GITEX 2025
DESCRIPTION:2025-től a GITEX EUROPE a Berlini Kiállítási Központban kerül megrendezésre! Önt is várjuk a GITEX Europe kiállítás keretében zajló online és személyes üzletembertalálkozóra\, melyre az Enterprise Europe Network (EEN) támogatásával kerül sor! \n \nTöbb mint 60 000 tech szakember\, 2 500 kiállító és 1 000+ startup részvételével\, több mint 100 országból\, a GITEX EUROPE Európa technológiai szektorának vezető platformja. \nA GITEX 2025 Matchmaking üzletember találkozóin célzott B2B megbeszéléseken keresztül építhet új üzleti kapcsolatokat\, találhat partnereket innovatív technológiai projektekhez\, és bővítheti nemzetközi piaci lehetőségeit. Az esemény kiváló alkalom a globális technológiai szektor szereplőivel való kapcsolatfelvételre\, együttműködések kialakítására és üzleti növekedésének elősegítésére. \n\nszemélyes B2B időpontja: 2025. május 21-23.\nonline B2B időpontja: 2025. május 26-27.\n\nAzon cégek képviselőinek\, akiknek van előzetesen lefoglalt személyes megbeszélése\, az EEN ingyenes belépőt biztosít. \nREGISZTRÁCIÓ\nTémakörök\n\nMesterséges intelligencia és robotika\nFelhőalapú számítástechnika\, adatelemzés\, IoT\nFogyasztói elektronika\nKiberbiztonság\nDigitális városok\nPénzügy és digitális eszközök\nEgészségügyi technológia\nJövő mobilitása és pilóta nélküli légi járművek (UAV)\nIntelligens kapcsolódás és telekommunikáció\nTudomány és technológia\nFenntartható technológiák\n\nTovábbi információ: een@pbkik.hu
URL:https://pbkik.hu/esemeny/matchmaking-gitex-2025/
LOCATION:Hibrid
CATEGORIES:EEN események
ATTACH;FMTTYPE=image/png:https://pbkik.hu/wp-content/uploads/2025/03/Matchmaking-@GITEX-2025kk.png
END:VEVENT
BEGIN:VEVENT
DTSTART;TZID=Europe/Budapest:20250522T093000
DTEND;TZID=Europe/Budapest:20250522T130000
DTSTAMP:20260424T130156
CREATED:20250417T055931Z
LAST-MODIFIED:20250417T060345Z
UID:10003104-1747906200-1747918800@pbkik.hu
SUMMARY:Pénz\, de honnan? 2025 – Pécs
DESCRIPTION:Van remény a recesszióból kilábalásra\, a tőkehiány enyhítésére?  A kkv-kat segítő Demján Sándor Program\, Jedlik Ányos Energetikai Program és az EU-pénzekből GINOP Plusz\, DIMOP Plusz pályázati kiírások tömkelege indult és indul be 2025-ben. 50 milliárd keretösszegű új támogatás nyílik áprilisban a leghátrányosabb helyzetű régiók  mikro- és kisvállalkozásainak! Lehet válogatni: tőkefinanszírozást kérhetünk\, alacsony kamatú vagy 0-kamatozású innovációs és beruházási hiteleket\, vissza nem térítendő támogatásokat vehetünk fel akár nulla vagy kevés önrésszel. Amely cégnek nincs honlapja\, igényelhet honlaputalványt. A Jedlik Ányos energetikai programból rengetek kkv részesedhet!  És még sok egyéb támogatott forrásszerzési lehetőség vár a kkv-kra. \nA népszerű Széchenyi hitelek némelyikének ismét csökkent a kamata.Ezeken kívül még sok\, például foglalkoztatáshoz\, képzéshez köthető új támogatásokról tudunk beszámolni. S szó lesz olyanokról\, amikről még talán senki sem hallott. \nA kereskedelmi banki forrásszerzés nagyon is versenyképes lehetőségeinek és a vagyon biztonságba helyezésének bemutatásáról sem feledkeznek meg a 25. évébe lépett „Pénz\, de honnan” roadshow előadói. \nA Pénz\, de honnan? roadshow-konferencia minden évben bemutatja a hazai kkv-k számára rendelkezésre álló kedvezményes\, támogatott és előnyös pénzforrásokat és a működési hatékonyságot növelő új módszereket. Az előadók személyes konzultációra is várják a résztvevőket a helyszínen.  \n\nA rendezvényen való részvétel díjmentes de regisztrációhoz kötött.Részletes program és jelentkezés: \nPénz\, de honnan? 2025 – Pécs \n \n\n 
URL:https://pbkik.hu/esemeny/penz-de-honnan-2025-pecs/
LOCATION:Pécsi Kereskedelmi Központ
GEO:46.081487;18.2347915
END:VEVENT
END:VCALENDAR