BEGIN:VCALENDAR
VERSION:2.0
PRODID:-//Pécs-Baranyai Kereskedelmi és Iparkamara - ECPv6.15.20//NONSGML v1.0//EN
CALSCALE:GREGORIAN
METHOD:PUBLISH
X-WR-CALNAME:Pécs-Baranyai Kereskedelmi és Iparkamara
X-ORIGINAL-URL:https://pbkik.hu
X-WR-CALDESC:Események Pécs-Baranyai Kereskedelmi és Iparkamara
REFRESH-INTERVAL;VALUE=DURATION:PT1H
X-Robots-Tag:noindex
X-PUBLISHED-TTL:PT1H
BEGIN:VTIMEZONE
TZID:Europe/Budapest
BEGIN:DAYLIGHT
TZOFFSETFROM:+0100
TZOFFSETTO:+0200
TZNAME:CEST
DTSTART:20240331T010000
END:DAYLIGHT
BEGIN:STANDARD
TZOFFSETFROM:+0200
TZOFFSETTO:+0100
TZNAME:CET
DTSTART:20241027T010000
END:STANDARD
BEGIN:DAYLIGHT
TZOFFSETFROM:+0100
TZOFFSETTO:+0200
TZNAME:CEST
DTSTART:20250330T010000
END:DAYLIGHT
BEGIN:STANDARD
TZOFFSETFROM:+0200
TZOFFSETTO:+0100
TZNAME:CET
DTSTART:20251026T010000
END:STANDARD
BEGIN:DAYLIGHT
TZOFFSETFROM:+0100
TZOFFSETTO:+0200
TZNAME:CEST
DTSTART:20260329T010000
END:DAYLIGHT
BEGIN:STANDARD
TZOFFSETFROM:+0200
TZOFFSETTO:+0100
TZNAME:CET
DTSTART:20261025T010000
END:STANDARD
END:VTIMEZONE
BEGIN:VEVENT
DTSTART;VALUE=DATE:20250609
DTEND;VALUE=DATE:20250614
DTSTAMP:20260419T204418
CREATED:20250325T124033Z
LAST-MODIFIED:20250325T131935Z
UID:10003085-1749427200-1749859199@pbkik.hu
SUMMARY:AI alkalmazása az üzleti- és a mindennapi életben
DESCRIPTION:Az esemény keretében inspiráló plenáris ülések\, informatív workshopok és célzott találkozók biztosítanak lehetőséget ismeretszerzésre és új üzleti vagy tudományos kapcsolatok építésére. \n  \nA rendezvény elsődleges célja\, hogy elősegítse a mesterséges intelligencia területén érdekelt felek közötti érdemi kapcsolatokat és együttműködéseket\, és ezáltal előmozdítsa az innováció élénk ökoszisztémájának kialakulását. Az iparági szakértők\, vállalkozások és kutatók összehozásán keresztüli cél\, hogy feltárják a mesterséges intelligencia sokrétű alkalmazásait mind az üzleti tevékenységekben\, mind a mindennapi életben. Az esemény célja\, hogy a tudáscserén\, a hálózatépítésen és az értő vitákon keresztül katalizálja az iparágakra pozitív hatást gyakorló mesterséges intelligencia-megoldások fejlesztését és megvalósítását. \nIdőpont: 2025.06.09-13. \nHelyszín: Varsó\, Lengyelország \nTovábbi információ\, regisztráció: https://aiabel2025.b2match.io/
URL:https://pbkik.hu/esemeny/ai-alkalmazasa-az-uzleti-es-a-mindennapi-eletben/
ATTACH;FMTTYPE=image/jpeg:https://pbkik.hu/wp-content/uploads/2025/03/AI.jpg
END:VEVENT
END:VCALENDAR