BEGIN:VCALENDAR
VERSION:2.0
PRODID:-//Pécs-Baranyai Kereskedelmi és Iparkamara - ECPv6.15.20//NONSGML v1.0//EN
CALSCALE:GREGORIAN
METHOD:PUBLISH
X-WR-CALNAME:Pécs-Baranyai Kereskedelmi és Iparkamara
X-ORIGINAL-URL:https://pbkik.hu
X-WR-CALDESC:Események Pécs-Baranyai Kereskedelmi és Iparkamara
REFRESH-INTERVAL;VALUE=DURATION:PT1H
X-Robots-Tag:noindex
X-PUBLISHED-TTL:PT1H
BEGIN:VTIMEZONE
TZID:Europe/Budapest
BEGIN:DAYLIGHT
TZOFFSETFROM:+0100
TZOFFSETTO:+0200
TZNAME:CEST
DTSTART:20240331T010000
END:DAYLIGHT
BEGIN:STANDARD
TZOFFSETFROM:+0200
TZOFFSETTO:+0100
TZNAME:CET
DTSTART:20241027T010000
END:STANDARD
BEGIN:DAYLIGHT
TZOFFSETFROM:+0100
TZOFFSETTO:+0200
TZNAME:CEST
DTSTART:20250330T010000
END:DAYLIGHT
BEGIN:STANDARD
TZOFFSETFROM:+0200
TZOFFSETTO:+0100
TZNAME:CET
DTSTART:20251026T010000
END:STANDARD
BEGIN:DAYLIGHT
TZOFFSETFROM:+0100
TZOFFSETTO:+0200
TZNAME:CEST
DTSTART:20260329T010000
END:DAYLIGHT
BEGIN:STANDARD
TZOFFSETFROM:+0200
TZOFFSETTO:+0100
TZNAME:CET
DTSTART:20261025T010000
END:STANDARD
END:VTIMEZONE
BEGIN:VEVENT
DTSTART;TZID=Europe/Budapest:20251008T080000
DTEND;TZID=Europe/Budapest:20251019T180000
DTSTAMP:20260425T211844
CREATED:20250807T085020Z
LAST-MODIFIED:20250901T180725Z
UID:10003160-1759910400-1760896800@pbkik.hu
SUMMARY:A design örök - kiállítás
DESCRIPTION:Kerámia\, porcelán és selyem alapanyagok felhasználásával készült kreatív tárgyak bemutatója. \nKiállítók: \n\nNémeth Panni Édenkert Ékszerei \nKerámia és porcelán ékszerek aranyozással és kézzel festett részletekkel\, a természet és a játékosság ihletésében. A Fruit Ceramics Kidult és Inclusive kollekciói azoknak készülnek\, akik hisznek abban\, hogy az ékszer nemcsak szép\, hanem mindenki számára elérhető. A dizájn nem kirekesztő. \nAz Édenkert Ékszerei magastüzű kőagyagból és színes porcelánból készülnek\, aranyozással és kézzel festett részletekkel\, a természet\, a játékosság és a szabadság jegyében. \nA Fruit Ceramics két kollekcióval mutatkozik be: a Kidult azoknak szól\, akik felnőttként is megőrzik gyermeki kíváncsiságukat\, az Inclusive pedig azoknak\, akiknek kicsit másra van szükségük – praktikus\, könnyen viselhető darabokkal. \nMinden ékszer egy apró történet\, de mind ugyanazt az üzenetet hordozza: a dizájn nem kirekesztő. \n  \nTovábbi információ a szervezőről: \n\n\n\n\n\n\n\n\n  \n\nMelegh Andrea Silk Art by Andrea Melegh \nA valódi selyem lágy\, mégis erős anyag. Csodálatos\, ahogy szétterül a selymen a festék\, az irányított véletlenekben nagy lehetőségek rejlenek. Ennek a varázslatnak a megtapasztalására hív ez a néhány alkotóóra. \nMelegh Andrea idén 10. alkalommal szervezte meg Horvátországban a nyári Selyemfestés Alkotótáborát. Ez a csöppnyi\, autómentes sziget évről évre tartogat meglepetéseket és kísérletezésre inspiráló felfedezéseket nyújt. Amikor összeér a nap\, a tenger és a hőség\, akkor ideális körülmények alakulnak ki az alkotáshoz\, szabadon szárnyal a fantázia. A művész idén azokat a selymeit mutatja be\, amelyeket csak ott\, abban a miliőben lehetett létrehozni. A helyi növények rávarázsolódtak a textilre és megismételhetetlen kreációk születtek. \nA kiállítás megtekinthető a Pécs-Baranyai Kereskedelmi és Iparkamara épületében a DesignPécs ideje alatt 8.00-17.00. \nTovábbi információ a szervezőről: \n\n\n\n\n\n\n\n\nVárjuk a DesignPécs további eseményeire is!
URL:https://pbkik.hu/esemeny/az-edenkert-ekszerei/
LOCATION:Pécsi Kereskedelmi Központ
CATEGORIES:DesignPécs
ATTACH;FMTTYPE=image/jpeg:https://pbkik.hu/wp-content/uploads/2025/08/A-design-orok.jpg
GEO:46.081487;18.2347915
END:VEVENT
BEGIN:VEVENT
DTSTART;TZID=Europe/Budapest:20251008T080000
DTEND;TZID=Europe/Budapest:20251019T180000
DTSTAMP:20260425T211845
CREATED:20250807T090655Z
LAST-MODIFIED:20250902T080602Z
UID:10003161-1759910400-1760896800@pbkik.hu
SUMMARY:Second Hand\, First Choice - Kantár Vintage
DESCRIPTION:A DesignPécs programsorozat keretében a Király utcai üzletben mutatják be a legújabb kollekciókat\, valamint betekintést nyújtanak a működésük kulisszái mögé: a ruhák kiválasztásának\, beszerzésének és árazásának szempontjai mellett szó lesz a bolt indulásának történetéről is. \n \n\nA DesignPécs programsorozathoz kapcsolódva megnyitják Király utcai üzletünket az érdeklődők előtt. A látogatók nemcsak a legújabb őszi kollekciókat tekinthetik meg\, hanem közelebbről is megismerhetik a Kantár működését. Bemutatják\, honnan indult a bolt ötlete\, hogyan zajlik a ruhák kiválasztása és beszerzése\, milyen szempontok alapján áraznak\, és hogyan próbálják tudatosabb vásárlásra ösztönözni a fiatalokat. Céljuk\, hogy megmutassák: a second hand kultúra lehet igényes\, átgondolt és közösségépítő erejű is. \nA Kantár Vintage egy pécsi second hand bolt\, amely válogatott\, jó minőségű használt ruhákkal és kiegészítőkkel kínál alternatívát a fast fashion és a hagyományos turkálók világával szemben. Céljuk\, hogy a vintage vásárlás igényes\, stílusos és személyes élmény legyen – egy olyan helyet hozzanak létre\, ahol a környezettudatosság\, az egyediség és a közösség találkozik. Kínálatuk friss\, trendérzékeny\, a bolt pedig átlátható térként működik. A Kantár elsősorban pécsi egyetemistákra és a város kreatív közegére épít\, de mindenkit vár\, aki hisz abban\, hogy az öltözködés önkifejezés\, és a vásárlás lehet élmény is. \nProgram helyszíne: 7621\, Pécs\, Király utca 20. \nMegtekinthető: minden nap\, a bolt nyitvatartási idejében.\nHétfő: zárva\nKedd-péntek: 12:00 – 18:00\nSzombat: 10:00 – 20:00\nVasárnap: 10:00 – 18:00 \nTovábbi információ a szervezőről: \n\n\n\n\n\n\n\n\nVárjuk a DesignPécs további eseményeire is!
URL:https://pbkik.hu/esemeny/kantar/
LOCATION:K20 Kirakat\, Király utca 20.\, Pécs\, 7621
CATEGORIES:DesignPécs
ATTACH;FMTTYPE=image/png:https://pbkik.hu/wp-content/uploads/2025/08/kantar_landscape-scaled.png
END:VEVENT
BEGIN:VEVENT
DTSTART;TZID=Europe/Budapest:20251008T080000
DTEND;TZID=Europe/Budapest:20251019T190000
DTSTAMP:20260425T211845
CREATED:20250731T131829Z
LAST-MODIFIED:20250928T112903Z
UID:10003148-1759910400-1760900400@pbkik.hu
SUMMARY:Szááárnyakat ad - A Red Bull animáció pécsi története - kiállítás
DESCRIPTION:Egy finom vonal\, ami inspirálja a világot – a Red Bull rajzfilmek története. \n \nA magyarországi Kastner Kartoon (korábban korábban Funny Film\, Pannónia Pécs) a világ azon kevés rajzfilmstúdióinak egyike\, ahol a mai napig hagyományos technikával\, papír alapon kézzel készülnek az animációs filmek. Az idő próbáját bőven kiálló kampánygondolatra eddig több\, mint 140 film született\, melyek jelenleg mintegy 170 országban futnak\, így a “A Red Bull szááárnyakat ad!” joggal nevezhető a kevés valódi globális reklámkampányok egyikének. \nHelyszín: I Love Pécs Café (Pécs\, Széchenyi tér 1.)\nDátum: 2025.10.08-19.\nProgram látogatási ideje: a kávézó nyitvatartási idejében (Hétfő – Péntek: 08:00 – 19:00\, Szombat – Vasárnap: 09:00-19:00)\nA látogatás ingyenes. \nTovábbi információ a szervezőről: \n\n\n\n\n\n\n\n\n\nVárjuk a DesignPécs további eseményeire is!
URL:https://pbkik.hu/esemeny/szaaarnyakat-ad-kiallitas/
LOCATION:I Love Pécs Café\, Széchenyi tér 1.\, Pécs\, Magyarország
CATEGORIES:DesignPécs
ATTACH;FMTTYPE=image/jpeg:https://pbkik.hu/wp-content/uploads/2025/07/Szaaarnyakat-ad-A-Red-Bull.jpg
END:VEVENT
BEGIN:VEVENT
DTSTART;TZID=Europe/Budapest:20251009T150000
DTEND;TZID=Europe/Budapest:20251018T180000
DTSTAMP:20260425T211845
CREATED:20250731T133053Z
LAST-MODIFIED:20250929T062500Z
UID:10003149-1760022000-1760810400@pbkik.hu
SUMMARY:Pécsi Kreatív Ipari Backstage Túrák
DESCRIPTION:A DesignPécs keretében megrendezett Pécsi Kreatív Ipari Backstage Túrák során a látogatók személyes\, vezetett programokon keresztül nyerhetnek betekintést a helyi kreatív vállalkozások kulisszái mögé\, megismerve a gyártási és alkotói folyamatokat. \n \nA DesignPécs célja a pécsi kreatív ipar sokszínűségének és értékeinek bemutatása. Ennek részeként idén is megrendezésre kerül a Pécsi Kreatív Ipari Backstage Túrák rendezvénysorozat\, amely során a látogatók kis létszámú\, vezetett túrák keretében betekinthetnek a helyi alkotók és cégek világába. A résztvevők közvetlenül a vállalkozók vezetésével ismerhetik meg a gyártás\, tervezés és kreatív munka kulisszatitkait. A túrák célja a közönség és a pécsi kreatív szféra összekapcsolása személyes\, inspiráló élményeken keresztül. \nA sorozatban 8 túrára kerül sor a különböző kreatív területek képviselőivel: \n📅 2025. október 09. (csütörtök) 15:00\n📚 Csorba Győző Könyvtár\n📍 Tudásközpont – Pécs\, Universitas u. 2A.\n⏳ 60 perc\n🔗 Regisztráció: https://forms.gle/VFkSPnsQ7MPVBTUE6 \n📅 2025. október 10. (péntek) 13:00\, 14:00\, 15:00\, 16:00\, 17:00\, 18:00\n🏛️ Városháza Torony Kiállítás\n📍 Városháza porta – 7621 Pécs\, Széchenyi tér 1.\n⏳ 30 perc\n🔗 Regisztráció: https://pecs.hu/varoshaza-torony-kiallitas/ \n📅 2025. október 14. (kedd) 14:00\n🎹 Pécsi Orgonaépítő Manufaktúra\n📍 7630 Pécs\, Iparsziget u. 3.\n⏳ 60 perc\n🔗 Regisztráció: https://forms.gle/kX3KVm7P3My1UwTk7 \n📅 2025. október 14. (kedd)\, 15. (szerda)\, 16. (csütörtök) 10:00\n🎬 Kastner Kartoon – Pécsi Rajzfilmstúdió-látogatás\n📍 7625 Pécs\, Vince u. 9/2.\n⏳ 90 perc\n🔗 Regisztráció: https://forms.gle/Yvhb9HHrKY1ZGnxk9 \n📅 2025. október 15. (szerda) 10:00\n🎶 A Kodály Központ Kulisszatitkai\n📍 7622 Pécs\, Breuer Marcell sétány 4. – Kodály Központ előtér\, Infopult\n⏳ 60–90 perc\n✉️ Regisztráció: regisztracio@zsn.hu \n📅 2025. október 16. (csütörtök) 10:00\n⚙️ Körber Hungária Gépgyártó\n📍 Körber Hungária Pécs – Északmegyer dűlő\, 3. porta\n⏳ 120 perc\n🔗 Regisztráció: https://forms.gle/KpBD8GDUKhsnihkf9 \n📅 2025. október 18. (szombat) 10:00\n🍺 Pécsi Sörfőzde\n📍 Pécs\, Tavasz utca 13.\n⏳ 120 perc\n🔗 Regisztráció: https://forms.gle/aBatEFPUPYvdu9sj7 \n📅 2025. október 18. (szombat) 14:00\n🎨 Zsolnay Negyed – Szecessziós időutazás\n📍 Zsolnay Kulturális Negyed (Indulás: Infopont & Shop – Boltok utcája)\n⏳ 90 perc\n✉️ Regisztráció: regisztracio@zsn.hu \n📅 2025. október 18. (szombat) 17:00\n🖨️ Drukker Közösségi Nyomdaműhely\n📍 Drukker Nyomda – 7621 Pécs\, Káptalan utca 4. (Kőkert)\n⏳ 30–60 perc\n🔗 Regisztráció: https://forms.gle/E8iKdE9xNDqwVbos6 \nNe hagyja ki ezt az egyedülálló lehetőséget\, hogy testközelből fedezze fel Pécs kreatív iparának titkait! \nPécs Megyei Jogú Város Városmarketing Osztálya célul tűzte ki egy hiteles\, értékalapú településmárka és -pozíció létrehozását\, amely Pécs karakterét és vonzerejét hitelesen közvetíti. Tartalmi és vizuális eszközökkel olyan városképet épít\, amely érzelmi kötődést alakít ki a város és annak lakói\, látogatói között. Fontos számára\, hogy Pécs múltját és hagyományait kortárs szemlélettel ötvözze\, így alakítva ki egy pezsgő\, élhető városi környezetet. Tevékenységében hangsúlyos szerepet kap a város kulturális öröksége\, az egyetem jelenléte\, valamint a természet közelsége\, amelyek együtt egy minőségi\, vonzó életérzést közvetítenek. \nTovábbi információ:\nwww.pecs.hu\nvarosmarketing@ph.pecs.hu \nA részvétel ingyenes\, de előzetes regisztrációhoz kötött. \nVárjuk a DesignPécs további eseményeire is! \n  \nTovábbi információ a szervezőről: \n\n\n\n\n\n\n\n\n\n 
URL:https://pbkik.hu/esemeny/backstage-turak/
CATEGORIES:DesignPécs
ATTACH;FMTTYPE=image/jpeg:https://pbkik.hu/wp-content/uploads/2025/07/Pecsi-Kreativ-Ipari-Backstage-Turak-Logo-scaled.jpg
END:VEVENT
BEGIN:VEVENT
DTSTART;TZID=Europe/Budapest:20251012T140000
DTEND;TZID=Europe/Budapest:20251012T180000
DTSTAMP:20260425T211845
CREATED:20250905T105931Z
LAST-MODIFIED:20250928T112653Z
UID:10003189-1760277600-1760292000@pbkik.hu
SUMMARY:A Síkból a Térbe – kreatív családi workshop
DESCRIPTION:Varázsolj papír ruhákat egy izgalmas történelmi környezetben! Hozd el a kedvenc babádat/plüssödet/figurádat a múzeumba\, és készíts neki saját öltözéket papírból – mi mindenben segítünk. Szabásmintát tervezhetsz\, anyagot festhetsz\, kiszabhatsz és illeszthetsz\, végül pedig ráadhatod a kész papír ruhát a babára. \n \nA munkát egy tapasztalt ruhatervező és egy sokat látott papíridomár kíséri\, a hangulat garantált! \nMiközben a műhelyben alkotsz\, bármikor betérhetsz inspirációért A Hely szelleme – Genius Loci kiállításba\, sőt: az előkészített fotópontokon magadra is ölthetsz egy-egy korabeli ruhát. Egy kattintás\, és máris megszületik a családi fénykép. \nIdőpont: 2025. október 12.\, 14:00–18:00 \nHelyszín: Janus Pannonius Múzeum\, 7621 Pécs\, Széchenyi tér 12. \nJegyvásárlás ezen a linken érhető el. \nRészvételi díj: \nteljes árú 4000 Ft\nkedvezményes: 2000 Ft (18 éves kor alatt illetve 18 éves és 26 éves kor között érvényes diákigazolvány bemutatásával)\nA  program jegyével Hely szelleme – Genius Loci kiállítás és az időszaki kiállítás is megtekinthető) \nSzervező és házigazda: Janus Pannonius Múzeum \nTovábbi információ a szervezőről: \n\n\n\n\n\n\n\n\nVárjuk a DesignPécs további eseményeire is!
URL:https://pbkik.hu/esemeny/a-sikbol-a-terbe/
CATEGORIES:DesignPécs
ATTACH;FMTTYPE=image/jpeg:https://pbkik.hu/wp-content/uploads/2025/09/Sikbol-a-terbe.jpg
END:VEVENT
END:VCALENDAR