BEGIN:VCALENDAR
VERSION:2.0
PRODID:-//Pécs-Baranyai Kereskedelmi és Iparkamara - ECPv6.15.20//NONSGML v1.0//EN
CALSCALE:GREGORIAN
METHOD:PUBLISH
X-WR-CALNAME:Pécs-Baranyai Kereskedelmi és Iparkamara
X-ORIGINAL-URL:https://pbkik.hu
X-WR-CALDESC:Események Pécs-Baranyai Kereskedelmi és Iparkamara
REFRESH-INTERVAL;VALUE=DURATION:PT1H
X-Robots-Tag:noindex
X-PUBLISHED-TTL:PT1H
BEGIN:VTIMEZONE
TZID:Europe/Budapest
BEGIN:DAYLIGHT
TZOFFSETFROM:+0100
TZOFFSETTO:+0200
TZNAME:CEST
DTSTART:20240331T010000
END:DAYLIGHT
BEGIN:STANDARD
TZOFFSETFROM:+0200
TZOFFSETTO:+0100
TZNAME:CET
DTSTART:20241027T010000
END:STANDARD
BEGIN:DAYLIGHT
TZOFFSETFROM:+0100
TZOFFSETTO:+0200
TZNAME:CEST
DTSTART:20250330T010000
END:DAYLIGHT
BEGIN:STANDARD
TZOFFSETFROM:+0200
TZOFFSETTO:+0100
TZNAME:CET
DTSTART:20251026T010000
END:STANDARD
BEGIN:DAYLIGHT
TZOFFSETFROM:+0100
TZOFFSETTO:+0200
TZNAME:CEST
DTSTART:20260329T010000
END:DAYLIGHT
BEGIN:STANDARD
TZOFFSETFROM:+0200
TZOFFSETTO:+0100
TZNAME:CET
DTSTART:20261025T010000
END:STANDARD
END:VTIMEZONE
BEGIN:VEVENT
DTSTART;VALUE=DATE:20251103
DTEND;VALUE=DATE:20251106
DTSTAMP:20260423T133348
CREATED:20250620T104031Z
LAST-MODIFIED:20250826T065403Z
UID:10003126-1762128000-1762387199@pbkik.hu
SUMMARY:72. FCEM Világkongresszus (kongresszus női vállalkozóknak)
DESCRIPTION:A görögországi Athén ad otthont 2025. november 3–5. között a világ legnagyobb női vállalkozói hálózatának éves kongresszusának\, a 72. FCEM Világkongresszusnak. A több mint 120 országot képviselő\, 5 millió női vállalkozót tömörítő FCEM – Les Femmes Chefs d’Entreprises Mondiales (A Világ Női Vállalkozói) kongresszusa nemcsak inspiráló nemzetközi esemény\, hanem valódi lehetőség magyar női vállalkozók számára\, hogy globális színtéren mutatkozzanak be\, bővítsék kapcsolatrendszerüket és nemzetközi üzleti együttműködéseket alakítsanak ki. \n \nA háromnapos esemény során a résztvevők panelbeszélgetéseken\, mesterkurzusokon\, interaktív B2B találkozókon és kulturális programokon keresztül nyerhetnek betekintést a legújabb vállalkozói trendekbe\, eszmecserét folytathatnak befektetőkkel\, és megismerhetik más országok jó gyakorlatait. A rendezvény házigazdája a görög SEGE női vállalkozói szövetség\, a program célja pedig a női vezetők láthatóságának növelése\, gazdasági szerepvállalásuk erősítése és nemzetközi együttműködések előmozdítása. \nA kongresszusra vállalkozók\, startupok alapítói\, üzleti hálózatok képviselői és innovátorok jelentkezését várják – különösen olyan női vezetőkét\, akik nyitottak a nemzetközi jelenlét erősítésére. \n  \nTovábbi információ és regisztráció: https://fcem2025.com/ 
URL:https://pbkik.hu/esemeny/72-fcem-vilagkongresszus-kongresszus-noi-vallalkozoknak/
ATTACH;FMTTYPE=image/png:https://pbkik.hu/wp-content/uploads/2025/06/FCEM-logo.png
END:VEVENT
END:VCALENDAR