BEGIN:VCALENDAR
VERSION:2.0
PRODID:-//Pécs-Baranyai Kereskedelmi és Iparkamara - ECPv6.15.20//NONSGML v1.0//EN
CALSCALE:GREGORIAN
METHOD:PUBLISH
X-ORIGINAL-URL:https://pbkik.hu
X-WR-CALDESC:Események Pécs-Baranyai Kereskedelmi és Iparkamara
REFRESH-INTERVAL;VALUE=DURATION:PT1H
X-Robots-Tag:noindex
X-PUBLISHED-TTL:PT1H
BEGIN:VTIMEZONE
TZID:Europe/Helsinki
BEGIN:DAYLIGHT
TZOFFSETFROM:+0200
TZOFFSETTO:+0300
TZNAME:EEST
DTSTART:20200329T010000
END:DAYLIGHT
BEGIN:STANDARD
TZOFFSETFROM:+0300
TZOFFSETTO:+0200
TZNAME:EET
DTSTART:20201025T010000
END:STANDARD
BEGIN:DAYLIGHT
TZOFFSETFROM:+0200
TZOFFSETTO:+0300
TZNAME:EEST
DTSTART:20210328T010000
END:DAYLIGHT
BEGIN:STANDARD
TZOFFSETFROM:+0300
TZOFFSETTO:+0200
TZNAME:EET
DTSTART:20211031T010000
END:STANDARD
BEGIN:DAYLIGHT
TZOFFSETFROM:+0200
TZOFFSETTO:+0300
TZNAME:EEST
DTSTART:20220327T010000
END:DAYLIGHT
BEGIN:STANDARD
TZOFFSETFROM:+0300
TZOFFSETTO:+0200
TZNAME:EET
DTSTART:20221030T010000
END:STANDARD
END:VTIMEZONE
BEGIN:VEVENT
DTSTART;TZID=Europe/Helsinki:20210902T160000
DTEND;TZID=Europe/Helsinki:20210902T170000
DTSTAMP:20260423T013728
CREATED:20210825T115459Z
LAST-MODIFIED:20210825T120956Z
UID:10002455-1630598400-1630602000@pbkik.hu
SUMMARY:EUROSTARS - tájékoztató webinárium
DESCRIPTION:Hamarosan megnyílik a következő Eurostars felhívás. Amit mindig is tudni akart az Eurostars pályázatokról\, de soha nem merte megkérdezni. Most közvetlenül a pályázati koordinátor válaszol a kérdésekre. \n \nCsatlakozzon az Eurostars program webináriumához\, hogy: \n\nmegtudja\, hogy mi változott az új Eurostars programban\,\ntanácsokat kapjon ahhoz\, hogyan növelheti sikerének esélyeit\,\ntöbbet tudjon meg az új projektbeadási platformról.\n\nA webinárium házigazdája Federica Vitale\, Eurostars pályázati koordinátor. \nAz Eurostars egy olyan program\, amely támogatja a kutatást végző\, innovatív termékeket\, eljárásokat és szolgáltatásokat fejlesztő kis- és középvállalkozásokat\, hogy versenyelőnyre tegyenek szert. \nAz Eureka a világ legnagyobb állami hálózata a kutatás-fejlesztés-innováció területén folytatott nemzetközi együttműködésnek. Több mint 45 országban van jelen. Az Eureka biztosítja\, hogy minden jó üzleti tervvel rendelkező K+F projekt megkapja a megérdemelt támogatást\, függetlenül annak technológiai jellegétől vagy az érintett szervezetek típusától. \nA program nyelve angol. A részvétel díjmentes\, de regisztrációhoz kötött. \nregisztráció
URL:https://pbkik.hu/esemeny/eurostars-tajekoztato-webinarium/
LOCATION:Online
END:VEVENT
BEGIN:VEVENT
DTSTART;TZID=Europe/Helsinki:20210910T100000
DTEND;TZID=Europe/Helsinki:20210910T113000
DTSTAMP:20260423T013728
CREATED:20210830T111443Z
LAST-MODIFIED:20221122T101225Z
UID:10002480-1631268000-1631273400@pbkik.hu
SUMMARY:A kínai biofarmáciai ágazat áttekintése: piacra lépés és szellemi tulajdonjogok
DESCRIPTION:Az EU és Kína közt létrejött\, és egyre bővülő\, szellemi tulajdonjogokat érintő megállapodásai egyre szélesebbre tárják a kaput a kínai piac felé az európai vállalkozások számára. A webináriumon a biofarmáciai ágazatról\, a piacra lépésről\, szabályozásról\, a kínai állami szabályozó szervek szerepéről\, és a szellemi tulajdonvédelem legfontosabb kérdéseiről lesz szó. \n \nA képzést az EU KKV Központjával\, a Kínai-Olasz Kereskedelmi Kamarával\, a Confindustria Lombardiával és a Lombardiai Élettudományi Klaszterrel együttműködésben szervezik. \nA webinárium áttekintést nyújt a kínai biofarmáciai ökoszisztéma két fő aspektusáról: \n\nA piac és a szabályozás\, beleértve a következőket: Piaci trendek; Szabályozások és piacra jutás; A kínai szereplők növekvő szerepe; Kihívások és lehetőségek az európai vállalatok számára.\nA szellemi tulajdonjogok védelme\, beleértve a következőket: A gyógyszerek szellemi tulajdonjogainak védelmére vonatkozó kínai törvények áttekintése; A diagnosztikai és kezelési berendezések szabadalmi és formatervezési mintaoltalma; Megelőző intézkedések a műszaki titkok kiszivárgásának kockázatának minimalizálására; A vállalati és termékmárka védelme.\n\nA rendezvény nyelve az angol. A részvétel díjmentes\, de előzetes regisztrációhoz kötött. \nTovábbi információ és regisztráció\n 
URL:https://pbkik.hu/esemeny/a-kinai-biofarmaciai-agazat-attekintese-piacra-lepes-es-szellemi-tulajdonjogok/
LOCATION:Online
END:VEVENT
BEGIN:VEVENT
DTSTART;VALUE=DATE:20210916
DTEND;VALUE=DATE:20210918
DTSTAMP:20260423T013728
CREATED:20210907T115214Z
LAST-MODIFIED:20221122T101220Z
UID:10002496-1631750400-1631923199@pbkik.hu
SUMMARY:Jelentkezz az EIT Health Innovációs Képzésére
DESCRIPTION:Ha rendelkezel vállalkozói szemlélettel és egy olyan ötlettel amit egészségügyi területen lehetne hasznosítani\, ráadásul érdekelnek olyan témák mint az egészségügyi innováció\, a szellemi tulajdon védelme vagy EU szintű szabályozások\, akkor van egy jó hírünk! Az Európai Innovációs és Technológiai Intézet ismét elindítja RIS Innovation Training elnevezésű képzését\, amelyen többek között a fenti témák is előkerülnek\, ráadásul a részvétel ingyenes! \n \n \nJelentkezési feltételek: A jelentkezés nyitva áll minden olyan projekt együttműködés\, micro és kisvállalkozás\, kutató – oktatási intézmény\, spin-off és start-up előtt akiknek terméke\, megoldása még kezdeti állapotban van. Emellett a képzés leginkább a CIMIT IML 3 (Proof of Concept) szintet már elérő projektgazdáknak nyújt segítséget. \nDátum: A képzés 2 napos\, interaktív online téining\, mely \n\n09.16. 10:30-12:30 (CET) and 15:00-17:00 (CET)\n09.17. 10:30-12:30 (CET) and 15:00-17:00 (CET)\n\nközött kerül megtartásra. \nJelentkezési határidő 2021.09.14. 16:00. \nTovábbi részletek és jelentkezés: \nhttps://eithealth.eu/opportunity/eit-health-ris-innovation-training/
URL:https://pbkik.hu/esemeny/jelentkezz-az-eit-health-innovacios-kepzesere/
LOCATION:Online
END:VEVENT
BEGIN:VEVENT
DTSTART;TZID=Europe/Helsinki:20210921T090000
DTEND;TZID=Europe/Helsinki:20210921T170000
DTSTAMP:20260423T013728
CREATED:20210830T114529Z
LAST-MODIFIED:20210830T120708Z
UID:10002481-1632214800-1632243600@pbkik.hu
SUMMARY:Life Science Partnering 2021
DESCRIPTION:A nemzetközi Life Science Partnering 2021 összeköti az élettudományok területén a tudományos és ipari szervezeteket. Mind a tudósoknak\, mind a vállalkozásoknak lehetőségük nyílik arra\, hogy bemutassák az ipar szempontjából releváns tudományos eredményeket\, és meghatározzák az együttműködés lehetséges területeit. \n \nA 2019-es év sikerét követően a nemzetközi Life Science Partnering 2021 ideális hálózati platformot biztosít az élettudományi mérnöki és egészségügyi technológiára összpontosító projektpartnerek felkutatásához. A Life Science Partnering 2021-et a Standortagentur Tirol\, a Life Science Cluster Tirol és az Enterprise Europe Network szervezi. \nA rendezvény virtuálisan zajlik. A konferencián való részvétel díjmentes – a rendezvényre való regisztráció kötelező! \nA netvörking kihívásai az ilyen és ehhez hasonló eseményeken (általában) \nÁltalában az előadókkal\, kiállítókkal és olyan emberekkel beszélget\, akikkel véletlenszerűen találkozik\, és a szünetekben együtt kávézik. \nDe mi a helyzet az Ön együttműködési igényeivel? Kivel beszéljen először? Miről beszélj\, ha először találkozik ezzel a személlyel? Az emberek csak udvariasságból érdeklődnek? \nMegoldás a megfelelő kapcsolatok megtalálására \nRegisztráljon és mutassa be magát profilban a többieknek az alábbiak szerint \nFénykép\, logó és egy rövid szervezeti leírás\nTermékek\, szolgáltatások\, projektötletek\, leírása \nÉS most már a többiek is megtalálhatják Önt a „Résztvevők” menüpontban. Az Ön együttműködési igényeit is megtalálhatják a „Piactér” menüpontban. \n  \nProgram \n9:00 – 9:15 Köszöntő és megnyitó (élő adás) \n9:15 – 10:30 Vitaindító előadás (élő adás) – Josef Martin Penninger\, Director of the Life Sciences Institute (LSI) at the University of British Columbia \n10:30 – 10:45 Kávészünet \n10:45 – 12:00 Kutatók és vállalkozások mutatkoznak be (élő adás) \n12:00 – 17:00 Partnerkeresés – kétoldalú tárgyalások az online térben \nTovábbi információ és regisztráció
URL:https://pbkik.hu/esemeny/life-science-partnering-2021/
LOCATION:Online
END:VEVENT
BEGIN:VEVENT
DTSTART;TZID=Europe/Helsinki:20210921T100000
DTEND;TZID=Europe/Helsinki:20210921T120000
DTSTAMP:20260423T013728
CREATED:20210907T073947Z
LAST-MODIFIED:20210907T082321Z
UID:10002489-1632218400-1632225600@pbkik.hu
SUMMARY:Üzleti lehetőségek Indonéziában - online rendezvény
DESCRIPTION:A Magyar Kereskedelmi és Iparkamara  Indonézia Magyarországi Nagykövetségének\, valamint az Indonéz Kereskedelmi Központnak (Indonesian Trade Promotion Centre – ITPC) közreműködésével webináriumot szervez\, melynek fő témái az üzletkötési tudnivalók Indonézia vonatkozásában\, valamint a 2021-es Expo Indonesia bemutatása. \nA konferencia magyar és angol nyelven fog zajlani\, az indonéz partnerek angol nyelvű előadásaihoz tolmácsolást nem tudnak biztosítani! \nPROGRAMTERV: \n\n\n\n10.00-10:10\nKöszöntők\nA Magyar Kereskedelmi és Iparkamara képviselője\nH. E. Mr. Abdurrachman Hudiono Dimas Wahab\, Indonézia magyarországi nagykövete\n\n\n10.10-10:30\nA magyar-indonéz kapcsolatok helyzete\nPáldi Zoltán\, Magyarország Jakartai Nagykövetségének külgazdasági attaséja\n\n\n10.30-10.50\n\nAz indonéz kamara szolgáltatásai\nAz Indonéz Kereskedelmi és Iparkamara (KADIN) képviselője (felkérés alatt)\n\n\n10.50-11.10\nKereskedelmi kapcsolatok és lehetőségek Indonéziában\nSari Handini Murti\, az Indonéz Kereskedelmi Központ (ITPC) igazgatója\n\n\n11.10-11.30\nKérdések és válaszok\n\n\n\nRészvétel feltételei\nJelentkezési határidő: 2021. szeptember 17.\, péntek\, 12:00 óra \nA férőhelyek száma korlátozott\, ezért a jelentkezéseket azok beérkezésének sorrendjében fogadják el.\nA rendezvényen való részvétel ingyenes\, de előzetes online regisztrációhoz kötött. Az eseményre csak azon vállalkozások jelentkezését tudják elfogadni\, amelyek a kamarai regisztrációs kötelezettségüknek eleget tettek.\nA csatlakozáshoz szükséges linket és információkat 2021. szeptember 20-án\, hétfőn délután küldik el e-mailen a jelentkezőknek. \nRegisztrálni itt lehet: https://jelentkezes.mkik.hu/node/16453
URL:https://pbkik.hu/esemeny/uzleti-lehetosegek-indoneziaban-online-rendezveny/
LOCATION:Online
ATTACH;FMTTYPE=image/jpeg:https://pbkik.hu/wp-content/uploads/2021/08/mkik_logo_1.jpg
END:VEVENT
BEGIN:VEVENT
DTSTART;TZID=Europe/Helsinki:20210922T100000
DTEND;TZID=Europe/Helsinki:20210922T153000
DTSTAMP:20260423T013728
CREATED:20210907T082917Z
LAST-MODIFIED:20210907T083811Z
UID:10002492-1632304800-1632324600@pbkik.hu
SUMMARY:Új trendek a beszerzésben a Covid után? - Német vállalatok tapasztalatai első kézből
DESCRIPTION:A Hajdú-Bihar Megyei Kereskedelmi és Iparkamara együttműködésben a Német – Magyar Ipari és Kereskedelmi Kamarával Üzleti Fórumot szervez\,  Új trendek a beszerzésben a Covid után? – Német vállalatok tapasztalatai első kézből címmel. A rendezvény alkalmával lehetőség lesz személyes konzultáción való részvételre is. \nNémetország Magyarország első számú külkereskedelmi és befektetési partnere. Számos német cég alapított leányvállalatot\, létesített telephelyet Magyarországon és folytat sikeres üzleti tevékenységet. Németország 82 milliós – a magyar vállalatok számára hatalmas – piac. Igényes vevőkkel\, jó fizetőkészséggel és – képességgel\, a jó minőségű és megfizethető árukból is túlkínálattal. A német piac hagyományosan jól viszonyul az ismert magyar termékekhez\, de magas követelményszintet támaszt az árukkal szemben. \nA rendezvényre várják mindazon vállalkozások\, intézmények jelentkezését\, akik érdeklődnek Németország üzleti lehetőségei iránt. \nIdőpont: 2021. szeptember 22. 10:00 – 15:30 \nHelyszín: Nonprofit Gazdaságfejlesztő Szervezetek Háza\, Baross Gábor terem (4025 Debrecen\, Vörösmarty utca 13-15.) \nA rendezvény részletes programja ITT olvasható. \nA rendezvényen való részvétel díjmentes\, de előzetes regisztrációhoz kötött. \nRegisztrációs határidő: 2021. szeptember 17. 12:00 \nREGISZTRÁCIÓ
URL:https://pbkik.hu/esemeny/uj-trendek-a-beszerzesben-a-covid-utan-nemet-vallalatok-tapasztalatai-elso-kezbol/
LOCATION:Nonprofit Gazdaságfejlesztő Szervezetek Háza\, Vörösmarty u. 13-15.\, Debrecen\, 4025\, Magyarország
END:VEVENT
BEGIN:VEVENT
DTSTART;TZID=Europe/Helsinki:20210923T090000
DTEND;TZID=Europe/Helsinki:20210924T150000
DTSTAMP:20260423T013728
CREATED:20210816T124101Z
LAST-MODIFIED:20210913T070756Z
UID:10002445-1632387600-1632495600@pbkik.hu
SUMMARY:Változás\, újratervezés és fejlődés
DESCRIPTION:Az utóbbi időszakban számos olyan kihívás körvonalazódik a globális gazdaságban\, a periferikus térségekben és ebbe ágyazottan a felsőoktatási intézmények szintjén\, amelyek indokolttá teszik\, hogy az egyes szakmai közösségek saját speciális nézőpontjaikon keresztül értelmezzék és keressenek választ azokra. Erre reagál a PTE KTK kétnapos konferenciája. \nA konferencia első napján (szeptember 23.\, csütörtök) nemzeti és Európai Uniós közintézmények vezetői adnak áttekintést saját szakterületük fókuszában a tudomány\, az innováció\, a közpénzügyek aktuális kihívásairól és formálódó trendjeiről globális és nemzeti kontextusban. \nA konferencia második napján (szeptember 24.\, péntek) a PTE KTK\, a PTE ÁJK és a Pécs Baranyai Kereskedelmi és Iparkamara oktatói és tagjai panelbeszélgetésekben járják körül a tudományegyetemi modellváltással kapcsolatban felmerülő kihívásokat és lehetőségeket az érintettek\, a finanszírozás és a régiós fejlődési pályák fókuszain keresztül. \nAz eseményen való részvétel ingyenes\, de regisztrációhoz kötött. \nAz esemény helyszíne: a PTE KTK Aulája\, 7622 Pécs\, Rákóczi út 80. \nProgram: \n2021. szeptember 23. \nGlobális és nemzeti kihívások – plenáris előadások \n\n\n\n09.00 – 09.45\nÉrkezés\, regisztráció\n\n\n09.45 – 10.00\nKöszöntő – Schepp Zoltán\, dékán\, Pécsi Tudományegyetem Közgazdaságtudományi Kar\n\n\n10.00 – 10.30\nDomokos László – elnök\, Állami Számvevőszék \nStratégiai változások a közpénzek felhasználásában\n\n\n10.30 – 11.00\nKandrács Csaba – alelnök\, Magyar Nemzeti Bank \nFenntarthatósági szemlélet a központi bankok működésében – Az MNB példája\n\n\n11.00 – 11.30\nCzimer József – címzetes egyetemi docens\, Pécsi Tudományegyetem \nMagyarország az európai azonnali fizetési forgalom élvonalában\n\n\n11.30 – 13.00\nEbédszünet\n\n\n13.00 – 13.30\nPeter Berkowitz – Head of Unit\, Smart and Sustainable Growth DG Regio\, EC \nSmart specialisation policy in Europe: What we know and what we don’t know\n\n\n13.30 – 14.00\nSzabó István – alelnök\, Nemzeti Kutatási\, Fejlesztési és Innovációs Hivatal \nMethodology of entrepreneurial discovery process – Hungarian experiences\n\n\n14.00 – 14.30\nKávészünet\n\n\n14.30 – 15.00\nVörös József – professzor\, Pécsi Tudományegyetem\, Közgazdaságtudományi Kar \nOptimális céltartalék meghatározásának problémái hitelportfoliókon\n\n\n15.00 – 15.30\nFreund Tamás – elnök\, Magyar Tudományos Akadémia \nTudomány és Akadémia: partnerség a politikával\, szövetség a társadalommal\n\n\n\n  \n2021. szeptember 24. \nIntézményi és régiós kihívások – panelbeszélgetések \n\n\n\n09.00 – 10.30\nEmberek a modellváltásban \nA beszélgetés témái\, fókuszai: oktatói\, kutató életpálya\, közalkalmazotti vs. munkaviszony\, egyetemi döntéshozatali mechanizmus változásai\, akadémiai kiválóság\, vállalti szféra és az egyetemi szféra közötti átjárás: munkavállalók\, hallgatók\, alumni \nModerátor: Dr. Fábián Adrián\, dékán\, egyetemi docens\, ÁJK \nRésztvevők: \nDr. Berke Gyula\, tanszékvezető egyetemi docens\, ÁJK \nDr. Hauck Zsuzsanna\, egyetemi adjunktus\, KTK \nKoltai Arnold\, elnök\, EHÖK \nDr. Szűcs Krisztián\, dékánhelyettes\, egyetemi docens\, KTK \nZalay Buda\, alelnök\, PBKIK\, HR vezető\, Körber Hungária Kft\n\n\n10.30 – 11.00\nKávészünet\n\n\n11.00 – 12.30\nPénzügyek a modellváltásban \nA beszélgetés témái\, fókuszai: finanszírozási modellek\, jó tapasztalatok\, döntéshozatali mechanizmusok\, felelősségi szintek\, vállalati szféra\, helyi önkormányzat részvétele\, szerepe\, céljai a finanszírozásban\, teljesítmény-értékelés\, mérés (külső\, belső szempontok)\, finanszírozás és teljesítmény-értékelés jogi vonatkozásai\, munkaügyi keretei \nModerátor: Dr. Schepp Zoltán\, dékán\, egyetemi tanár\, KTK \nRésztvevők: \nDr. Bankó Zoltán\, egyetemi docens\, ÁJK \nDr. Béli Gábor\, dékánhelyettes\, tanszékvezető\, egyetemi docens\, ÁJK \nHerbály István\, alelnök\, PBKIK\, ügyvezető\, RG Net Kft. \nDr. Takács András\, dékánhelyettes\, egyetemi docens\, KTK\n\n\n12.30 – 13.30\nEbédszünet\n\n\n13.30 – 15.00\nA régió/város a modellváltásban \nA beszélgetés témái\, fókuszai: a gazdaság igényei a felsőoktatás\, PTE vonatkozásában\, képzési igények\, elvárt kompetenciák\, a PTE térségi fejlesztő szerepe\, kapcsolódás a vállalati szférához (oktatás\, kutatás\, finanszírozás) \nModerátor: Rabb Szabolcs\, főtitkár\, PBKIK \nRésztvevők: \nDr. Síkfői Tamás\, elnök\, PBKIK \nDr. Bedő Zsolt\, innovációs igazgató\, egyetemi docens\, KTK \nDr. Erdős Katalin\, egyetemi adjunktus\, KTK \nDr. Füzy Tibor\, vezető\, ÁJK Jogklinika \nDr. Hirth Markus\, testületi tag\, PBKIK\, alelnök\, Dél-Dunántúli Gépipari Klaszter\, ügyvezető\, KONTAKT- Engineering Kft.\n\n\n15.00 – 15.15\nZárszó\n\n\n\n  \nA rendezvényt a mindenkor érvényes járványügyi szabályozás betartása mellett szervezzük meg. Jelenleg ez lehetővé teszi a személyes részvétellel történő szervezést. Amennyiben bármilyen korlátozás ezt indokolná\, az esetleges változásokról a regisztráltakat emailben\, valamint a konferencia honlapján tájékoztatjuk. Felhívjuk figyelmüket\, hogy a konferencián az első 150 fő regisztráló tud részt venni és a programváltoztatás jogát fenntartjuk!
URL:https://pbkik.hu/esemeny/valtozas-ujratervezes-es-fejlodes/
LOCATION:Pécsi Tudományegyetem Közgazdaságtudományi Kar\, Rákóczi út 80.\, Pécs\, Baranya\, 7622\, Magyarország
END:VEVENT
BEGIN:VEVENT
DTSTART;VALUE=DATE:20210927
DTEND;VALUE=DATE:20211001
DTSTAMP:20260423T013728
CREATED:20210802T133218Z
LAST-MODIFIED:20221122T092146Z
UID:10002433-1632700800-1633046399@pbkik.hu
SUMMARY:Biotechnológiai és gyógyszeripari virtuális üzletember találkozó - Japán
DESCRIPTION:A 2021-es Európai Biotech ＆ Pharma Virtuális Üzletember találkozó üzleti kapcsolatokat kínál az iparági szakembereknek\, akik potenciális partnereket keresnek a fenntartható üzleti fejlődés és növekedés biztosítása érdekében. \n \n  \nA Biotech ＆ Pharma Partnering Conference\, amelyet korábban Oszakában tartottak\, immár második éve virtuális eseményként online kerül megrendezésre! Az időeltolódás miatt a találkozókat 4 napon keresztül\, szeptember 27. és 30. között lehet megszervezni. Minden találkozó videohívás formájában kerül megrendezésre\, amely közvetlenül ezen a B2Match platformján keresztül\, minden további szoftver nélkül lebonyolítható. \nAz eseményről vázlatosan:\nIdőpont: 2021. szeptember 27-30.\nHelyszín: Online\nRészvétel: Díjmentes\nNyelv: Angol \nA rendezvény célterületei \n\nGyógyszerkutatás és a gyógyszerkutatás támogatása\nRegeneratív orvostudomány\nTerápiás szerek\, diagnosztikai szerek\nA mesterséges intelligencia és az IoT technológiái az 1.-3. témakörhöz kapcsolódóan\nDigitális orvostudomány (AI-alapú gyógyszerfejlesztés\, gyógyszer-eszköz kombinációk stb.)\nDigitális terápiák (nem farmakológiai terápiás rendszerek\, alkalmazás-eszköz kombinációk)\n\n  \nTovábbi információ és regisztráció
URL:https://pbkik.hu/esemeny/biotechnologiai-es-gyogyszeripari-virtualis-uzletember-talalkozo-japan/
LOCATION:Online
END:VEVENT
BEGIN:VEVENT
DTSTART;TZID=Europe/Helsinki:20210928T083000
DTEND;TZID=Europe/Helsinki:20210928T153000
DTSTAMP:20260423T013728
CREATED:20210916T052245Z
LAST-MODIFIED:20210921T090339Z
UID:10002510-1632817800-1632843000@pbkik.hu
SUMMARY:CobotX szakmai nap – gyártási folyamatok automatizálása
DESCRIPTION:A CobotX szakmai napja lehetőséget biztosít az automatizálás iránt nyitott érdeklődők számára\, hogy megismerkedjenek azokkal a robotizált technológiákkal\, melyek a gyártási folyamatokat hatékonyabbá teszik\, a munkaerőpiaci nehézségeket pedig mérsékelik. \n \n \n  \nA CobotX csapata szeptember 28-án exkluzív szakmai napot tart a gyártási folyamatok automatizálásáról\, amelyre szeretettel várjuk Önt és kollégáit! \n  \nMiért érdemes eljönni? \n\nNemzetközi tapasztalattal rendelkező szakértők váltják egymást a pódiumon\nA kisebb gépektől a komplex robotokig mindenről hasznos tudást kínálunk\nMár a helyszínen lehet konzultálni a bemutatott technológiákkal foglalkozó cégekkel. Gépészeti\, villamosmérnöki és robotapplikációs tudás mellett a PLC-programozás és az IT-feladatok ellátása is a szolgáltatások között megtalálható\nNem csak beszélünk a berendezésekről\, a „hands-on” szekcióban ki is lehet őket próbálni\, a szakemberek pedig minden kérdésre válaszolnak\n\nA helyszín befogadókészsége limitált\, így a részvételhez regisztráció szükséges. Ehhez csak küldje el nekünk a jelentkezők alábbi adatait\, amelyeket bizalmasan kezelünk: \nA CobotX szakmai nap legfontosabb információi: \n\nIdőpont: szeptember 28. (kedd)\, 8:30-15:30\nHelyszín: Püspöki Magtár Látogatóközpont\, 7625\, Pécs\, Aradi vértanúk útja\nParkolás: a helyszínen biztosított\n\n  \nAGENDA – CobotX Szakmai Nap 2021 \n08:30-09:30  Érkezés\, napindító kávé\, süti \n09:30-09:35  CobotX: Megnyitó – Sabján László \n09:35-10:00  CobotX: Az üzletág és a robot mint szolgáltatás modell bemutatása – Korondi Brúnó \n10:00-10:25  RG-Net: Mesterséges intelligencia az iparban (esettanulmányok) – Herbály István \n10:25-10:50  Universal Robots: Automatizálás kobotokkal – lehetőségek a KKV szektor számára – Enyedi Márta \n10:50-11:15  Kávészünet  \n11:15-11:35  Cognex: Cognex ipari kamerarendszerek működése és integrálása – Péli Máté \n11:35-12:00  Oviso Robotics: Felixibility of manufacturing / mobile robots – Ovidu Stan (EN) \n12:00 – 13:00  Ebédszünet  \n13:00-13:20  Schunk: Általános cégbemutató\, robotkar végi automatizáláshoz kapcsolódó termékek – Szabados Dániel \n13:20-13:40  VFP: Autonóm robotok az iparban – Dobner András \n13:40-14:00 InfoComplex: Kobotok távfelügyelete és adatbiztonsága – Bóra Áron \n14:00-15:30  Hands-on: műszaki demók és eszközök bemutatása \n  \nAz előadók sorrendje nem végleges\, és előfordulhat programváltozás. \nA rendezvényen hang- és videófelvétel készül. \nA rendezvényen való részvétel a hatályos rendeleteknek megfelelően kizárólag védettségi igazolvánnyal rendelkező személyek részére biztosított. \nTovábbi információ és regisztráció: \nhttps://cobotx.hu/tudasgyar/cobotx-szakmai-nap/ \n  \n 
URL:https://pbkik.hu/esemeny/cobotx-szakmai-nap-gyartasi-folyamatok-automatizalasa/
LOCATION:Püspöki Magtár Látogatóközpont\, 7625\, Pécs\, Aradi vértanúk útja\, Pécs\, Baranya\, Magyarország
END:VEVENT
BEGIN:VEVENT
DTSTART;TZID=Europe/Helsinki:20210930T130000
DTEND;TZID=Europe/Helsinki:20210930T150000
DTSTAMP:20260423T013728
CREATED:20210923T074940Z
LAST-MODIFIED:20221122T095359Z
UID:10002553-1633006800-1633014000@pbkik.hu
SUMMARY:Pécs Városi Tőkealap nyújtotta tőkefinanszírozási lehetőségek - tájékoztató workshop
DESCRIPTION:Pécs Megyei Jogú Város Önkormányzata\, a Pécsi Városfejlesztési Nonprofit Zrt.\, az MFB Invest Zrt. és a Focus Ventures Zrt.  szervezésében kerül megrendezésre a Pécs Városi Tőkealapról szóló tájékoztató workshop szeptember 30-án. \n \nProgram: \n13:00  Pécs Megyei Jogú Város Önkormányzata nevében a vendégeket köszönti Ruzsa Csaba\, alpolgármester \n13:15  MFB Invest\, mint tőkebefektető – Dénes Gábor\, MFB Invest vezérigazgató-helyettes \n13:35  Tőkebefektetési kisokos – Kinek és miért kedvező finanszírozási forma a tőkebefektetés? – Benke Ákos\, Focus Ventures Zrt. vezérigazgató \n13:55  Vállalkozásfejlesztés tőkebevonással – a Pécs Városi Tőkealap bemutatása\, új tőkefinanszírozási lehetőség a pécsi és Baranya megyei vállalkozások számára – Csúcs Zoltán\, Pécsi Városfejlesztési Nonprofit Zrt.\, vezérigazgató \n14:10  A tőkeigénytől a döntésen át a megvalósításig – a pályázat benyújtásának operatív teendői – Baracsi László\, Pécsi Városfejlesztési Nonprofit Zrt.\, Pécs Városi Tőkealap projektiroda \n  \nAz eseményen való részvétel ingyenes\, de regisztrációhoz kötött. Regisztráció: https://pecstokealap.hu/esemenyek/ \n 
URL:https://pbkik.hu/esemeny/pecs-varosi-tokealap-nyujtotta-tokefinanszirozasi-lehetosegek-tajekoztato-workshop/
LOCATION:Corso Hotel\, Koller u. 8.\, Pécs
END:VEVENT
BEGIN:VEVENT
DTSTART;TZID=Europe/Helsinki:20210930T170000
DTEND;TZID=Europe/Helsinki:20210930T200000
DTSTAMP:20260423T013728
CREATED:20210908T063405Z
LAST-MODIFIED:20221122T095354Z
UID:10002497-1633021200-1633032000@pbkik.hu
SUMMARY:Az egyetemi és az ipari szféra egészségipari jellegű regionális kapcsolatainak jelene és jövője
DESCRIPTION:A Pécsi Egészségipari Innovációs Központ Zrt. a Pécsi Tudományegyetem és a régió egészségipari és más ipari szegmens szereplőinek találkozására és közös együttműködések kialakítására ad lehetőséget ez a nemzetközi konferencia. A PEIK Zrt. által szervezett konferenciasorozat harmadik alkalommal kíván rámutatni az egészségipar szerepére és jelentőségére a témakörben tevékenykedő és jártas előadók\, kutatók és szakemberek segítségével. \n \nPROGRAM\n15.00 – Érkezés és regisztráció\, kiscsoportos beszélgetés (Arrival and registration\, early bird talks) \n17.30 – 17.40 – PEIK Zrt. vezérigazgatójának köszöntője (Greetings from the CEO of PEIK Zrt.) – Dr. Szemerey Zoltán \n17.40 – 18.20 – Lehetőségek és kihívások a Pécsi Tudományegyetem és a regionális ipari szereplők együttműködésére az egyetem új működési struktúrájában (Opportunities and challenges for the cooperation of University of Pécs and regional industry actors in the new operational structure of the university) – Prof. Dr. Bódis József – államtitkár\, a Universitas Quinqueecclesiensis Alapítvány\nkuratóriumának elnöke \n18.20 – 18.50 – A Szentágothai János Kutatóközpont egyetemi és ipari kapcsolatainak bemutatása (University and industrial relations of the Szentágothai János Research Center) – Prof. Dr. Helyes Zsuzsanna – MTA levelező tagja\, Szentágothai János Kutatóközpont elnöke \n18.50 – 19.10 – A PTE szerepe és feladatai az Innovációs Ökoszisztéma hatékonyabb működésében (The role of the university in the efficient operation of the Innovation Ecosystem) – Kottászné Dr. Vass\nOrsolya – PTE-KA Kutatáshasznosítási és Technológia Transzfer Főosztály főosztályvezetője \n19.10 – 19.40 – Orvosi biotechnológiai kisvállalkozások helyzete a Dél-Dunántúli Régióban (The situation of small medical biotechnology companies in the Southern Transdanubia Region) – Prof. Dr.\nSzekeres György – Hisztopatológia Kft. tulajdonosa \n19.40 – 19.50 – A működő tőke bevonásának lehetőségei a regionális kutatás-fejlesztésbe és termékelőállításba (Opportunities to involve working capital in regional research and development and product production) – Dr. Szemerey Zoltán – a PEIK Zrt. vezérigazgatója \nA konferencián való részvétel ingyenes\, de a korlátozott létszám miatt regisztrációhoz kötött! \nAmennyiben az érintett tématerület felkeltette az érdeklődését\, a konferencián való részvételi szándékát legkésőbb 2021. szeptember 26-ig jelezze papp.petra@peik.hu e-mail címen.
URL:https://pbkik.hu/esemeny/az-egyetemi-es-az-ipari-szfera-egeszsegipari-jellegu-regionalis-kapcsolatainak-jelene-es-jovoje/
LOCATION:Pécsi Szalon\, Széchenyi tér 16.\, Pécs\, Baranya\, 7625\, Magyarország
END:VEVENT
END:VCALENDAR