BEGIN:VCALENDAR
VERSION:2.0
PRODID:-//Pécs-Baranyai Kereskedelmi és Iparkamara - ECPv6.15.20//NONSGML v1.0//EN
CALSCALE:GREGORIAN
METHOD:PUBLISH
X-WR-CALNAME:Pécs-Baranyai Kereskedelmi és Iparkamara
X-ORIGINAL-URL:https://pbkik.hu
X-WR-CALDESC:Események Pécs-Baranyai Kereskedelmi és Iparkamara
REFRESH-INTERVAL;VALUE=DURATION:PT1H
X-Robots-Tag:noindex
X-PUBLISHED-TTL:PT1H
BEGIN:VTIMEZONE
TZID:Europe/Helsinki
BEGIN:DAYLIGHT
TZOFFSETFROM:+0200
TZOFFSETTO:+0300
TZNAME:EEST
DTSTART:20200329T010000
END:DAYLIGHT
BEGIN:STANDARD
TZOFFSETFROM:+0300
TZOFFSETTO:+0200
TZNAME:EET
DTSTART:20201025T010000
END:STANDARD
BEGIN:DAYLIGHT
TZOFFSETFROM:+0200
TZOFFSETTO:+0300
TZNAME:EEST
DTSTART:20210328T010000
END:DAYLIGHT
BEGIN:STANDARD
TZOFFSETFROM:+0300
TZOFFSETTO:+0200
TZNAME:EET
DTSTART:20211031T010000
END:STANDARD
BEGIN:DAYLIGHT
TZOFFSETFROM:+0200
TZOFFSETTO:+0300
TZNAME:EEST
DTSTART:20220327T010000
END:DAYLIGHT
BEGIN:STANDARD
TZOFFSETFROM:+0300
TZOFFSETTO:+0200
TZNAME:EET
DTSTART:20221030T010000
END:STANDARD
END:VTIMEZONE
BEGIN:VEVENT
DTSTART;VALUE=DATE:20211001
DTEND;VALUE=DATE:20211224
DTSTAMP:20260422T224819
CREATED:20210802T093337Z
LAST-MODIFIED:20221122T095349Z
UID:10002432-1633046400-1640303999@pbkik.hu
SUMMARY:MEDICA Healthcare 2021 - üzletember találkozó
DESCRIPTION:A MEDICA 2021 a világ első számú egészségipari vására. Idén 20. alkalommal\, a vásár mellett hibrid rendszerben\, online és személyes jelenlét mellett nyújt lehetőséget az egészségipar valamennyi szereplője számára üzleti tárgyalásokra. Vegyen részt Ön is! \n \n  \nA MEDICA vásáron megrendezésre kerülő nemzetközi üzltebmer találkozónak már 20 éves hagyománya van. Az elmúlt években az eseményen mindig mintegy 40 országból mintegy 350 résztvevő vett részt\, 700 előre kiválasztott és egyeztetett találkozóval. \nA 2021-es év még mindig különleges évnek számít. A COVID-19 vírus hatásai még mindig mindennaposak mindannyiunk számára\, különösen\, az egészségügyi ágazatban. 2020-ban megtanultuk elfogadni a virtuális találkozókat\, különösen a MEDICA vásár előtt és után. Ezért folytatni fogjuk ezeket a virtuális találkozókat. De nagyon örülünk\, hogy a MEDICA 2021 során ismét lesz ilyen találkozó napok. \nTehát több tárgyalási napot és további eseményeket kínálunk. \nA világjárvány következményei miatt\, ahogy 2020-ban is\, árcsökkentésre\, a regisztrációs díj felezésére\, valamint további fejlesztésekre számíthatnak a befektetők és az importőrök is. Ezen túlmenően a résztvevőknek a sikeres együttműködésekből is profitálniuk kell. Minden résztvevő\, aki tájékoztat minket egy együttműködésről\, és ezt írásban\, dokumentumban megerősíti\, visszakapja a regisztrációs díjat. \nMiért érdemes részt venni? \nHasználja fel a rendezvényt új vállalkozások kezdeményezésére\nTalálkozzon az innovatív technológiák szolgáltatóival egész Európából és Európán kívülről\nLépjen kapcsolatba potenciális partnerekkel a jövőbeli együttműködés érdekében\nTeremtsen határokon átnyúló kapcsolatokat a hosszú távú üzleti kapcsolatokhoz\nÚj partnerek keresése kutatási projektekhez \nRegisztrációs díjak \n200 Euró – Vállalkozások\, szövetségek\, kutatóintézetek stb. (az EGT-n kívüli területek)\n100 Euró – Vállalkozások\, egyesületek\, kutatóintézetek stb. (EEN partnerországok)\n50 Euró – Start upok (2018. január 1-jén vagy azt követően alapított kezdő vállalkozások\, EEN partnerországok)\n0 Euró – Befektetők\, üzleti angyalok\n0 Euró – külföldi termékek forgalmazásával foglalkozó vállalat vagy közbeszerző \nOnline tárgyalási napok: \n2021. október 1. – 2021. december 23. \nSzemélyes (és online) tárgyalási napok: \n2021. november 15-18. – MEDICA 2021\, Düsseldorf \n  \nTovábbi információ és regisztráció\nRegisztrációs határidő: 2021. november 14.
URL:https://pbkik.hu/esemeny/medica-healthcare-2021-uzletember-talalkozo/
LOCATION:Online
END:VEVENT
BEGIN:VEVENT
DTSTART;TZID=Europe/Helsinki:20211001T090000
DTEND;TZID=Europe/Helsinki:20211001T130000
DTSTAMP:20260422T224819
CREATED:20210920T120029Z
LAST-MODIFIED:20210920T120551Z
UID:10002512-1633078800-1633093200@pbkik.hu
SUMMARY:Közösség. Hatás. Jövő.
DESCRIPTION:A fenntarthatóság kérdésének előtérbe kerülésével egyre nagyobb figyelmet kap az ESG (Enviromental/környezeti\, Social/társadalmi\, Governance/vállalatirányítási) szemléletnek megfelelő vállalati működés. A cégvezetők is mindinkább kritikus tényezőként tekintenek az általuk irányított szervezetek környezeti\, társadalmi és vállalatirányítási aspektusaira\, melyek ma már valódi hatással vannak a vállalatok bevétel- és eredménytermelő képességére. Az ESG szemlélettel összhangban működő cégek komoly piaci előnyre tehetnek szert versenytársaikkal szemben és vonzó célpontot jelentenek a befektetők számára. Bár korábban a társadalmi aspektus némileg háttérbe szorult a környezeti és vállalatirányítási szempontokhoz képest\, a koronavírus-járvány hatásaként az S komponens szerepe is fokozatosan felértékelődik. \n \n \nArról\, hogy mindez mit is jelent a gyakorlatban jelentős hazai nagyvállalatok képviselői\, non-profit szervezetek vezetői\, egyetemi szakértők és kutatók osztják meg gondolataikat\, tapasztalataikat az Effekteam Egyesület október 1-jén megrendezendő éves szakmai konferenciáján. A KÖZÖSSÉG. HATÁS. JÖVŐ. – A hazai vállalatok jövőbeni működése\, kihívások és innovációk az ESG szempontok tükrében című rendezvény résztvevői az ESG szemlélet társadalmi komponensének főbb szegmenseit járják körül\, azaz a felelős közösségi kapcsolatok\, a felelős munkáltatói magatartás\, a felelős termékek/szolgáltatások\, valamint a felelős beszerzések és beszállítói kapcsolatok területeit veszik górcső alá. \nA konferencia keretében – a szakmai kerekasztal-beszélgetéseket követően – kerül sor az Effekt 2030 – A közösségi befektetések díjának idei ünnepélyes átadására. Az érdeklődők az interneten keresztül kísérhetik figyelemmel eseményeket. \nA rendezvénnyel kapcsolatban bővebb információ\, részletes program és jelentkezési lehetőség az Effekteam honlapján\, a https://effekteam.hu/konferenciak/ oldalon található.
URL:https://pbkik.hu/esemeny/kozosseg-hatas-jovo/
END:VEVENT
BEGIN:VEVENT
DTSTART;TZID=Europe/Helsinki:20211002T140000
DTEND;TZID=Europe/Helsinki:20211002T160000
DTSTAMP:20260422T224819
CREATED:20210930T051612Z
LAST-MODIFIED:20221122T095344Z
UID:10002098-1633183200-1633190400@pbkik.hu
SUMMARY:Az E-kereskedelemben rejlő lehetőségek
DESCRIPTION:A workshopon a helyi szolgáltatók és termék előállítók megismerkedhetnek az e-kereskedelemben rejlő lehetőségekkel és technikákkal. Gyakorlati példákon keresztül mutatják be\, hogy a helyi termékek és szolgáltatások akár régiós\, országos vagy európai piacokon is megjelenhetnek\, ezzel is fellendítve a helyi gazdaságot. \n \nA már létező vagy most induló helyi vállalkozások szélesebb körű ismertséget és elérhetőséget nyerhetnek. \nPROGRAM \n(a programváltozás jogát fenntartjuk) \n13:40 – 14:00 Regisztráció \n14:00 – 14:05 Köszöntő \n14:05 – 14:50 Digitalizáció szerepe az E-kereskedelemben (technikák\, lehetőségek\, pályázatok) – Takács Károly – IKT tanácsadó \n14:50 – 15:30 Online marketing és arculatépítés (branding technikák\, honlapépítés\, közösségi média) – Steindl Máté – online marketing szakértő \n15:30 – 16:00 Kérdések és válaszok \n  \nA workshopon való részvétel díjmentes. \n  \nInformáció\, kapcsolat: \nPécs-Baranyai Kereskedelmi és Iparkamara – Városi iroda – Szigetvár \nCím: 7900 Szigetvár\, József Attila utca 16. \nMobil: +36 20 359 63 04 \nE-mail: szigetvar@pbkik.hu \nEzen rendezvény a TOP-7.1.1-16-H-119-3.1 azonosító számú \n„Keresd a helyit\, ajánlom a szigetvárit!” című projekt keretében valósul meg.
URL:https://pbkik.hu/esemeny/az-e-kereskedelemben-rejlo-lehetosegek/
LOCATION:Zrínyi Vár – Fegyverterem\, Vár utca\, Szigetvár\, 7900
END:VEVENT
BEGIN:VEVENT
DTSTART;VALUE=DATE:20211005
DTEND;VALUE=DATE:20211007
DTSTAMP:20260422T224819
CREATED:20210921T090509Z
LAST-MODIFIED:20221122T101647Z
UID:10002516-1633392000-1633564799@pbkik.hu
SUMMARY:SHARING IS CARING: Az IP-eszközök összevonása a nagyobb hatékonyság érdekében
DESCRIPTION:Október elején tartja idei páneurópai\, online konferenciáját a LESI (Licensing Executives Society International)\, melynek ülései a „Sharing is caring” (megosztás a törődés) téma köré épültek\, rávilágítva a szellemi tulajdon együttműködésen alapuló oldalára. A konferenciát idén a LES Magyar Tagozata szervezi. \n \nA világjárvány – átmenetileg\, mégis maradandó hatással – megváltoztatta a kommunikáció formáit\, de az innovációt nem tudta sem megállítani\, sem lelassítani. \nEllenkezőleg\, amit a világjárvány elvett az emberiségtől\, azt az innováció visszaadja. Az innováció egész története során azonban a hatékony tudásátadásra talán még soha nem volt ilyen nagy szükség a sikerhez. Ezt a bőrünkön érezzük tudástranszfer szakemberekként: egyszerre kell felismernünk\, megértenünk és alkalmaznunk a technológiai megoldások fejlődését\, és megvalósítanunk az újonnan megjelenő megoldások által ösztönzött legjobb gyakorlatokat. \nA 2021-es páneurópai konferencia ülései a „Sharing is caring” (megosztás a törődés) téma köré épültek\, rávilágítva a szellemi tulajdon együttműködésen alapuló oldalára: a szellemi tulajdon mint a szinergiák létrehozásának eszközeként való felhasználása a kirekesztő magatartás elősegítése helyett. A program nem kevésbé fontos területeket ölel fel\, mint a szabadalmi poolok szerepe a szabványosításban\, a szellemitulajdon-kezelés a vállalatcsoportokban\, az üzleti titkok és a know-how engedélyezése\, a globális kihívások kezelését szolgáló szellemitulajdon-eszközök\, az egyetemi technológiaátadás\, az AI és az adatgazdaság\, a szellemitulajdon-jogérvényesítés kérdései\, beleértve az alternatív vitarendezést\, valamint az európai szerzői jogi színtér legújabb fejleményei. \nA konferencia az online térben valósul meg\, a munkanyelv az angol. \nA részvételi díj LES tagok számára: 190 EUR\nA részvételi díj nem LES tagok számára: 230 EUR \nA két napos konferencia részletes programja angolul \nRegisztráció
URL:https://pbkik.hu/esemeny/sharing-is-caring-az-ip-eszkozok-osszevonasa-a-nagyobb-hatekonysag-erdekeben/
LOCATION:Online
END:VEVENT
BEGIN:VEVENT
DTSTART;TZID=Europe/Helsinki:20211005T100000
DTEND;TZID=Europe/Helsinki:20211005T133000
DTSTAMP:20260422T224819
CREATED:20210928T125545Z
LAST-MODIFIED:20221122T101641Z
UID:10002094-1633428000-1633440600@pbkik.hu
SUMMARY:Okos városok: innovatív megoldások Bajorországból a fenntartható városfejlesztéshez
DESCRIPTION:Tudjon meg többet a bajorországi okos városok innovatív megoldásairól\, ismerje meg a legjobb bajorországi gyakorlati példákat! \n \n \nPROGRAM \n10:00 – 10:10 Köszöntő\, bajor-magyar gazdasági kapcsolatok\, Barbara Zollmann\, Bajor Szabadállam magyarországi képviseletének vezetője \n10:10 – 10:30 Okos városok\, okos régiók Bajorországban\, n.n. Bajor Lakásügyi\, Építőipari és Közlekedési Minisztérium \n10:30 – 10:50 Okos városok és okos régiók: Innovációk városi környezetben\, Willi Steincke\, Okos városok és régiók ZD.B tematikus platform vezető\, Bayern Innovativ GmbH \n10:50 – 11:10 Spiegelau – Frauenau\, a digitális falu\, Matthias Oswald\, M.Sc. üzleti informatika\, okos régió\, Deggendorfi Műszaki Egyetem\, Grafenau technológiai campus \n11:10 – 11:20 Kérdések és válaszok \n11:20 – 11:35 Kávészünet \n11:35 – 11:55 Regensburg tömegközlekedésének villamosítása\, multimodális projektek\, Heribert Kalteis\, üzemvezető helyettes\, das Stadtwerk Regensburg GmbH \n11:55 – 12:15 Kérelemkezelő rendszerek a digitális közigazgatásban\, Lutz Heinze\, OZG tanácsadó\, FJD Information Technologies AG \n12:15 – 12:35 Digitalizáció a turizmusban és fenntartható desztináció menedzsment\, Vincent Beckmann\, International Account Manager\, Outdooractive AG \n12:35 – 12:55 Digitális mobilitás\, Benno Bartels\, Geschäftsführer\, insertEFFECT GmbH \n12:55- 13:05 Kérdések és válaszok \n13:05- 13:10 A rendezvény lezárása \n(A program változtatási jogát a szervezők fenntartják.) \nRÉSZVÉTEL \nAz online előadásokon való részvétel díjmentes.\nA rendezvény linkjét a konferencia előtt néhány nappal küldjik meg az addig beregisztrált résztvevőknek.\nAz előadások szinkrontolmácsolással hangzanak el.\nJelentkezés: az online jelentkezési lap kitöltésével.
URL:https://pbkik.hu/esemeny/okos-varosok-innovativ-megoldasok-bajororszagbol-a-fenntarthato-varosfejleszteshez/
LOCATION:Online
END:VEVENT
BEGIN:VEVENT
DTSTART;TZID=Europe/Helsinki:20211012T090000
DTEND;TZID=Europe/Helsinki:20211012T110000
DTSTAMP:20260422T224819
CREATED:20211006T080020Z
LAST-MODIFIED:20221122T101630Z
UID:10002566-1634029200-1634036400@pbkik.hu
SUMMARY:Termékdíj és egyszer használatos műanyag termékek 2021 előadás és webinárium
DESCRIPTION:A környezetvédelmi termékdíj körüli változások több szektor érintenek\, a vendéglátástól a kiskereskedelmen keresztül a könyvelési szolgáltatásokig és hulladékkezelésig. A webináriumon az érintett termékeken kívül szó lesz a termékdíj körüli adminisztrációs feladatokról és könyvelési kérdésekről\, valamint tippeket oszt meg a szakértő az ellenőrzések kapcsán is. \n \nEzúton hívjuk meg Önt a Jász-Nagykun-Szolnok Megyei Kereskedelmi és Iparkamara\, a Hajdú-Bihar Megyei Kereskedelmi és Iparkamara és az Enterprise Europe Network közös szervezésében megrendezésre kerülő tájékoztató előadásra és webináriumra\, melynek címe: „Termékdíj és egyszer használatos műanyag termékek 2021”. \nDÁTUM ÉS IDŐPONT: 2021. OKTÓBER 12. | 9:00 – 11:00\nHELYSZÍN: Tanácsterem – Szolnok\, Verseghy park 8. I. emelet\nONLINE WEBINÁRIUM: Microsoft Teams alkalmazáson keresztül \nelőadó: Debreceni László környezetvédelmi termékdíj szakértő \nKiemelt témák: \nAz egyes műanyagtermékek környezetre gyakorolt hatásának csökkentése. \n\nSUP irányelv\nItaltartó poharak\nSzívószálak\nÉteltároló edények\nKönnyű műanyag hordtasakok\nItalpalackok\nMűanyag\, biológiailag lebomló műanyag\nMűanyag bevásárló-reklám táska vs. műanyag hordtasak\nTermékdíjtételek változása\, pl.: műanyag hordtasakok esetében 57\,-Ft/kg-ról 1900\,-Ft/kg-ra\nBejelentés és változás-bejelentés\, TKORNY nyomtatvány\nNyilvántartás vezetése! De hogyan?!\nBevallás\, megállapítás és nyilvántartás összefüggései\nBevallás elkészítése\, KTBEV nyomtatvány\nBevallás és termékdíj megfizetés részletei\nVisszaigénylés jogcímei és bizonylati háttere\, adminisztrációja\nSzámlázás\, nettó és bruttó érték – hogyan kell felszámítani a termékdíjat\nÁrumegnevezés – áruismeret – vámtarifaszám meghatározása\nTermékdíjköteles termékek meghatározásának fontos kérdései\, fogalmak és meghatározások (akkumulátor\, csomagolószer\, egyéb kőolajtermék\, elektromos és elektronikai berendezés\, gumiabroncs\, reklámhordozó papír\, egyéb műanyag termék\, egyéb vegyipari termék\, irodai papír)\nEgyutas és többutas csomagolószer adminisztrációja\nBelföldre és külföldre értékesítés\nTermékdíj-átalány adminisztrációja\nMezőgazdasági termelők\, csekély kibocsátók és gépjármű kereskedők átalány lehetőségei\nHogyan lehet felkészülni az ellenőrzésekre és a szigorú szankciókra.\n\nA rendezvényen való részvétel ingyenes\, de előzetes regisztrációhoz kötött! \nKérdés esetén forduljon bizalommal a szervezőkhöz:\nTelefon: +36 56 510 615\nE-mail: gazdasagfejlesztes@iparkamaraszolnok.hu \nA regisztrációhoz kérjünk\, kattintson IDE!
URL:https://pbkik.hu/esemeny/termekdij-es-egyszer-hasznalatos-muanyag-termekek-2021-eloadas-es-webinarium/
LOCATION:Online
END:VEVENT
BEGIN:VEVENT
DTSTART;TZID=Europe/Helsinki:20211020T100000
DTEND;TZID=Europe/Helsinki:20211020T163000
DTSTAMP:20260422T224819
CREATED:20211004T103257Z
LAST-MODIFIED:20250207T125239Z
UID:10002102-1634724000-1634747400@pbkik.hu
SUMMARY:Young Spirit: Reflektorfényben az Üzlet 4.0
DESCRIPTION:A technológiaváltás K+F konferenciája innovatív cégvezetőknek és fiatal kutatóknak. A konferencia annak a határon átnyúló RILIAM I-4.0 programnak az egyik eleme\, amelynek fókuszában az Üzlet 4.0 elterjesztése áll az ország déli részében. Az esemény a szegedi ELI-ALPS Kutatóközpontban kerül megrendezésre 2021. október 20-án\, a Pécs-Baranyai Kereskedelmi és Iparkamara társszervezésében\, és folytatása a PBKIK által 2017-ben indított sikeres kezdeményezésnek. \n \n  \nA konferencia egyedülálló abban a tekintetben\, hogy: \n\nközel 100 főt mozgat meg\, a témát kutató és a témában érintett vállalatvezetőket és üzleti közösségek képviselőit (pl. megyei kamarák\, innovációs központok)\nezek a személyek mind csak személyes ajánlás és meghívás alapján kerülhetnek be a résztvevők közé\nworldcafé módszertannal dolgozik majd\, tehát lehetőség nyílik sok emberrel a facilitált beszélgetésre\, közös gondolkodásra\n9 vállalati problémát jár körül az Ipar 4.0 bevezetésének és működtetésének 9 fázisában – az eredményekről pedig összefoglaló is készül majd\nkapcsolat és új projektek építésére szolgál\, tehát a résztvevők megadhatják elérhetőségeiket\, érdeklődési körüket\, és az meg lesz osztva a többi résztvevővel is a konferencia lezárultával!\n\n  \nA cégvezetőket és fiatal kutatókat megszólító K+F konferencia célja a technológiaváltással\, az Ipar 4.0-s kérdésekkel kapcsolatos konkrét vállalati problémák megoldása\, fiatal kutatók\, tanácsadók\, üzleti közösségek és cégvezetők közösségi intelligenciáját használva\, a world café módszertanával találkozási platformot és kapcsolódást teremtve a témában érintett szakemberek között\, ezzel a K+F és innováció lehetőségét biztosítva az akadémiai és a vállalati szférának egyaránt. \nPROGRAM \n10:00 – 11:00 A szegedi Lézerközpont (ELI-ALPS) bejárása (opcionális programpont) \n11:00 – 12:30 Plenáris nyitószekció \n11:00 – 11:15 A konferencia megnyitása: Üzlet 4.0 vállalati perspektívából – Dr. Kőkuti Attila\, a Csongrád Megyei Kereskedelmi és Iparkamara elnöke \n11:15 – 11:30 Akadémiai és vállalati összefogás az Üzlet 4.0 világában – Prof. Dr. Szabó Gábor\, a Szegedi Tudományegyetem kuratóriumának elnöke \n11:30 – 11:40 Határon túli együttműködés – fejlődési pontok a technológiaváltás korában – Dr. Gogolák László\, a Szegedi Tudományegyetem Mérnöki Karának főiskolai docense\, a Szabadkai Műszaki Szakfőiskola főiskolai tanára \n11:40 – 12:20 Kerekasztal beszélgetés a szakma kiemelkedő képviselőivel – Dr. Ferenc Rudolf\, az SZTE TTIK Informatikai Intézetének tanszékvezetője\, Nagy Mihály\, a Váll-Ker Kft. ügyvezető igazgatója\, Petrik Márk\, a Hepenix Kft. ügyvezetője\, az Ipar 4.0 Platformon (NTPSZ) a kkv-k képviselője \n12:20 – 12:30 Eligazító az ebéd utáni szekcióhoz: a worldcafé szabályai\, működése \n12:30 – 13:30 Ebéd \n13:30 – 15:30 9 téma – 9 asztal: Javaslatok vállalati problémákra world café módszertannal\, forgóasztalos rendszerben \nTudást kérek! – Az Üzlet 4.0-ról elérhető tudás és ennek közvetítése \nTükröt kérek! – Technológiai és szervezeti érettségi diagnosztika \nPéldát és segítséget kérek a választáshoz! – A fejlesztések kiválasztása \nÖsszehangolást kérek régi és új között! – Az összehangolás \nA Projekt – Vonalvezetőt kérek a projekt sikeréhez! \nA Változás – Változásmenedzsment segítséget kérek! \nAz emberek – A megfelelő kollégák megtalálása és „kinevelése” \nInformáció és támogatás a K+F-hez – A vállalati és az akadémiai szféra \nAz együttműködés – Hitelességet és közösséget kérek a fejlesztésekhez! \n15:30 – 16:30 Plenáris zárószekció \n15:30 – 16:15 Tárlatvezetés: az asztaloknál megtárgyalt vállalati problémákra a javaslatcsomagok villám-összefoglalói \n16:15 – 16:30 Zárás és következtetések \n  \nA konferencia nyelve magyar\, de a határon túli partnereknek szerb nyelven tolmácsolást biztosítunk. Az esemény személyes jelenlétre tervezett\, amely az aktuális járványügyi helyzet függvényében módosulhat. \nAz érvényben lévő szabályozások miatt a rendezvényen csak védettségi igazolvánnyal rendelkezők vehetnek részt! \nAmennyiben Baranyából megfelelő számú résztvevő jelentkezik\, közös kisbuszt biztosít a kamara az utazáshoz. \n  \nTovábbi információ és jelentkezés: Nagy Eszter\, nagy.eszter@pbkik.hu\, +36 20 4126995
URL:https://pbkik.hu/esemeny/young-spirit-reflektorfenyben-az-uzlet-4-0/
LOCATION:ELI-ALPS Lézeres Kutatóintézet\, Wolfgang Sandner u. 3.\, Szeged\, Csongrád\, 6728\, Magyarország
END:VEVENT
BEGIN:VEVENT
DTSTART;TZID=Europe/Helsinki:20211020T150000
DTEND;TZID=Europe/Helsinki:20211020T160000
DTSTAMP:20260422T224819
CREATED:20211007T104244Z
LAST-MODIFIED:20221122T101626Z
UID:10002570-1634742000-1634745600@pbkik.hu
SUMMARY:FinTech - Költséghatékonyság és innováció digitális pénzügyi megoldásokkal KKV-k számára
DESCRIPTION:Miért éri meg a KKV-knak a pénzügyi digitális transzformáció technológiai megatrendjeire rákapcsolódni? Milyen lehetőségeket nyitnak a fizetés\, a forrásgyűjtés\, a befektetéskezelés\, hitelközvetítés és a biztosítások terén a FinTech megoldások a vállalkozásoknak lokációtól függetlenül? \n \nFotó: pixabay.com \nMindezekre a kérdésekre kapnak választ a rendezvény résztvevői. \nHelyszín: Pécs-Baranyai Kereskedelmi és Iparkamara (7625 Pécs\, Majorossy I. u. 36.) \n\nHornyák Miklós\, egyetemi adjunktus\, PTE KTK\nKuti Mónika\, egyetemi docens\, FinTech Center vezető\, PTE KTK\n\nA rendezvényen való részvétel rendezett kamarai regisztrációval díjmentes\, de regisztrációhoz kötött. \nAz esemény hibrid formában kerül megvalósításra\, így kérjük jelezze\, személyesen vagy online módon szeretne részt venni. \nA rendezvényt az Enterprise Europe Network támogatja. \n \n  \nThis form is currently closed for submissions. \n 
URL:https://pbkik.hu/esemeny/koltseghatekonysag-es-innovacio-digitalis-penzugyi-megoldasokkal-kkv-k-szamara/
LOCATION:Pécsi Kereskedelmi Központ
GEO:46.081487;18.2347915
END:VEVENT
BEGIN:VEVENT
DTSTART;TZID=Europe/Helsinki:20211027T130000
DTEND;TZID=Europe/Helsinki:20211027T150000
DTSTAMP:20260422T224819
CREATED:20211006T085412Z
LAST-MODIFIED:20211018T123130Z
UID:10002567-1635339600-1635346800@pbkik.hu
SUMMARY:Irányítsd céged a jövő eszközeivel! Mesterséges intelligencia a vállalatirányításban
DESCRIPTION:Hogyan alkalmazható a mesterséges intelligencia a kkv-k napi működésében? Milyen egyszerű és hatékony segítséget nyújtanak a mesterséges intelligencián alapuló eszközök mikro-\, kis- és középvállalkozásoknak? Mesterséges intelligencia és az online marketing kapcsolata? Merre és meddig fejlődik a mesterséges intelligencia? Mik a legújabb trendek? Tényleg a határ a csillagos ég? \nA Modern Vállalkozások Programja – Vállalkozz digitálisan! projekt október 27-i online rendezvényén valamennyi kérdésre választ kapnak az érdeklődök. \nProgram \n\n\n\n13:00\nModerátori köszöntő\nNagy Tibor – IKT tanácsadó \nMagyar Kereskedelmi és Iparkamara – Modern Vállalkozások Programja\n\n\n13:10\nHogyan gondolkodnak a magyar KKV-k a digitalizáció világáról? Milyen képességeket hoznak az új technológiák (5G\, NB IoT)?\nSipos Szabolcs – vállalati marketing és üzletfejlesztési vezető – Vodafone Hungary\n\n\n13:30\nModern Vállalkozások Programja – közösség a digitális vállalkozásokért\nTakács Károly – IKT tanácsadó \nMagyar Kereskedelmi és Iparkamara – Modern Vállalkozások Programja\n\n\n13:50\nMesterséges intelligencia alapú\, cégre szabott vállalatirányítási rendszer\nWágner György \nügyvezető – Gyapinet Bt.\n\n\n14:10\nMesterséges intelligencia alapú kereskedelem: aki kimarad\, lemarad\nPentz Thomas \nügyvezető – CubicFox Kft\n\n\n14:30\nLegyen cégének az online térben is „kirakata”\nMüller-Váczi Lívia \nonline marketing tanácsadó – RG Stúdió Kft\n\n\n14:50\nNézői kérdések – előadói válaszok \nmoderátor: Nagy Tibor \nAz előadások összegzése. Mik a jövőbeli trendek? Milyen új technológiákra számíthatunk? Mennyire fontos\, mennyire kifizetődő lépést tartani a digitalizációval?\n\n\n\n  \nSzervező: Magyar Kereskedelmi és Iparkamara – Modern Vállalkozások Programja és a Pécs-Baranyai Kereskedelmi és Iparkamara \nA rendezvény moderátora: Nagy Tibor – IKT tanácsadó – Vas megye – Modern Vállalkozások Programja \nA rendezvényen a részvétel ingyenes\, de regisztrációhoz kötött.  \nAmennyiben még nem rendelkezik ügyfélfiókkal\, úgy a regisztrációs gombra kattintva létrehozhatja adatlapját és egyben véglegesítheti rendezvényregisztrációját. \nAmennyiben már rendelkezik ügyfélfiókkal\, úgy kérjük a www.vallalkozzdigitalisan.hu oldalon\, a jobb felső sarokban található Belépés gombra kattintva lépjen be a felületre és ott válassza ki a rendezvényt amelyre regisztrálni kíván. Ha jelszavát elfelejtette\, úgy kérjük\, hogy használja a jelszó emlékeztető funkciót. \nFelmerülő kérdés esetén keressen minket a rendezvenyek@ginop-mkik.hu e-mail címen.
URL:https://pbkik.hu/esemeny/iranyitsd-ceged-a-jovo-eszkozeivel-mesterseges-intelligencia-a-vallalatiranyitasban/
LOCATION:Majorossy Imre utca 36.\, Pécs\, 7625\, Magyarország
END:VEVENT
BEGIN:VEVENT
DTSTART;TZID=Europe/Helsinki:20211027T163000
DTEND;TZID=Europe/Helsinki:20211027T210000
DTSTAMP:20260422T224819
CREATED:20211021T113728Z
LAST-MODIFIED:20211021T114522Z
UID:10002575-1635352200-1635368400@pbkik.hu
SUMMARY:Pécsi építőipari klubest
DESCRIPTION:Az Épületszigetelők\, Tetőfedők\, Bádogosok és Ácsok Szövetsége október 27-én Pécsen szakmai klubestet szervez a  TERRÁN Tetőcserép Gyártó Kft. és a ROTO Elzett Kft. együttműködésében.\n\nA főként kivitelezőknek meghirdetett interaktív rendezvényen való részvétel ingyenes\, de előzetes jelentkezéshez (e-mailen vagy telefonon) kötött! \nIdőpont:            2021. október 27. szerda\, 16.30-21.00 \nHelyszín:           TERRÁN Székház oktatóterem\, 7630 Pécs\, Engel János u. 8. \nSzervező:          Perényi László ÉMSZ területi titkár \nTémák:            Terrán Generon – a napelemes tetőcserép – Energiatudatos megoldás esztétikusan a Terrántól\nelőadó: László Miklós tetőfedő mester\, Generon kivitelezési szaktanácsadó\, TERRÁN Kft. \nElőszerelt tetőtéri ablakok – szakszerű csatlakozás biztosítása\nelőadó: Takács Zoltán\, szaktanácsadó\, ROTO Elzett Kft.\n\nJelentkezés: emsz@emsz.hu és/vagy simon.vali@emsz.hu tel: 06706474730 \nNem csak ÉMSZ tagok\, környékbeli ács\, tetőfedő\, bádogos szakemberek vagy szakmagyakorlókat is várnak szakmai partnerükkel együtt. \n 
URL:https://pbkik.hu/esemeny/pecsi-epitoipari-klubest/
LOCATION:TERRÁN Székház oktatóterem\, Engel János u. 8.\, Pécs\, Baranya\, 7630\, Magyarország
END:VEVENT
END:VCALENDAR