BEGIN:VCALENDAR
VERSION:2.0
PRODID:-//Pécs-Baranyai Kereskedelmi és Iparkamara - ECPv6.15.20//NONSGML v1.0//EN
CALSCALE:GREGORIAN
METHOD:PUBLISH
X-WR-CALNAME:Pécs-Baranyai Kereskedelmi és Iparkamara
X-ORIGINAL-URL:https://pbkik.hu
X-WR-CALDESC:Események Pécs-Baranyai Kereskedelmi és Iparkamara
REFRESH-INTERVAL;VALUE=DURATION:PT1H
X-Robots-Tag:noindex
X-PUBLISHED-TTL:PT1H
BEGIN:VTIMEZONE
TZID:Europe/Helsinki
BEGIN:DAYLIGHT
TZOFFSETFROM:+0200
TZOFFSETTO:+0300
TZNAME:EEST
DTSTART:20200329T010000
END:DAYLIGHT
BEGIN:STANDARD
TZOFFSETFROM:+0300
TZOFFSETTO:+0200
TZNAME:EET
DTSTART:20201025T010000
END:STANDARD
BEGIN:DAYLIGHT
TZOFFSETFROM:+0200
TZOFFSETTO:+0300
TZNAME:EEST
DTSTART:20210328T010000
END:DAYLIGHT
BEGIN:STANDARD
TZOFFSETFROM:+0300
TZOFFSETTO:+0200
TZNAME:EET
DTSTART:20211031T010000
END:STANDARD
BEGIN:DAYLIGHT
TZOFFSETFROM:+0200
TZOFFSETTO:+0300
TZNAME:EEST
DTSTART:20220327T010000
END:DAYLIGHT
BEGIN:STANDARD
TZOFFSETFROM:+0300
TZOFFSETTO:+0200
TZNAME:EET
DTSTART:20221030T010000
END:STANDARD
END:VTIMEZONE
BEGIN:VEVENT
DTSTART;VALUE=DATE:20211001
DTEND;VALUE=DATE:20211224
DTSTAMP:20260423T003042
CREATED:20210802T093337Z
LAST-MODIFIED:20221122T095349Z
UID:10002432-1633046400-1640303999@pbkik.hu
SUMMARY:MEDICA Healthcare 2021 - üzletember találkozó
DESCRIPTION:A MEDICA 2021 a világ első számú egészségipari vására. Idén 20. alkalommal\, a vásár mellett hibrid rendszerben\, online és személyes jelenlét mellett nyújt lehetőséget az egészségipar valamennyi szereplője számára üzleti tárgyalásokra. Vegyen részt Ön is! \n \n  \nA MEDICA vásáron megrendezésre kerülő nemzetközi üzltebmer találkozónak már 20 éves hagyománya van. Az elmúlt években az eseményen mindig mintegy 40 országból mintegy 350 résztvevő vett részt\, 700 előre kiválasztott és egyeztetett találkozóval. \nA 2021-es év még mindig különleges évnek számít. A COVID-19 vírus hatásai még mindig mindennaposak mindannyiunk számára\, különösen\, az egészségügyi ágazatban. 2020-ban megtanultuk elfogadni a virtuális találkozókat\, különösen a MEDICA vásár előtt és után. Ezért folytatni fogjuk ezeket a virtuális találkozókat. De nagyon örülünk\, hogy a MEDICA 2021 során ismét lesz ilyen találkozó napok. \nTehát több tárgyalási napot és további eseményeket kínálunk. \nA világjárvány következményei miatt\, ahogy 2020-ban is\, árcsökkentésre\, a regisztrációs díj felezésére\, valamint további fejlesztésekre számíthatnak a befektetők és az importőrök is. Ezen túlmenően a résztvevőknek a sikeres együttműködésekből is profitálniuk kell. Minden résztvevő\, aki tájékoztat minket egy együttműködésről\, és ezt írásban\, dokumentumban megerősíti\, visszakapja a regisztrációs díjat. \nMiért érdemes részt venni? \nHasználja fel a rendezvényt új vállalkozások kezdeményezésére\nTalálkozzon az innovatív technológiák szolgáltatóival egész Európából és Európán kívülről\nLépjen kapcsolatba potenciális partnerekkel a jövőbeli együttműködés érdekében\nTeremtsen határokon átnyúló kapcsolatokat a hosszú távú üzleti kapcsolatokhoz\nÚj partnerek keresése kutatási projektekhez \nRegisztrációs díjak \n200 Euró – Vállalkozások\, szövetségek\, kutatóintézetek stb. (az EGT-n kívüli területek)\n100 Euró – Vállalkozások\, egyesületek\, kutatóintézetek stb. (EEN partnerországok)\n50 Euró – Start upok (2018. január 1-jén vagy azt követően alapított kezdő vállalkozások\, EEN partnerországok)\n0 Euró – Befektetők\, üzleti angyalok\n0 Euró – külföldi termékek forgalmazásával foglalkozó vállalat vagy közbeszerző \nOnline tárgyalási napok: \n2021. október 1. – 2021. december 23. \nSzemélyes (és online) tárgyalási napok: \n2021. november 15-18. – MEDICA 2021\, Düsseldorf \n  \nTovábbi információ és regisztráció\nRegisztrációs határidő: 2021. november 14.
URL:https://pbkik.hu/esemeny/medica-healthcare-2021-uzletember-talalkozo/
LOCATION:Online
END:VEVENT
BEGIN:VEVENT
DTSTART;VALUE=DATE:20211104
DTEND;VALUE=DATE:20211105
DTSTAMP:20260423T003042
CREATED:20211006T114518Z
LAST-MODIFIED:20221122T101617Z
UID:10002568-1635984000-1636070399@pbkik.hu
SUMMARY:i-Days 2021 innovációs ötletverseny - idén élőben (is)!
DESCRIPTION:2021 november 4-én a Pécsi Tudományegyetem ÁOK Transzdiszciplináris Kutatások Intézete az Európai Innovációs és Technológiai Intézettel együttműködésben ismét megrendezi a tavaly nagy sikerrel zárult Innovation Days elnevezésű ötletversenyét. \n \nHa unod az örökös sorban állást\, tolongást az orvosi rendelőkben\, ha unod\, hogy hiába mész időpontra biztos\, hogy várnod kell; ha eleged van abból\, hogy ahány ajtón bemész annyiszor kell elmondanod\, hogy miért jöttél\, mi a panaszod; ha szeretsz kütyüzni\, csatlakozni\, böngészni és szívesen látnál okos eszközöket az egészségügyi intézmények minden sarkában; ráadásul tele vagy ötletekkel\, csak senki nem hallgat meg\, akkor itt a lehetőség\, hogy tegyél ez ellen! Az egészségügynek szüksége van rád! \nIdén 5 olyan kihívásra keresünk megoldást\, amely mind valós igényen alapul: \nBábeli zűrzavar \nFolyamatos telefoncsörgés\, végeláthatatlan adminisztrációs feladatok\, lefagyó számítógépes rendszerek\, folyamatosan ki-be mászkáló munkatársak darabolják fel folyamatosan a rendelést. Ráadásul összefolynak a munkafolyamatok\, strukturálatlan a munkaszervezés is így ezek emiatt kevesebb idő jut egy-egy betegre\, az ellátás kapkodva zajlik\, mind az orvos\, mind a beteg\, feszült\, türelmetlen\, ami nagy mértékben rontja az ellátás minőségét.\nMilyen megoldással lehetne megszüntetni a fenti állapotokat? \n„Hiába fürösztöd önmagadban\, csak másban moshatod meg arcodat” – A visszajelzési kultúra hiánya az egészségügyben \nHogyan lehetne motiválni az egészségügyi dolgozókat\, hogy elmondják\, a vezetőket pedig\, hogy meghallgassák a kritikus\, építő véleményeket egyaránt? Mi lenne erre a legjobb megoldás\, hogyan lehetne ezt a leghatékonyabban\, úgy megvalósítani\, hogy ez a lehetőség minden egészségügyi dolgozó számára elérhető legyen\, valamint\, hogy az elmondott ne csupán pusztába kiáltott szó legyen? \nSkynet – az okoskórház ébredése \nEgy olyan folyamatmenedzsment kezelő rendszer tervezése a feladat\, amely a beteg belépésétől az egészségügyi intézményből való távozásán át az utókezelésig nem csak segít nyomon követni a folyamatot\, hanem a tervezhetőségből adódóan optimalizálja is a folyamatot\, megszüntetni a betegfeltorlódást. (Visszakereshetőség\, betegedukáció\, statisztika) \nKérem a következőt! \nEgy olyan egységes betegregisztrációs és beteghívó platform megtervezése a feladat\, amely minden korosztály részére könnyedén alkalmazható. Fontos eleme\, hogy az kezelőorvos részére “látható legyen”\, hogy éppen merre jár a beteg. \nÍrtam én már eleget \nEgy olyan IT alapú megoldást keresünk\, amely amellett\, hogy segít az adminisztratív terhek csökkentésében\, könnyen kezelhető és elérhető dokumentumkezelést biztosít az egészségügyi dolgozóknak (és akár a betegeknek is?) \nA részvételhez semmilyen előképzettség nem szükséges\, csupán hallgatói jogviszony\, te és a lelkesedésed kell! \nTovábbi információ és regisztráció https://itdweb.hu/i-days-2021/
URL:https://pbkik.hu/esemeny/i-days-2021-innovacios-otletverseny-iden-eloben-is/
LOCATION:Pécsi Tudományegyetem Közgazdaságtudományi Kar\, Rákóczi út 80.\, Pécs\, Baranya\, 7622\, Magyarország
ORGANIZER;CN="P%C3%A9csi Tudom%C3%A1nyegyetem Transzdiciplin%C3%A1ris Kutat%C3%A1sok Int%C3%A9zete":MAILTO:itd@pte.hu
END:VEVENT
BEGIN:VEVENT
DTSTART;TZID=Europe/Helsinki:20211104T170000
DTEND;TZID=Europe/Helsinki:20211104T190000
DTSTAMP:20260423T003042
CREATED:20211027T132055Z
LAST-MODIFIED:20221122T101611Z
UID:10002579-1636045200-1636052400@pbkik.hu
SUMMARY:A bioinformatika jelene és perspektívái - szakmai konferencia
DESCRIPTION:A PEIK Zrt. (Pécsi Egészségipari Innovációs Központ Zrt.) által megrendezett konferencia sorozat fő célkitűzése az egészségipar\, az egyetem és más ipari szereplők találkozása révén különböző tématerületeken keresztül\, a régióban rejlő lehetőségek és hiányosságok feltárása\, valamint a közös gondolkodás és együttműködések kialakítása. \n  \nA rendezvénysorozat negyedik állomására meghívott előadók\, kutatók és üzleti szférában is jártas szakemberek a szakmai szemszög mellett az üzleti vonal lehetőségeibe és gondolatébresztő témáiba is betekintést nyújtanak. \n  \nPROGRAM \n16.00 – Érkezés és regisztráció\, korai érkezők korai kérdezők \n17.00 – 17.10 PEIK Zrt. vezérigazgatójának köszöntője – Dr. Szemerey Zoltán \n17.10 – 17.30 A modern számítógép-tudományok alkalmazása orvosbiológiai információk kezelésére – Dr. Lustyik György\, a Soft Flow Kft. alapítója \n17.30 – 17.50 Bioinformatika és molekula modellezés – Dr. Czömpöly Tamás\, a Soft Flow Kft. alkalmazott biotechnológia vezetője \n17.50 – 18.10 A rendszeres sport\, mint betegség-megelőzés\, molekuláris mintázatának bioinformatikai analízise – Dr. Kvell Krisztián\, a Pécsi Tudományegyetem Gyógyszerésztudományi Kar Gyógyszerészi Biotechnológia Intézet tanszékvezető helyettese \n18.10 – 18.30 – Mesterséges intelligenciával vezérelhető 3D nyomtatott felső végtagi protézis fejlesztése – egy egyetemi spin-off története – Péntek Attila\, a ProLimb Kft. alapítója \n18.30 – 18.50 – Dél-Dunántúl ezüstbányája: Silver Economy avagy Ezüstgazdaság – Dr. Sik Attila – PTE-ÁOK Transzdiszciplináris Kutatások Intézet intézetvezetője \n18.50 – 19.00 – Piacra viteli lehetőségek és európai szintű közreműködő partnerhálózat – Dr. Liber Noémi PTE-ÁOK Transzdiszciplináris Kutatások Intézet intézetvezető helyettese \n19.00 – Felvetések\, ötletek és kérdések egy hidegtálas vacsorával és sörkóstolóval körítve \n  \nKonferencia helyszíne: \nA Pécsi Szalon rendezvényterme\, Pécs\, Széchenyi tér 16. \n  \nA konferencián való részvétel ingyenes\, de a korlátozott létszám miatt regisztrációhoz kötött! \n  \nRegisztráció: a papp.petra@peik.hu e-mail címen\, legkésőbb 2021. november 2-ig
URL:https://pbkik.hu/esemeny/a-bioinformatika-jelene-es-perspektivai-szakmai-konferencia/
LOCATION:Pécsi Szalon\, Széchenyi tér 16.\, Pécs\, Baranya\, 7625\, Magyarország
END:VEVENT
BEGIN:VEVENT
DTSTART;TZID=Europe/Helsinki:20211111T100000
DTEND;TZID=Europe/Helsinki:20211111T170000
DTSTAMP:20260423T003042
CREATED:20211004T133448Z
LAST-MODIFIED:20211006T064258Z
UID:10002105-1636624800-1636650000@pbkik.hu
SUMMARY:Közép-Európai Űripari Nap és Üzleti Találkozó
DESCRIPTION:Az űripar számára „CENTRAL EUROPE SPACE INDUSTRY DAY & BROKERAGE” címmel rendeznek Brno-ban konferenciát és üzletember találkozót. \nDátum:              2021. november 11.\,  10.00-17:00 óra \nHelyszín:             Brno (Csehország)\, Hotel Passage\, Lidická 23 \n  \nA rendezvény lehetőséget nyújt az űriparban és űrkutatásban tevékenykedő közép-európai (cseh\, lengyel\, szlovák\, magyar) cégek\, stakeholderek\, kutatóintézetek\, egyetemek képviselőinek\, illetve az anyagkutatás területéről nem közvetlenül űripari cégek és kutatóintézetek\,  alkatrész-beszállítók\, IT fejlesztők (stb.) képviselőinek megismerésére\, együttműködések kialakítására a régióban. \n \n  \nA Central Europe Space Industry Day and Brokerage kiváló alkalom \n\na legfrissebb intézményi és piaci trendek és innovációk megismerésére\núj technológiai partnerekkel / végfelhasználókkal való találkozásra rövid (20 perces)\, előre szervezett találkozók keretében\nK+F partnerek megtalálására\, különös tekintettel az Európai Űrstratégiára\, az Európai Űrügynökség (ESA) és a Horizon Europe által indított K+F programokra.\n\n  \nA rendezvény a Czech Trade\, a Cseh Közlekedési Minisztérium\, a JIC innovációs ügynökség szervezésében a HEPA\, a lengyel Krakow Technology Park és a szlovák BIC Bratislava társzervezésével\, a Külgazdasági és Külügyminisztérium közreműködésével valósul meg. \n  \nA fórumon való részvétel ingyenes\, de regisztrációhoz kötött. A kiutazásról és a szállásról az adott cég saját maga gondoskodik. \n  \nKérjük\, regisztráljon a rendezvény online platformján és foglaljon tárgyalásokat a résztvevő cégekkel\, kutatóintézetekkel\, stakeholderekkel! \n  \nAz esemény weboldala és regisztráció: \nhttps://central-europe-space-industry-day.b2match.io/
URL:https://pbkik.hu/esemeny/kozep-europai-uripari-nap-es-uzleti-talalkozo/
LOCATION:Majorossy Imre utca 36.\, Pécs\, 7625\, Magyarország
END:VEVENT
BEGIN:VEVENT
DTSTART;TZID=Europe/Helsinki:20211111T130000
DTEND;TZID=Europe/Helsinki:20211111T160000
DTSTAMP:20260423T003042
CREATED:20211025T114238Z
LAST-MODIFIED:20211027T140635Z
UID:10002576-1636635600-1636646400@pbkik.hu
SUMMARY:Kamarai Beszállítói Fórum
DESCRIPTION:A Heves Megyei Kereskedelmi és Iparkamara beszállítói rendezvénysorozatának jó példája alapján 2021-ben – próba jelleggel – a Pécs-Baranyai Kereskedelmi és Iparkamara is lehetőséget biztosít Baranya megye TOP 100 vállalkozása számára\, hogy csatlakozzon. \n \nAz idei rendezvényre előreláthatóan vegyes formában kerül sor\, azaz mindenki számára ONLINE\, Egerben pedig SZEMÉLYES tárgyalásokra is lehetőség lesz. \nAz ITT & MOST platform segítségével AZ EGÉSZ ORSZÁG TERÜLETÉRŐL\, sőt\, a HATÁROKON TÚLRÓL IS várunk beszállítójelölteket! \nA program célja\, hogy a jelentősebb vállalatok a beszállítóikat lokalizálják\, növelve a hazai beszállítók részarányát és az ellátás biztonságát minél több termékcsoportnál\, mely minden szereplő közös érdeke. A program során közvetlen üzleti tárgyalásokra (b2b) kerül sor az előzetes bejelentkezések alapján\, cégenként 15-15 perc időtartamokban. \n  \nA szervezés idén is két fordulóban történik. \n1.      Heves megye és Baranya megye meghatározó közép- és nagyvállalatainak megkeresése\nMegkeressük a két megye meghatározó cégeit\, hogy küldjék meg beszállítói igényeiket (termékek/szolgáltatások/technológiák). \n2.      A beérkezett igények meghirdetése a potenciális beszállítók felé\, regisztráció\, tárgyalások előkészítése \nA regisztráló cégek megadják a profiljukat\, illetve\, hogy mely cégekkel szeretnének tárgyalásokat folytatni. Előszűrhetik a jelentkezőket\, vagyis nem szükséges mindenkivel tárgyalniuk. Ezt követően a visszaigazolt tárgyalások alapján a kamarák elkészítik a tárgyalási menetrendet. A beszerzők természetesen beszállítóként is tárgyalhatnak a programhoz csatlakozó nagyvállalatokkal. \nA korábbi évek beszállító fórumai számokban (Heves megyében): \n\névi 10-15 beszállítót kereső\, a megye gazdaságát meghatározó közép- és nagyvállalat\ntöbb ezer potenciális beszállító tájékoztatása\ntöbb\, mint 150 regisztrált beszállítójelölt\ntöbb\, mint 200 visszaigazolt és megvalósult tárgyalás\na közép- és nagyvállalatok beszerzői 20-25 tárgyalást folytattak évente (több beszerző kollégával lehetőség van több párhuzamos tárgyalás lefolytatására is).\n\nDátum: 2021. november 11. (csütörtök)  \n(Személyes beszállítói tárgyalások Egerben: 9:00 – 13:00)\nOnline beszállítói tárgyalások: 13:00 – 16:00\nAz online technikai információkról a későbbiekben egyeztetünk a regisztrált vállalatok által megjelölt kapcsolattartó kollégákkal. \nA beszállítójelöltek listáját a rendezvény előtt küldjük meg a beszerzőknek\, akik így kiválaszthatják azokat a potenciális partnereket\, akikkel tárgyalni kívánnak. \nRészvételi díj: az önkéntes kamarai tag beszerzők és a beszállítók számára díjmentes. A nem önkéntes kamarai tag beszerzők számára 100.000 Ft + ÁFA. \nA kamarák az alábbi lehetőségeket biztosítják: \n\nHeves és Baranya megyén belül a potenciális beszállítók tájékoztatása a beszállítói lehetőségről\, a keresett termékek/szolgáltatások/technológiák köréről\nHeves és Baranya megyén túl\, a kamarai hálózat bevonásával ORSZÁGOSAN TÖBB EZRES vállalati kör tájékoztatása kamarai honlapok\, hírlevelek formájában\nELŐSZŰRÉSI LEHETŐSÉG a regisztrált beszállító-jelöltek között (nem szükséges minden jelentkezővel tárgyalni)\nFolyamatos kapcsolattartás a program előkészítése során\nTárgyalási menetrend kialakítása\, 15-15 perces tárgyalásokkal\nOnline tárgyalási platform biztosítása\, illetve Egerben személyes tárgyalási lehetőség\nTárgyalások koordinálása\nBüfé (2021-ben csak az egri helyszínen)\nAKÁR 60 BESZÁLLÍTÓI TÁRGYALÁS.\n\nBővebb információ: \nHeves megye: Becskei Márk HKIK projektiroda vezető Tel.: +36-36/ 429-614\, 121-es mellék\, Mobil: +36-20/ 517-9290\, E-mail: mark.becskei@hkik.hu \nBaranya megye: \nCsászár Gergely PBKIK irodavezető Tel.: +36-72/507-186\, Mobil: +36-20/442-2080\, E-mail: csaszar.gergely@pbkik.hu; \nSzigeti Rudolf PBKIK projekt menedzser Tel.: +36-72/ 507-172\, Mobil: +36-20/ 371-2172\, E-mail: szigeti.rudolf@pbkik.hu
URL:https://pbkik.hu/esemeny/kamarai-beszallitoi-forum/
LOCATION:online
END:VEVENT
BEGIN:VEVENT
DTSTART;TZID=Europe/Helsinki:20211117T090000
DTEND;TZID=Europe/Helsinki:20211117T110000
DTSTAMP:20260423T003042
CREATED:20211102T132924Z
LAST-MODIFIED:20221122T101606Z
UID:10002582-1637139600-1637146800@pbkik.hu
SUMMARY:Kormányzati szerepvállalás és stratégiai kommunikáció Kínában - európai KKV-k számára
DESCRIPTION:A hibrid workshop célja\, hogy a legjobb gyakorlatokon és esettanulmányokon keresztül útmutatást és tippeket adjon az európai KKV-knak arra vonatkozóan\, hogy miként közelíthetik meg\, vonhatják be és miként tárgyalhatnak a kínai kormánnyal regionális és nemzeti szinten\, különböző csatornákon keresztül\, beleértve a kereskedelmi kamarákat\, nyilvános rendezvényeket\, egyetemi oktatókat\, és a kínai médiát. \n \n  \nA kormányzati ügyek (Government Affairs – GA) Kínában mindig is kritikus pont volt a külföldi vállalatok napirendjén. Míg a nagy multinacionális vállalatok külön GA-csapattal és költségvetéssel rendelkeznek\, sok európai vállalkozás még mindig másodlagos fontosságúnak tekinti ezt a területet\, és többnyire passzív hozzáállást tanúsít\, például az ellenőrzésekkel\, jóváhagyások vagy engedélyek megszerzésével kapcsolatban. A valóságban óriási előnyökkel jár\, ha a kínai kormányhatóságok stratégiai szerepvállalásával proaktív megközelítésre térünk át\, az európai KKV-knak nem kellene félniük ettől\, még akkor sem\, ha méretük és erőforrásaik korlátozottak. \nPROGRAM \n16:00-16:10 Az EU KKV Központ bemutatkozása – Alessio Petino\, tudáskoordinátor\, EU KKV Központ \n16:10-16:30 1. előadás – Érdekérvényesítés kezdőknek – Joe Cash\, a CBBC politikai elemzője \nBevezetés a kínai érdekérvényesítési környezetbe (előítéletek kontra valóság) \nAz üzleti szervezetek szerepe a külföldi cégek támogatásában Kínában: Hogyan lépnek kapcsolatba az üzleti szervezetek a kormánnyal\no Esettanulmány: A CBBC önkormányzati párbeszédek.\no Hogyan lépnek kapcsolatba az üzleti szervezetek a saját kormányukkal?\no Hogyan néz ki a lobbizás Kínában? \nA kínai kormánnyal folytatott párbeszéd útjai:\no Konferenciák\no Kapcsolatok a K+F területén tevékenykedő akadémikusokkal\no Média…\no Kisebb kínai kormányzati intézmények \nStratégiák\no Példák azokra a vállalatokra\, amelyek ezt jól megoldották\no A kínai hírek olvasásának fontossága/lokalizált személyzet\no Ismerd meg a jogaidat… \nKövetkeztetés \n16:30-16:45 Kérdések és válaszok – Joe Cash \n16:45-17:15 2. előadás – kormányzati környezet\, stratégiák és taktikák a vállalati hírnév erősítésére – Magyar Róbert\, a Sandpiper North Head vezető ügyvezető igazgatója \nA Public Affairs (PA) és a kormányzati kapcsolatok (GR) bemutatása Kínában\no A kormányzati szervekkel való kapcsolatok kezelése. \nHogyan erősíthető a vállalati hírnév és a kínai kormánnyal való kapcsolatrendszer\no Az általános GR-környezet\, stratégiák és taktikák bemutatása \nPR és kommunikációs eszközök\, amelyek segíthetnek az üzleti célok elérésében \nKövetkeztetés \n17:15-17:30 Kérdések és válaszok – Magyar Róbert \n  \nTovábbi információ (angol nyelven) és regisztráció
URL:https://pbkik.hu/esemeny/kormanyzati-szerepvallalas-es-strategiai-kommunikacio-kinaban-europai-kkv-k-szamara/
LOCATION:Online
END:VEVENT
BEGIN:VEVENT
DTSTART;TZID=Europe/Helsinki:20211117T110000
DTEND;TZID=Europe/Helsinki:20211117T144500
DTSTAMP:20260423T003042
CREATED:20211027T130844Z
LAST-MODIFIED:20221122T101559Z
UID:10002578-1637146800-1637160300@pbkik.hu
SUMMARY:A bajor autóipar fejlődése és jövőbeli tendenciái - hibrid fórum
DESCRIPTION:Értesüljön első kézből a bajor autóipar aktuális trendjéről és azok magyar beszállítókra gyakorolt hatásairól! \n \n \nAz AUTOMOTIVE HUNGARY kiállításon megrendezésre kerülő szakmai fórumon bajor szakemberek mellett Magyarországon tevékenykedő bajor vállalatokat is meghívtunk\, akik különböző szempontok alapján adnak aktuális tájékoztatást az ágazatot jelenleg meghatározó témákról. A rendezvényen a magyar beszállítók\, mint a bajor cégek lehetséges partnerei\, ellátási láncban gyakorolt szerepe is szóba kerül. Vegyen részt rendezvényünkön és tudjon meg többet a bajorországi autóipar helyzetéről és kilátásairól! \nPROGRAM \nModeráció: Balogh Ilona\, ügyvezető ig. helyettes\, üzletfejlesztési osztályvezető\nNémet-Magyar Ipari és Kereskedelmi Kamara (DUIHK) \n10:30 -11:00 Regisztráció \n11:00 -11:10 Köszöntő\, bajor-magyar gazdasági kapcsolatok \nBarbara Zollmann\, Bajor Szabadállam magyarországi képviseletének vezetője\, a DUIHK ügyvezető elnökségi tagja \n11:10 -11:30 Az autóipar Bajorországban – aktuális trendek \nDr. Klaus-Peter Potthast\, osztályvezető\, Gazdaságpolitika\, Koordináció\, Ipar\, Bajor Gazdasági\, Vidékfejlesztési és Energiaügyi Minisztérium \n11:30 – 11:50 Az autóipar a 2020-as válságév után \nChristopher Ettl\, projektmanager\, technológia\, mobililás\, Bayern Innovativ \n11:50 – 12:10 Magyar beszállítók ellátási láncban betöltött szerepe – változások az elmúlt években \nKilián Csaba\, CEO\, Magyar Gépjárműipari Egyesület (MAGE) \n12:10 -12:30 Az ellátási lánc jelenlegi problémái gyakorlati szemmel \nSzente-Ferenc Zoltán\, ügyvezető igazgató\, Rehau- Automotive Kft. \n12:30 – 12:40 Kérdések és válaszok \n12:40 – 13:10 Ebédszünet \n13:10 – 13:30 Új körforgásos gazdaság az autóiparban \nProf. Reinhard Büchl – INAS Institut für angewandte Nachhaltigkeit/Büchl Entsorgungswirtschaft GmbH – Büchl Hungaria Kft. \n13:30 – 13:50 Digitalizáció az autóiparban \nHorváth Iván\, Siemens Zrt. \n13:50 – 14:10 Az autóipar változásainak beszállítókra gyakorolt hatása \nWido Fath\, ügyvezető igazgató\, FATH GmbH \n14:10 – 14:20 Kérdések és válaszok \nA programváltoztatás jogát a szervezők fenntartják. \nRÉSZVÉTEL \nA rendezvényen való részvétel díjmentes\, de előzetes regisztrációhoz kötött. \nA rendezvényen kétféle módon vehet részt: \nSzemélyesen a HUNGEXPO Budapest Kongresszusi és Kiállítási Központban (E pavilon\, Türkiz Terem). A belépés védettégi igazolványhoz kötött. \nOnline (Zoom-on) azok számára\, akik előzetesen regisztrálnak az online részvételre. A rendezvény linkjét a konferencia előtt néhány nappal küldjük meg a beregisztrált résztvevőknek. \nAz előadások szinkrontolmácsolással hangzanak el. \nRegisztráció: az online jelentkezési lap kitöltésével. \nJELENTKEZÉSI HATÁRIDŐ: 2021. november 12. \nA rendezvény a Bajor Állami Gazdasági\, Vidékfejlesztési és Energiaügyi Minisztérium megbízásából és támogatásával valósul meg.
URL:https://pbkik.hu/esemeny/a-bajor-autoipar-fejlodese-es-jovobeli-tendenciai-hibrid-forum/
LOCATION:Online
END:VEVENT
BEGIN:VEVENT
DTSTART;VALUE=DATE:20211122
DTEND;VALUE=DATE:20211125
DTSTAMP:20260423T003042
CREATED:20211112T113209Z
LAST-MODIFIED:20221122T101554Z
UID:10002113-1637539200-1637798399@pbkik.hu
SUMMARY:PHARMAPOLIS TEN13 Klaszterkonferencia & B2B találkozók
DESCRIPTION:A PHARMAPOLIS TEN13 Nemzetközi Klaszterkonferencia a klaszterek két fő fókuszterületéhez\, a tematikus klaszterek fejlesztéséhez és működtetéséhez\, valamint a gyógyszerészeti és egészségügyi szolgáltatásokhoz kapcsolódó kérdésekre fókuszál. A konferenciára Európa különböző országaiból valamint harmadik országokból is várjuk a résztvevőket.  A rendezvény alkalmával a GINOP Klaszter Projekt eredményeinek ismertetésére és a projektben résztvevő felek beszámolójára is sor kerül. A rendezvény alkalmából a debreceni Enterprise Europe Network iroda nemzetközi üzletember találkozót szervez online és offline formában egyaránt. \n \nA konferencián számos magyar és nemzetközi előadó gondolatébresztő előadását hallgathatják meg a résztevők. \nA 2 napos konferencia programja (.pdf dokumentum) \n  \nA rendezvény ideje alatt a B2Match szoftver segítségével lehetősége van B2B találkozókon való részvételre online (2021. november 22-24.) és személyesen a helyszínen (2021. november 24. 13 órától). \nA rendezvény lehetőséget nyújt a hazai klasztereknek\, vállalatoknak\, egyetemeknek és szervezeteknek\, hogy előre egyeztetett kétoldalú B2B tárgyalások keretében nemzetközi partnerekkel tárgyalhassanak a következő szakterületeken: \n\nklaszter együttműködések;\ngyógyszerészeti termékek / gyógyszerek;\nbiotechnológia;\nE-egészségügy;\nkórházi és gondozási szolgáltatások;\nélettudományok;\negyéb kapcsolódó területek\n\n  \nA részvétel térítésmentes\, de előzetes regisztrációhoz kötött. \n  \nKérjük\, regisztráljon a rendezvény weboldalán és foglaljon tárgyalásokat B2Match platformon! \n  \nAz esemény weboldala és regisztráció: \nhttps://hbkik.hu/pharmapolis-ten13-klaszter-konferencia-b2b-talalkozo/
URL:https://pbkik.hu/esemeny/pharmapolis-ten13-klaszterkonferencia-b2b-talalkozok/
LOCATION:Online és Debrecen\, Petőfi tér 10.\, Debrecen\, 4025\, Magyarország
END:VEVENT
BEGIN:VEVENT
DTSTART;TZID=Europe/Helsinki:20211123T150000
DTEND;TZID=Europe/Helsinki:20211123T160000
DTSTAMP:20260423T003042
CREATED:20211110T132012Z
LAST-MODIFIED:20211115T131550Z
UID:10002584-1637679600-1637683200@pbkik.hu
SUMMARY:Vállalkozói pódium - jelszó: a fenntarthatóság
DESCRIPTION:A Vállalkozói pódium egy olyan beszélgetéssorozat\, amelyben a meghívott vendég mind szakmai\, mind emberi útjával példát mutat\, inspirál\, szakmai tapasztalatokat ad át vállalkozótársai számára. A hallgatóság megismerheti a vendég sikeres és tanulságos vállalkozói tapasztalatait\, akár új ötletet kaphat a saját vállalkozása menedzseléséhez\, fejlesztéséhez is. A rendezvényen lehetőség van kérdezésre\, tapasztalatcserére\, ezáltal egy újfajta nézőpont kialakítására is. \nAki kérdez: Kis Tünde műsorvezető \nAki válaszol: Róna Ágnes a ZaGa bag tulajdonosa és Felcser Dávid a Reggeli tulajdonosa. \nHelyszín: Reggeli (Pécs\, Király u. 23-25.) \nIdőpont: 2021. november 23. 15.00 \nA szakmai beszélgetésre a Pécs-Baranyai Kereskedelmi és Iparkamara Kis- és Középvállalkozás Fejlesztési Bizottsága szervezésében kerül sor. \nA rendezvényen való részvétel díjmentes\, de regisztrációhoz kötött. Jelentkezési határidő: 2021. november 18. \nA rendezvényen a koronavírus ellen védett személy\, valamint a felügyelete alatt lévő tizennyolcadik életévét be nem töltött személy vehet részt. A védettségi igazolvány mellett a személyazonosság igazolására alkalmas hatósági igazolvány vagy 48 óránál nem régebbi negatív PCR teszt bemutatása kötelező. \nThis form is currently closed for submissions.
URL:https://pbkik.hu/esemeny/vallalkozoi-podium-jelszo-a-fenntarthatosag/
LOCATION:Majorossy Imre utca 36.\, Pécs\, 7625\, Magyarország
END:VEVENT
BEGIN:VEVENT
DTSTART;VALUE=DATE:20211124
DTEND;VALUE=DATE:20211126
DTSTAMP:20260423T003042
CREATED:20211112T125744Z
LAST-MODIFIED:20221122T101548Z
UID:10002114-1637712000-1637884799@pbkik.hu
SUMMARY:Első magyar-argentin-paraguayi-uruguayi orvostechnológiai online üzletember találkozó
DESCRIPTION:A program remek alkalmat biztosít a résztvevő cégeknek\, hogy nemzetközi vevőket és üzleti partnereket ismerjenek meg előre egyeztetett kétoldalú B2B tárgyalások keretében. Várják KKV-k\, disztribútorok\, start-up-ok és kormányzati képviselők jelentkezését. \n \nInspiráló plenáris ülések\, informatív workshopok és célzott 1:1 találkozók ígérnek ismeretszerzést és új üzleti kapcsolatokat. \nA partnerkereső rendezvényen az egészségügyi ágazatban tevékenykedő vállalatok találkoznak Argentínából\, Uruguayból\, Paraguayból és Magyarországról. Ez egy egyedülálló lehetőség új üzleti kapcsolatok és szerződések létrehozására. A találkozókra online\, virtuális standokon kerül sor\, és előre egyeztetett időpontban kerülnek megrendezésre. \nMiért érdemes részt venni? \nVásárlóként – találjon képzett magyar beszállítókat a hatékony személyes találkozók során.\nPiaci/értékesítési menedzserként – találjon új potenciális ügyfeleket.\nTermékfejlesztőként – találjon partnereket az új technológiák és innovatív megoldások megvitatására. \nA részvétel ingyenes\, de a közvetítői rendezvényen való részvételhez regisztráció és profilaktiválás kötelező. \nA rendezvény nyelve az angol. \nA jelenlegi helyzetre való tekintettel a program ONLINE formában valósul meg. A részvétel ingyenes és regisztrációhoz kötött. \nTovábbi információ és regisztráció
URL:https://pbkik.hu/esemeny/elso-magyar-argentin-paraguayi-uruguayi-orvostechnologiai-online-uzletember-talalkozo/
LOCATION:Online
END:VEVENT
END:VCALENDAR