BEGIN:VCALENDAR
VERSION:2.0
PRODID:-//Pécs-Baranyai Kereskedelmi és Iparkamara - ECPv6.15.20//NONSGML v1.0//EN
CALSCALE:GREGORIAN
METHOD:PUBLISH
X-ORIGINAL-URL:https://pbkik.hu
X-WR-CALDESC:Események Pécs-Baranyai Kereskedelmi és Iparkamara
REFRESH-INTERVAL;VALUE=DURATION:PT1H
X-Robots-Tag:noindex
X-PUBLISHED-TTL:PT1H
BEGIN:VTIMEZONE
TZID:Europe/Helsinki
BEGIN:DAYLIGHT
TZOFFSETFROM:+0200
TZOFFSETTO:+0300
TZNAME:EEST
DTSTART:20210328T010000
END:DAYLIGHT
BEGIN:STANDARD
TZOFFSETFROM:+0300
TZOFFSETTO:+0200
TZNAME:EET
DTSTART:20211031T010000
END:STANDARD
BEGIN:DAYLIGHT
TZOFFSETFROM:+0200
TZOFFSETTO:+0300
TZNAME:EEST
DTSTART:20220327T010000
END:DAYLIGHT
BEGIN:STANDARD
TZOFFSETFROM:+0300
TZOFFSETTO:+0200
TZNAME:EET
DTSTART:20221030T010000
END:STANDARD
BEGIN:DAYLIGHT
TZOFFSETFROM:+0200
TZOFFSETTO:+0300
TZNAME:EEST
DTSTART:20230326T010000
END:DAYLIGHT
BEGIN:STANDARD
TZOFFSETFROM:+0300
TZOFFSETTO:+0200
TZNAME:EET
DTSTART:20231029T010000
END:STANDARD
END:VTIMEZONE
BEGIN:VEVENT
DTSTART;TZID=Europe/Helsinki:20220302T103000
DTEND;TZID=Europe/Helsinki:20220302T120000
DTSTAMP:20260420T064305
CREATED:20220223T082900Z
LAST-MODIFIED:20221122T101841Z
UID:10002625-1646217000-1646222400@pbkik.hu
SUMMARY:Szellemi tulajdon és mesterséges intelligencia - webinárium
DESCRIPTION:A webinárium célja\, hogy általános áttekintést nyújtson a mesterséges intelligenciáról (MI)\, a gépi tanulásról és az így keletkező szellemi tulajdonról. \n \nA képzés során a résztvevők megismerkedhetnek a következőkkel: \n\nMit értünk szellemi tulajdon alatt mesterséges intelligencia esetén?\nMilyen jogokról beszélhetünk a MI által gépi tanulás során használt adatok esetében?\nHogyan védik az adatokat az adatbázis jogok?\nHogyan szerezhetők meg az adatok felhasználási jogai az MI területén történő innováció létrehozásához?\nLehetséges-e szabadalmaztatni az MI közreműködésével létrejött találmányokat?\nMilyen hatással lesznek az Európai és az Amerikai Szabadalmi Hivatalok új tanácsai a szabadalmi bejelentések vizsgálatának megközelítésére?\nKié a más forrásból származó adatokkal létrehozott találmányok tulajdonjoga?\nHogyan lehet az MI-vel kapcsolatos innovációkat értékesíteni vagy felhasználási engedélyt adni?\n\nIdőtartam: 60 perc (előadás) + 15 perc (kérdések és válaszok) \nHázigazda:European IP Helpdesk \nElőadó: Dr. Robert Harrison \nA webináriumon való részvétel díjmentes\, de előzetes regisztrációhoz kötött. \nREGISZTRÁCIÓ \nBármilyen technikai segítségnyújtás vagy kérdés esetén kérjük\, forduljon a képzési csapathoz a következő címen: training@iprhelpdesk.eu \n&nbsp; \nIparjogvédelmi\, és szellemitulajdon-védelmi kérdések esetén keresse a PBKIK szellemitulajdon-védelmi munkatársát: \nhttps://pbkik.hu/szolgaltatasok/szellemitulajdon-vedelmi-szolgaltatasok/ \n&nbsp;
URL:https://pbkik.hu/esemeny/szellemi-tulajdon-es-mesterseges-intelligencia-webinarium-2/
LOCATION:Online
END:VEVENT
BEGIN:VEVENT
DTSTART;TZID=Europe/Helsinki:20220310T100000
DTEND;TZID=Europe/Helsinki:20220310T113000
DTSTAMP:20260420T064305
CREATED:20220301T141941Z
LAST-MODIFIED:20221122T101828Z
UID:10002627-1646906400-1646911800@pbkik.hu
SUMMARY:Nemzetközi pályázati lehetőségek innovatív KKV-k számára
DESCRIPTION:Az NKFI Hivatal innovatív KKV-k részére online tájékoztatót tart a nemzetközi pályázati lehetőségekről: EUREKA\, Eurostars\, Accelerator. \n \n  \nAz EUREKA és Eurostars pályázatban legalább egy külföldi partnerrel való együttműködés szükséges\, míg az Accelerator pályázat esetében a KKV-k önállóan pályázhatnak nemzetközi szinten piacképes termék fejlesztésére és piacra vitelére. Az Accelerator pályázatra készülők az üzleti terv megírásához hazai támogatást is kaphatnak. A nemzetközi pályázatokon való részvétel a KKV-kat célzó hazai pályázatok értékelése során is előnyt jelent. \nPROGRAM \n10:00 – 10:30 EUREKA és Eurostars program – Mészáros Gergely\, nemzeti kapcsolattartó \n10:30 – 11:00 Horizont Európa program és az EIC Accelerator felhívás – Divinyi Ágnes\, nemzeti kapcsolattartó \n11:00 – 11:15 Az EIT KIC-ek KKV-kat célzó szolgáltatásai – Jeney Nóra\, nemzeti kapcsolattartó \n11:15 – 11:30 kérdések és válaszok \nA regisztrált résztvevők részére a rendezvény előtt 1 nappal küldik el a rendezvény linkjét. \n  \nREGISZTRÁCIÓ \n  \nForrás: nkfih.gov.hu
URL:https://pbkik.hu/esemeny/nemzetkozi-palyazati-lehetosegek-innovativ-kkv-k-szamara/
LOCATION:Online
END:VEVENT
BEGIN:VEVENT
DTSTART;VALUE=DATE:20220315
DTEND;VALUE=DATE:20220316
DTSTAMP:20260420T064305
CREATED:20220208T162523Z
LAST-MODIFIED:20221122T101832Z
UID:10002146-1647302400-1647388799@pbkik.hu
SUMMARY:Smart Mobility TechMeeting - üzleti lehetőségek\, B2B francia nagyvállalatokkal
DESCRIPTION:A Choose Paris Region (a párizsi régió gazdaságfejlesztési ügynöksége) 2022-ben is várja a  magyar startupok\, vállalatok jelentkezését\, akik számára a program kiváló alkalmat ad az adott területen\, iparágban innovatív megoldásokat kereső francia nagyvállalatoknak történő bemutatkozásra előre egyeztetett\, célzott B2B-k keretében. \n \nA részvétel előtt a Choose Paris Region szakemberei – az eddigi gyakorlathoz hasonlóan – továbbra is szeretnék előszűrni a startupokat\, ezért előzetes regisztráció szükséges a nagy.eszter@pbkik.hu email címen 2022. február 18-ig\, a következő adatok megadásával: vállalkozás neve\, honlap\, rövid leírás\, további információ (alapítás dátuma\, alkalmazottak\, stb.)\, kapcsolattartó személy (név\, e-mail címmel). \n  \nA következő francia vállalatok már biztosan részt vesznek: \nEngie\, Valeo\, Stellantis\, Car Studio\, Airfrance\, Oracle \n  \nA Smart Mobility területén a következő megoldásokat keresik: \nVárosi mobilitás\, 5G\, új üzleti modellek\, flotta menedzsment\, forgalom menedzsment\, önvezető járművek\, autómegosztás\, fenntartható szállítás\, elektromos járművek\, zöld mobilitás\, stb. \n  \nA szervezők a Párizsi Nagykövetség által ajánlott cégek közül választják ki azokat\, amelyek megfelelnek a nagyvállalatok igényeinek\, és nekik küldik meg a regisztrációs linket\, ingyenes részvételre jogosító kóddal. \nFontos\, hogy az alábbi kritériumoknak megfeleljenek az ajánlott vállalkozások: \n– startup /scaleup \n– a nagyvállalatok felsorolt igényeinek megfelelő technológiai megoldással rendelkeznek (lásd melléklet: „vállalati igények-kulcsszavak 2022”) \n– már van hazai üzleti eredményük\, referenciájuk \n– nemzetközi szinten piacképes megoldást kínálnak (ideális esetben már kapott tőkebefektetést) \nAz online rendezvény menete: a kiválasztott és regisztrált startupok/KKV-k rövid bemutatkozóját a szervezők (Choose Paris Region ügynökség) megosztják a francia nagyvállalatokkal\, amelyek kiválasztják a számukra érdekes megoldásokat. Ezt követően a meghirdetett időpontban\, március 15-én a startupok/KKV-k megkapják ezen vállalatok elérhetőségeit\, akikkel közvetlenül felvehetik a kapcsolatot (tehát nem az adott időpontban\, hanem egyéni szervezésben valósulnak meg a találkozók). \nA programban részt vevő nagyvállalatok vállalják\, hogy készek tárgyalni a kiválasztott cégekkel\, illetve ők is megkapják ez utóbbiak elérhetőségeit. \nA részvétel díjmentes. \nJelentkezési határidő 2022. február 18. \n40 startup vehet részt\, beérkezési sorrendben fogadják el a jelentkezéseket\, a helyek gyorsan betelnek\, ezért érdemes mielőbb jelentkezni.
URL:https://pbkik.hu/esemeny/smart-mobility-techmeeting-uzleti-lehetosegek-b2b-francia-nagyvallalatokkal/
LOCATION:Online
END:VEVENT
BEGIN:VEVENT
DTSTART;TZID=Europe/Helsinki:20220315T170000
DTEND;TZID=Europe/Helsinki:20220315T190000
DTSTAMP:20260420T064305
CREATED:20220221T090157Z
LAST-MODIFIED:20221122T101823Z
UID:10002622-1647363600-1647370800@pbkik.hu
SUMMARY:Nagy növekedési potenciállal rendelkező technológiai vállalkozások fóruma: növekedés-finanszírozás
DESCRIPTION:Az online fórum résztvevői megismerhetik a befektetések vonzására és a vállalati érték növelésére vonatkozó stratégiákat a szellemi tulajdonjogok segítségével. A bemutatott élő esettanulmányt mind az alapítók\, mind a befektetők szemszögéből megvitatják. \n \nA legtöbb technológiai start-up és scale-up vállalkozásnak kockázati tőkére van szüksége a gyors növekedési igényeik finanszírozásához. Az alapítóknak és a befektetőknek arra kell összpontosítaniuk\, hogy értéket teremtsenek a vállalatban\, amelyet a kilépés\, azaz a vállalat eladása vagy tőzsdei bevezetés révén realizálnak.Ebben nyújt segítséget ez az online fórum. \nA részletes program itt letölthető. \nHelyszín: online \nA résztvevők maximális száma: 480 fő \nSzervező: Európai Szabadalmi Hivatal\, Licensing Executives Society International (LESI) \nMunkanyelv: angol (tolmácsolás nem biztosított) \nFormátum: online\, időtartam: 1 óra élő esettanulmány bemutatása + 1 óra találkozás az előadókkal. \nKövetelmények: A résztvevőknek ismerniük kell a szellemi tulajdonjogok\, különösen a szabadalmak alapjait. \nCélcsoportok: \nNagy növekedési potenciállal rendelkező technológiai vállalkozások\, valamint kis- és középvállalkozások\, különösen döntéshozóik\, szellemi tulajdonjogokkal foglalkozó szakemberek\, valamint innovációs ökoszisztémájuk\, beleértve a befektetőket\, kutatókat\, szellemi tulajdonjogokkal foglalkozó tanácsadókat és a piac elősegítőit. \nTovábbi időpontok: \nBC04-2022 Nagy növekedést ígérő technológiai üzleti fórum: build-to-sell 2022. március 24-én\, közép-európai idő szerint 17.00-19.00 órakor. \nBC03-2022 Nagy növekedési potenciállal rendelkező technológiai üzleti fórum: licencelés 2022. június 1-jén 17.00-19.00 órakor (közép-európai nyári időszámítás szerint). \nBC06-2022 Nagy növekedési potenciállal rendelkező technológiai üzleti fórum: nyílt innováció 2022. június 15-én\, 17.00-19.00 órakor (közép-európai nyári idő szerint). \n  \nAz online rendezvényen való részvételhez nagysebességű internetkapcsolattal rendelkező számítógépre vagy mobileszközre van szüksége. Ha számítógépet használ\, akkor a Zoom-ot a webböngészőjéből (Google Chrome\, Mozilla Firefox vagy Chromium (Microsoft) Edge) érheti el\, további szoftverek letöltése nélkül. Ahhoz azonban\, hogy a Zoom összes funkcióját kihasználhassa\, javasoljuk\, hogy telepítse a Zoom asztali kliensalkalmazást a számítógépére (Windows és Mac verziók is elérhetők). \nHa mobileszközön keresztül szeretne csatlakozni\, egyszerűen töltse le a Zoom mobilalkalmazást iOS vagy Android készülékére az App Store-ból vagy a Google Play Store-ból. \nAz üléshez való csatlakozással kapcsolatos információkat a rendezvényt megelőző napon küldjük el. \nA Zoom élmény fokozása érdekében javasoljuk\, hogy használjon headsetet. \nAz Európai Szabadalmi Hivatal adatvédelmi nyilatkozata a személyes adatok használatáról és feldolgozásáról a Zoom virtuális rendezvényeken\, köztük a VICO által tartott szóbeli tárgyalásokon itt olvasható: https://www.epo.org/about-us/office/data-protection-and-privacy/zoom.html \nA részvétel díjmentes\, de regisztrációhoz kötött. \nREGISZTRÁCIÓ \nA regisztrációt követően a „Patent events ” e-mailben küldi meg Önnek az ülésre mutató egyéni linket. Az e-mail tartalmaz egy „naptárhoz hozzáadás” linket is. \nEurópai Szabadalmi Hivatal \nEurópai Szabadalmi Akadémia\nBob-van-Benthem-Platz 1\n80469 München\nNémetország\npatentevents@epo.org \nIparjogvédelmi\, és szellemitulajdon-védelmi kérdések esetén keresse a PBKIK szellemitulajdon-védelmi munkatársát: \nhttps://pbkik.hu/szolgaltatasok/szellemitulajdon-vedelmi-szolgaltatasok/ \n 
URL:https://pbkik.hu/esemeny/nagy-novekedesi-potenciallal-rendelkezo-technologiai-vallalkozasok-foruma-novekedes-finanszirozas/
LOCATION:Online
END:VEVENT
BEGIN:VEVENT
DTSTART;VALUE=DATE:20220321
DTEND;VALUE=DATE:20220323
DTSTAMP:20260420T064305
CREATED:20220302T091945Z
LAST-MODIFIED:20250207T125227Z
UID:10002628-1647820800-1647993599@pbkik.hu
SUMMARY:Digital Coach –digitális átállás. Segíthetünk?
DESCRIPTION:Ha érdekli egy kipróbált német módszertan\, ha érdekli a BME által kidolgozott módszertan\, ha saját vállalkozása digitális átállás előtt áll\, vagy már esetleg folyamatban van\, ha el tudja képzelni\, hogy külső szakértőként segítené a vállalkozások digitális átállását\, akkor ez a képzés Önnek szól! A kétnapos tréning egyik napját a BME Ipar4.0 Technológiai Központjában töltjük\, a másik napot Pécsett. \n \n \nA digitális transzformáció már a mindennapjaink része. Ha a magánéletünkben már rendszeresen\, lassan rutinosan használjuk\, miért ne aknáznánk ki a benne rejlő lehetőségeket vállalkozásunk esetében is? \nAz Erasmus+ Program keretében\, a Digital Coach projekt olyan megoldásokat dolgoz ki\, amelyek segítik a vállalkozásokat és szervezeteket a digitalizációhoz szükséges készségek és stratégiák fejlesztésében. A cél egy „Digitális edző” (digital coach) feladatprofiljának létrehozása\, aki lehet a vállalkozás saját munkatársa\, vagy külső szakértő. Ennek elérésére képzési program is készül a digitális edzők számára. A jövőben a digitális edző támogathatja a vállalkozásokat a digitális üzleti modellek kidolgozásában és megvalósításában. \nFebruár elején a kamara két munkatársa részt vett a projekt belső képzésén\, ahol az első tapasztalatok mellett már az action plan elkészítése is téma volt. A projektben szintén részt vevő BME Ipar4.0 Technológiai Központ munkatársai pedig saját módszertanukat is bemutatták. \nPROGRAM:\nEgyeztetés\, feltöltés alatt \n2022. március 21. – BME Ipar4.0 Technológiai Központ*\n9:00 – 9:30 Regisztráció\n9:30 – 10:00 Köszöntő\, a napirend és a célok bemutatása\n10:00 – 11.30\nBemutatkozás: A „Digital Coach” feladatai és kompetenciaprofilja\nA digitalizáció útja (előadás)\nA „Digital Coach” szerepe\, felelősségi köre és kompetenciaprofilja (workshop)\n11:30 Szünet\n11:45 – 12:45 Az ipar 4.0 és a digitális átalakulás kihívásai a vállalatok számára (előadás)\nKi az ügyfél? User persona készítése (workshop)\n12.45 – 13.30 Ebédszünet\n13:30 -14:15 ADAPTION: Eljárási modell és a modell előnyei (kritériumok és függőségek\, valamint intézkedések meghatározása)\n14:15-14:30 Szünet\n14:30 – 15:45 A RUB Termelési Tanszék „Learning Factory” részlegének bemutatása; A learning factory mint innovatív tanulási tér szerepe a digitalizáció területén\n15:45 Záró gondolatok \n  \n*Megfelelő számú résztvevő esetén közös felutazást biztosítunk. \n2022. március 22. Pécs\, PBKIK székház\n9:30 – 9:45 Regisztráció\n9:45 – 10:00 Köszöntő\, A napirend ismertetése\n10:00 – 11:15 ADAPTION: A vállalatok jelenlegi helyzetét elemző workshop\n11:15-11:30 Szünet\n11:30-12:00 Intézkedések meghatározása (workshop)\n12:00 – 13:00 ADAPTION modell: A gyakorlati alkalmazás egyes lépései\n13:00 – 14:00 Ebédszünet\n14:00 – 15:00 Workshop: Cselekvési terv kidolgozása az ADAPTION alkalmazásához\n15:00 – 15:45 Workshop: Az ADAPTION végrehajtásának kihívásai és lehetőségei\n15:45 Záró gondolatok \n  \n(A programváltozás jogát a szervezők fenntartják.) \n  \nA tréningen való részvétel díjmentes\, de regisztrációhoz kötött. \n  \nA képzés része lesz a bochumi egyetem ADAPTION nevű értékelő módszertana. Ez egy 9 lépésből álló módszertan\, melynek során felmérik a vállalkozás jelenlegi helyzetét\, majd közösen kitűzik az elérendő célokat. A módszertan megmutatja az erősségeket és a további fejlesztési igényeket a vállalatok digitális kompetenciáinak tekintetében. Sajátossága\, hogy 3 dimenzióra fókuszál\, a technológia mellett a szervezet és a személyek dimenzióját is vizsgálja\, kezeli az összefüggéseket a három dimenzió között. \nA projekt keretében készülnek még önálló tanulási modulok\, amelyek tovább segítik a jövőbeni digitális coach-ok munkáját\, a következő témákban: \n\nMinőségirányítás mint a vállalatok digitalizálásának alapja\nVállalati stratégia a digitális átalakuláshoz és az agilis projektmenedzsmenthez\nA tanulás átadás és a tanulás helyszínén történő együttműködés lehetőségei és korlátai\nA digitalizáció kiindulópontja: hozzáadott értéket előállító folyamatok\nStratégiák a digitális megoldások vállalati elfogadásának biztosításához\nA digitális megoldások megvalósításában való részvétel korlátai és lehetőségei\nÚj üzleti modellek kidolgozása a digitalizációval és vállalati együttműködéssel a hátterében\n\n  \nA tréningre a jelentkezés lezárult. Kérjük\, vegye fel a kapcsolatot a szervezőkkel.
URL:https://pbkik.hu/esemeny/digital-coach-digitalis-atallas-segithetunk/
LOCATION:Pécsi Kereskedelmi Központ
GEO:46.081487;18.2347915
END:VEVENT
BEGIN:VEVENT
DTSTART;TZID=Europe/Helsinki:20220322T100000
DTEND;TZID=Europe/Helsinki:20220322T113000
DTSTAMP:20260420T064305
CREATED:20220318T142946Z
LAST-MODIFIED:20221122T101818Z
UID:10002634-1647943200-1647948600@pbkik.hu
SUMMARY:NCPercek - Konzorciumok összetétele és harmadik felek
DESCRIPTION:A Nemzeti Kutatási\, Fejlesztési és Innovációs Hivatal az Express Innovation Agency közreműködésével webinárium sorozatot szervez a Horizont Európa keretprogram pályázási és projektmenedzsment szabályairól.\n\n\n\n \n\n\n\nA webinárium sorozat célja\, hogy a részvételi és elszámolási szabályokat jól elkülöníthető egységekre bontva\, modulonként fejtsék ki a Horizont Európa jogi és pénzügyi szakértői. \nAz előadás sorozat második alkalma többek között az alábbi kérdésekre ad választ: \n\nKi pályázhat? Ki kaphat támogatást? Milyen részvételi feltételek kötődnek a leggyakoribb projekttípusokhoz?\nMilyen szerepkörökben lehet részt venni a projektek megvalósításában? Kinek mi a feladata\, milyen kötelezettségek kapcsolódnak egy-egy szerepkörhöz?\nHol és hogyan kell feltüntetni a konzorciumi partnereket és a harmadik feleket a pályázatban?\n\nAz online webinárium sorozat második előadásának időpontja: 2022. március 22. 10:00-11:30 \nHelyszíne: online \nAz eseményt YouTube felületen közvetítjük. A felmerülő kérdések megválaszolásához a Slido alkalmazást használjuk. \nA rendezvényen való részvétel ingyenes\, de regisztrációhoz kötött. \nA regisztrált résztvevők e-mailben kapják meg azt a közvetlen linket\, amely tartalmazza a YouTube közvetítést és a Slido alkalmazást. \n\nTovábbi információ és regisztráció
URL:https://pbkik.hu/esemeny/ncpercek-konzorciumok-osszetetele-es-harmadik-felek/
LOCATION:Online
END:VEVENT
BEGIN:VEVENT
DTSTART;TZID=Europe/Helsinki:20220324T170000
DTEND;TZID=Europe/Helsinki:20220324T190000
DTSTAMP:20260420T064305
CREATED:20220221T213024Z
LAST-MODIFIED:20221122T101812Z
UID:10002624-1648141200-1648148400@pbkik.hu
SUMMARY:Nagy növekedési potenciállal rendelkező technológiai vállalkozások fóruma: build-to-sell
DESCRIPTION:A „Build-to-sell” fórum olyan vállalatok élő esettanulmányait vizsgálja\, amelyek sikeresen építettek olyan vállalatot\, amelyet aztán eladtak. A fórum három szellemi eszközre – a technológiára\, a márkára és a működési kiválóságra – összpontosít\, mivel az ilyen tranzakciókban általában ezek jelentik a legfontosabb értéknövelő tényezőt. \n  \nA „Build-to-sell” fórum kifejezetten olyan üzleti döntéshozóknak szól\, akik vagy el akarják adni vállalkozásukat\, vagy akiknek a befektetőik azt kívánják\, hogy végül eladják vállalkozásukat. Egy vállalat felépítése a végső érték megszerzése érdekében a kilépés révén hosszú távú szemléletet igényel\, világos célt szem előtt tartva. \nA részletes program itt letölthető. \nHelyszín: online \nA résztvevők maximális száma: 480 fő \nSzervező: Európai Szabadalmi Hivatal\, Licensing Executives Society International (LESI) \nMunkanyelv: angol (tolmácsolás nem biztosított) \nFormátum: online\, hossza: 1 óra élő esettanulmányok bemutatása + 1 óra találkozás az előadókkal. \nA résztvevők megtanulják az eladandó vállalat sikeres felépítésének alapjait. \nKövetelmények:\nA résztvevőknek ismerniük kell a szellemi tulajdonjogok\, különösen a szabadalmak alapjait. \nCélcsoportok: \nNagy növekedési potenciállal rendelkező technológiai vállalkozások\, valamint kis- és középvállalkozások\, különösen döntéshozóik\, szellemi tulajdonjogokkal foglalkozó szakemberek\, valamint az innovációs ökoszisztémájuk\, beleértve a befektetőket\, kutatókat\, szellemi tulajdonjogokkal foglalkozó tanácsadókat és a piac elősegítőit. \nTovábbi időpontok: \nBC05-2022 Nagy növekedési potenciállal rendelkező technológiai vállalkozások fóruma: növekedés-finanszírozás 2022. március 15-én\, közép-európai idő szerint 17.00-19.00 órakor. \nBC03-2022 Nagy növekedési potenciállal rendelkező technológiai vállalkozások fóruma: engedélyezés 2022. június 1-jén 17.00-19.00 órakor MÁV (közép-európai nyári idő szerint). \nBC06-2022 Nagy növekedési potenciállal rendelkező technológiai üzleti fórum: nyílt innováció 2022. június 15-én 17.00-19.00 órakor (közép-európai nyári időszámítás szerint). \nAz online rendezvényen való részvételhez nagysebességű internetkapcsolattal rendelkező számítógépre vagy mobileszközre van szüksége. Ha számítógépet használ\, akkor a Zoom-ot a webböngészőjéből (Google Chrome\, Mozilla Firefox vagy Chromium (Microsoft) Edge) érheti el\, további szoftverek letöltése nélkül. Ahhoz azonban\, hogy a Zoom összes funkcióját kihasználhassa\, javasoljuk\, hogy telepítse a Zoom asztali kliensalkalmazást a számítógépére (Windows és Mac verziók is elérhetők). \nHa mobileszközön keresztül szeretne csatlakozni\, egyszerűen töltse le a Zoom mobilalkalmazást iOS vagy Android készülékére az App Store-ból vagy a Google Play Store-ból. \nAz üléshez való csatlakozással kapcsolatos információkat a rendezvényt megelőző napon küldjük el. \nA Zoom élmény fokozása érdekében javasoljuk\, hogy használjon headsetet. \nAz Európai Szabadalmi Hivatal adatvédelmi nyilatkozata a személyes adatok használatáról és feldolgozásáról a Zoom virtuális rendezvényeken\, köztük a VICO által tartott szóbeli tárgyalásokon itt olvasható: https://www.epo.org/about-us/office/data-protection-and-privacy/zoom.html \nA részvétel díjmentes\, de regisztrációhoz kötött. \nREGISZTRÁCIÓ \nA regisztrációt követően a „Patent events ” e-mailben küldi meg Önnek az ülésre mutató egyéni linket. Az e-mail tartalmaz egy „naptárhoz hozzáadás” linket is. \nEurópai Szabadalmi Hivatal \nEurópai Szabadalmi Akadémia\nBob-van-Benthem-Platz 1\n80469 München\nNémetország\npatentevents@epo.org \n  \nIparjogvédelmi\, és szellemitulajdon-védelmi kérdések esetén keresse a PBKIK szellemitulajdon-védelmi munkatársát: \nhttps://pbkik.hu/szolgaltatasok/szellemitulajdon-vedelmi-szolgaltatasok/ \n 
URL:https://pbkik.hu/esemeny/nagy-novekedesi-potenciallal-rendelkezo-technologiai-vallalkozasok-foruma-build-to-sell/
LOCATION:Online
END:VEVENT
END:VCALENDAR