BEGIN:VCALENDAR
VERSION:2.0
PRODID:-//Pécs-Baranyai Kereskedelmi és Iparkamara - ECPv6.15.20//NONSGML v1.0//EN
CALSCALE:GREGORIAN
METHOD:PUBLISH
X-WR-CALNAME:Pécs-Baranyai Kereskedelmi és Iparkamara
X-ORIGINAL-URL:https://pbkik.hu
X-WR-CALDESC:Események Pécs-Baranyai Kereskedelmi és Iparkamara
REFRESH-INTERVAL;VALUE=DURATION:PT1H
X-Robots-Tag:noindex
X-PUBLISHED-TTL:PT1H
BEGIN:VTIMEZONE
TZID:Europe/Helsinki
BEGIN:DAYLIGHT
TZOFFSETFROM:+0200
TZOFFSETTO:+0300
TZNAME:EEST
DTSTART:20200329T010000
END:DAYLIGHT
BEGIN:STANDARD
TZOFFSETFROM:+0300
TZOFFSETTO:+0200
TZNAME:EET
DTSTART:20201025T010000
END:STANDARD
BEGIN:DAYLIGHT
TZOFFSETFROM:+0200
TZOFFSETTO:+0300
TZNAME:EEST
DTSTART:20210328T010000
END:DAYLIGHT
BEGIN:STANDARD
TZOFFSETFROM:+0300
TZOFFSETTO:+0200
TZNAME:EET
DTSTART:20211031T010000
END:STANDARD
BEGIN:DAYLIGHT
TZOFFSETFROM:+0200
TZOFFSETTO:+0300
TZNAME:EEST
DTSTART:20220327T010000
END:DAYLIGHT
BEGIN:STANDARD
TZOFFSETFROM:+0300
TZOFFSETTO:+0200
TZNAME:EET
DTSTART:20221030T010000
END:STANDARD
END:VTIMEZONE
BEGIN:VEVENT
DTSTART;TZID=Europe/Helsinki:20210302T083000
DTEND;TZID=Europe/Helsinki:20210302T170000
DTSTAMP:20260420T092949
CREATED:20210202T124515Z
LAST-MODIFIED:20210202T125343Z
UID:10001869-1614673800-1614704400@pbkik.hu
SUMMARY:Osztrák-Magyar Online Beszállítói Börze és B2B találkozó
DESCRIPTION:Az online beszállítói rendezvényre a HEPA Magyar Exportfejlesztési Ügynökség Nonprofit Zrt.\, Magyarország Bécsi Nagykövetsége\, a Fejér Megyei Kereskedelmi és Iparkamara\, a Győr-Moson-Sopron Megyei Kereskedelmi és Iparkamara\, osztrák oldalról pedig az Advantage Austria Budapest és az Osztrák Gazdasági Kamara társszervezésében kerül sor. \n \nAz osztrák-magyar üzleti kapcsolatokban az elmúlt évtizedek során kiemelt jelentőségűvé váltak a beszállítói együttműködések\, melyek keretében komoly szakértelemmel rendelkező hazai vállalkozások vesznek részt az osztrák partnerek gyártási folyamataiban.  A rendezvény lehetőséget nyújt a szabad gyártókapacitással rendelkező hazai cégeknek\, hogy olyan osztrák iparvállalatokat ismerjenek meg előre egyeztetett kétoldalú B2B tárgyalások keretében\, amelyek magyarországi beszállítók iránt érdeklődnek a következő szakterületeken: \n\nfémipar\, fémfeldolgozás\, fémmegmunkálás;\ngépgyártás;\nelektromos készülékek\, villamos berendezések gyártása;\ngépkocsi és jármű részegységeinek gyártása;\nélelmiszer és takarmány/állateledel gyártása;\nital és élvezeti cikkek gyártása;\ntextil-\, ruházati- és bőripari gyártás\n\nA részvétel térítésmentes\, de előzetes regisztrációhoz kötött.\n\nKérjük regisztráljon a rendezvény online platformján és foglaljon tárgyalásokat a résztvevő osztrák  cégekkel! \nREGISZTRÁCIÓ\nTovábbi információ: \nKardos Levente\, szakértő\, HEPA Magyar Exportfejlesztési Ügynökség Nonprofit Zrt. \nEmail: kardos.levente@hepa.hu
URL:https://pbkik.hu/esemeny/osztrak-magyar-online-beszallitoi-borze-es-b2b-talalkozo/
LOCATION:Online
END:VEVENT
BEGIN:VEVENT
DTSTART;VALUE=DATE:20210311
DTEND;VALUE=DATE:20210317
DTSTAMP:20260420T092949
CREATED:20210203T143257Z
LAST-MODIFIED:20210204T203553Z
UID:10002227-1615420800-1615939199@pbkik.hu
SUMMARY:Japán élelmiszeripari üzletember találkozó
DESCRIPTION:Az Enterprise Europe Network szervezésében megvalósuló beszállítói fórumon várnak minden hazai importőrt\, forgalmazót\, nagykereskedőt\, akik a japán élelmiszerek értékesítésében érdekeltek. \n \nA rendezvény lehetőséget kínál a japán élelmiszeripari gyártókkal és európai nagykereskedőkkel való kapcsolatfelvételre. A résztvevőknek a regisztráció során lehetősége van egy – ingyenes – profil létrehozására a rendezvény honlapján\, ahol megtekinthetik a többi résztvevő adatlapját is\, ami alapján számukra érdekesnek és ígéretesnek tűnő feleknél időpontot kérhetnek az üzleti találkozóhoz. \nAz üzletember találkozón a részvétel ingyenes\, de előzetes regisztrációhoz kötött: \nREGISZTRÁCIÓ\nAz üzleti tárgyalások időpontjai: \n2021. 03. 11. 16:00-19:00 \n2021. 03. 12. 16:00-19:00 \n2021. 03. 15. 16:00-19:00 \n2021. 03. 16. 16:00-19:00 \n 
URL:https://pbkik.hu/esemeny/japan-elelmiszeripari-uzletember-talalkozo/
LOCATION:Pécsi Kereskedelmi Központ
ATTACH;FMTTYPE=image/jpeg:https://pbkik.hu/wp-content/uploads/2021/02/japanese2021.jpg
GEO:46.081487;18.2347915
END:VEVENT
BEGIN:VEVENT
DTSTART;TZID=Europe/Helsinki:20210324T130000
DTEND;TZID=Europe/Helsinki:20210324T140000
DTSTAMP:20260420T092949
CREATED:20210316T111621Z
LAST-MODIFIED:20210317T130338Z
UID:10002273-1616590800-1616594400@pbkik.hu
SUMMARY:Tárgyaljunk! - Praktikus tanácsok üzleti partnerkeresésre nemzetközi színtéren
DESCRIPTION:Az ITT&MOST következő online programjának keretében hasznos tanácsokat kaphat\, hogyan érdemes kiaknázni az oldal lehetőségeit piackutatásra (hazai és külföldi egyaránt)\, a versenytársak megismerésére\, valamint hogyan maximalizálja online tárgyalásait. \n \nÉljen a hazai és határon átnyúló üzleti lehetőségekkel!  Mutassa be termékkínálatát\, szolgáltatásait\, vagy találjon partnereket projektötletének megvalósításához! Az online kétoldalú üzletember találkozók hatékony\, díj- és kockázatmentes módot biztosítanak üzleti partnerekkel történő kapcsolatfelvételre és tárgyalásra. \n  \nMire kaphat választ? \n\nMire használható az ITT&MOST felülete? Hogyan hozza ki ebből a maximumot?\nMilyen további nemzetközi üzleti lehetőségeket kínál az Enterprise Europe Network díjmentesen? https://pbkik.hu/enterprise-eu…\nHogy használjuk a partnerkeresési nemzetközi adatbázist\, melyet 60 országban működtetnek kollégáink? (saját üzleti ajánlat\, piackutatás\, direkt partnerkeresés) https://pbkik.hu/tallozas-a-pr…\nHogyan találhatok külföldi üzleti partnert?\n\n  \nELŐADÓ: \nSchmidt Enikő\, projektiroda vezető\, Nemzetközi és Idegenforgalmi Projektiroda\, Pécs-Baranyai Kereskedelmi és Iparkamara \n  \nA részvétel díjmentes\, de előzetes regisztrációhoz kötött: \nThis form is currently closed for submissions.
URL:https://pbkik.hu/esemeny/targyaljunk-praktikus-tanacsok-uzleti-partnerkeresesre-nemzetkozi-szinteren/
LOCATION:Online
ATTACH;FMTTYPE=image/jpeg:https://pbkik.hu/wp-content/uploads/2020/10/01_itt__most_logo_3.jpg
END:VEVENT
BEGIN:VEVENT
DTSTART;TZID=Europe/Helsinki:20210330T100000
DTEND;TZID=Europe/Helsinki:20210330T123000
DTSTAMP:20260420T092949
CREATED:20210311T081955Z
LAST-MODIFIED:20221122T095151Z
UID:10002266-1617098400-1617107400@pbkik.hu
SUMMARY:BIREG és EKÁER kötelezettség a gyakorlatban
DESCRIPTION:A Menedzser Praxis Kft. szervezésében online szakmai nap kerül megrendezésre\, melynek keretében a BIREG és az EKÁER legfontosabb kötelezettségeit\, új szabályait és az ellenőrzés körülményeit ismehetik meg a résztvevők gyakorlati szemszögből. \n \nA BIREG vagyis az Előzetes Elektronikus Engedélyregisztrációs Rendszer vagyis az Előzetes Elektronikus Engedélyregisztrációs Rendszer egy a hatóság által üzemeltetett új elektronikus rendszer\, amely felületre a közúti fuvarozásban használt engedélyeket és a szállítások adatait kell adott fuvarfeladathoz kapcsolódóan valós időben bejelenteni. A regisztrációs és adatbejelentési kötelezettség nemcsak a magyar fuvarozókra vonatkozik\, fontos\, hogy a BIREG üzembentartói regisztrációja minden fuvarozót érint\, ideértve a közösségi engedéllyel tevékenykedő európai uniós vállalkozókat is. \n2021. február 1-jétől a BIREG használatának elmulasztása az engedély nélkül végzett fuvarozással esik azonos elbírálás alá\, így azzal megegyező szankciót von maga után. \nAz EKÁER vagyis az Elektronikus Közúti Áruforgalom-ellenőrző Rendszer szabályai is változtak\, 2021-től kizárólag a kockázatos termékekre vonatkozik az EKÁER alkalmazási köre. Változott a kockázati biztosíték összege valamint a kockázati biztosítékot nyújtók köre is. \nKérdések\, melyekre választ kaphat: \n\n\n\n\n\n\n\nMely fuvarok tartoznak végül a bejelentésköteles kategóriába?\nKinek a feladata a cégregisztráció?\nMilyen mértékű bírságra számíthat az\, aki nem tartja be a szabályokat?\nKinek kell kockázati biztosítékot nyújtania?\nMilyen ellenőrzési metódusra számíthatnak a fuvarozók?\nCsak a magyar fuvarozókra vonatkozik a bejelentési kötelezettség?\nMilyen feladatai vannak a címzettnek és a feladónak?\nMelyek az EKÁER 2021-es szabályai?\nMennyi a kockázati biztosíték összege?\n\n\n\n\n\n\n\n\n\n\n\n\nREGISZTRÁCIÓ\n 
URL:https://pbkik.hu/esemeny/bireg-es-ekaer-kotelezettseg-a-gyakorlatban/
LOCATION:Online
END:VEVENT
END:VCALENDAR