BEGIN:VCALENDAR
VERSION:2.0
PRODID:-//Pécs-Baranyai Kereskedelmi és Iparkamara - ECPv6.15.20//NONSGML v1.0//EN
CALSCALE:GREGORIAN
METHOD:PUBLISH
X-WR-CALNAME:Pécs-Baranyai Kereskedelmi és Iparkamara
X-ORIGINAL-URL:https://pbkik.hu
X-WR-CALDESC:Események Pécs-Baranyai Kereskedelmi és Iparkamara
REFRESH-INTERVAL;VALUE=DURATION:PT1H
X-Robots-Tag:noindex
X-PUBLISHED-TTL:PT1H
BEGIN:VTIMEZONE
TZID:Europe/Helsinki
BEGIN:DAYLIGHT
TZOFFSETFROM:+0200
TZOFFSETTO:+0300
TZNAME:EEST
DTSTART:20200329T010000
END:DAYLIGHT
BEGIN:STANDARD
TZOFFSETFROM:+0300
TZOFFSETTO:+0200
TZNAME:EET
DTSTART:20201025T010000
END:STANDARD
BEGIN:DAYLIGHT
TZOFFSETFROM:+0200
TZOFFSETTO:+0300
TZNAME:EEST
DTSTART:20210328T010000
END:DAYLIGHT
BEGIN:STANDARD
TZOFFSETFROM:+0300
TZOFFSETTO:+0200
TZNAME:EET
DTSTART:20211031T010000
END:STANDARD
BEGIN:DAYLIGHT
TZOFFSETFROM:+0200
TZOFFSETTO:+0300
TZNAME:EEST
DTSTART:20220327T010000
END:DAYLIGHT
BEGIN:STANDARD
TZOFFSETFROM:+0300
TZOFFSETTO:+0200
TZNAME:EET
DTSTART:20221030T010000
END:STANDARD
END:VTIMEZONE
BEGIN:VEVENT
DTSTART;TZID=Europe/Helsinki:20210504T100000
DTEND;TZID=Europe/Helsinki:20210504T190000
DTSTAMP:20260420T065352
CREATED:20210422T070308Z
LAST-MODIFIED:20210422T072435Z
UID:10001921-1620122400-1620154800@pbkik.hu
SUMMARY:Horvát beszállítói fórum az ITT&MOST keretében
DESCRIPTION:‘Gazdaságfejlesztés és a benne rejlő beszállítói lehetőségek’ címmel B2B-vel egybekötött fórumra kerül sor a CED Közép-európai Gazdaságfejlesztési Hálózat Nonprofit Kft.\, az Enterprise Europe Network és a Pécs-Baranyai Kereskedelmi és Iparkamara szervezésében. \n \nA  fórumon résztvevő cégek  megismerhetik a helyi – horvátországi – turisztikai beszállítói igényeket\, a GFP aktuális pályázati kiírásaiban rejlő exportlehetőségeket. \nAz előadásokat követő B2B-re olyan exportképes magyarországi cégek jelentkezését várjuk\,  akik  turisztikai kapacitásbővítést\, illetve szabadidőprogram-fejlesztést tudnak  kiszolgálni.  Többek között szabadidős- és sporteszközök\, cukrászipari gépek\, bútorok\, mobilházak\, mezőgépek  és más ipari gépek  gyártóit és forgalmazóit várjuk\, illetve lakberendezéssel\, fényfestéssel foglalkozó cégek részvételére számítunk. \nA beszállítói fórum tárgyalásai az ITT&MOST online platformon keresztül fognak zajlani\, ahol jelenleg több\, mint 600 cég 720 üzleti ajánlata között van lehetőségük megtalálni a legmegfelelőbb üzleti partnereket! \nProgramterv: \n10:00-10:10 Köszöntők\, felvezető előadások \n          Palizs-Tóth Hajnalka – CED Közép-európai NKft.\, Eszék \n10:10-11:00  Szakmai előadások – moderátor: Palizs-Tóth Hajnalka \n\n\n\n\n\n\n\n\n\nForjan Renata – A Bellyei járás idegenforgalmi közösségének igazgatója\n\n\n\n\n\n\n\n\n\nMegváltozott fogyasztói igények = új lehetőségek a kontinentális turizmusban \n\n\n\n\n\n\n\n\n\nMajic Kristijan – Kulturni centar Osijek (Eszéki kultúrközpont)\, igazgató\n\n\n\n\n\n\n\n\n\n          Eszék város kulturális élete a megváltozott körülmények hatására \n\n\n\n\n\n\n\n\n\nFór-Tiffán Teodóra – Economica-Hungarica Alapítvány\, projekt Manager\n\n\n\n\n\n\n\n\n\nGFP\, mint exportfejlesztési lehetőség magyarországi beszállítóknak \n          Kérdések-válaszok az egyes előadások után. \n11:00-19:00 Online kétoldalú üzleti tárgyalások \nA rendezvényen történő részvétel díjmentes\, de előzetes regisztrációhoz kötött: \nREGISZTRÁCIÓ
URL:https://pbkik.hu/esemeny/horvat-beszallitoi-forum-az-ittmost-kereteben/
LOCATION:Online
ATTACH;FMTTYPE=image/jpeg:https://pbkik.hu/wp-content/uploads/2020/08/itt_es_most_banner_3-scaled.jpg
END:VEVENT
BEGIN:VEVENT
DTSTART;VALUE=DATE:20210513
DTEND;VALUE=DATE:20210515
DTSTAMP:20260420T065352
CREATED:20210317T203447Z
LAST-MODIFIED:20210415T075402Z
UID:10002285-1620864000-1621036799@pbkik.hu
SUMMARY:Fejlett gyártástechnológiák - @Smart Manufacturing Matchmaking 2021
DESCRIPTION:Az intelligens gyártás és ipar 4.0 területén működő vállalkozásokat\, szakembereket\, egyetemeket és kutatóintézeteket ismét virtuális üzletember találkozókkal\, üzemlátogatásokkal és webináriumokkal várják a Smart Manufacturing Matchmaking 2021 keretében. \n \nA rendezvénysorozat keretében megrendezésr kerülő online üzletemebr találkozó kiváló lehetőséget teremt az intelligens gyártás és ipar 4.0 területén működő vállalati vezetőkkel\, kutatókkal és állami testületekkel való kapcsoaltfelvételre\, tárgyalásra. \nKiemelt témák: \n\nFejlett gyártási megoldások: automatikus anyagmozgató rendszerek\, kollaboratív robot/ cobot\nAdalékanyagok gyártása\nMezőgazdaság 4.0\nAI és gépi tanulás ipari felhsználása\nAR\, VR\, XR\, MR\nKiberfizikai rendszerek\nSzimuláció\nAutonóm robotok\nAdditív gyártástechnológia\nKiberbiztonság és felhőmegoldások\nEmber-gép interfészek…\n\nA részvétel díjmentes\, de előzetes regisztrációhoz kötött: \nREGISZTRÁCIÓ
URL:https://pbkik.hu/esemeny/fejlett-gyartastechnologiak-smart-manufacturing-matchmaking-2021/
LOCATION:Online
ATTACH;FMTTYPE=image/png:https://pbkik.hu/wp-content/uploads/2021/03/SMM2021.png
END:VEVENT
BEGIN:VEVENT
DTSTART;TZID=Europe/Helsinki:20210520T130000
DTEND;TZID=Europe/Helsinki:20210520T150000
DTSTAMP:20260420T065352
CREATED:20210512T112828Z
LAST-MODIFIED:20210512T114117Z
UID:10002339-1621515600-1621522800@pbkik.hu
SUMMARY:Legyen jelen Ön is Lengyelország legjelentősebb e-kereskedelmi platformján – bemutatkozik az Allegro.pl
DESCRIPTION:A CED Közép-európai Gazdaságfejlesztési Hálózat Nonprofit Kft. krakkói irodája szervezésében zajló rendezvényen a résztvevők megismerhetik a lengyel e-kereskedelem legújabb trendjeit és az Allegro platform nyújtotta piacra lépési  lehetőségeket. \n \nAz e-kereskedelmi piac intenzív fejlődésével a vállalati értékesítés egyik legmeghatározóbb területévé vált az online értékesítés. \nMiért érdemes a webináriumon részt venni? \n\n\n\n\n\nmegismerheti az Allegro kiemelt ajánlatát a magyar vállalatok számára;\nbemutatásra kerül platformon való megjelenés előnyei;\nismertetjük a lengyel piac e-kereskedelmi trendjeit;\nbemutatjuk az e-kereskedelem promóciós eszközeit.\n\n\n\n\n\nProgramterv\n13:00-13:15   Az e-kereskedelem Lengyelországban – trendek\, perspektívák. \nA CED Közép-európai Gazdaságfejlesztési Hálózat Nonprofit Kft. bemutatkozása. Dr. Wisniewski Anna – irodavezető\, CED Közép-európai Gazdaságfejlesztési Hálózat Nonprofit Kft.\, Krakkó \n13:15–13:45 Allegro.pl platform előnyei\, a „magyar sarok”-ra vonatkozó ajánlat bemutatása\, Katarzyna Rosa – Education and Merchant Development Partner\, Allegro.pl\, Poland \n13:45-14:00 Az e-kereskedelem jogi kérdései\, Marcin Pacholski – HPL Legal \n14:00-14:10 A platform hirdetés marketing tudnivalói\,  Farkas Zoltán\, Education and Merchant Development Partner\, Allegro.pl\, Poland \n14:10-14:30 Kérdések – válaszok \nModerátor: Dr. Wisniewski Anna \nA részvétel előzetes regisztrációhoz kötött. Részvételi szándékát kérjük\, a zsebe.blanka@ced.hu e-mail címen\, legkésőbb 2021. május 18-ig jelezni szíveskedjen. Az eseményre regisztrált résztvevők számára a belépési linket a rendezvényt megelőző napon továbbítják a szervezők. \nA rendezvény nyelve angol.
URL:https://pbkik.hu/esemeny/lengyel-piac-allegro-pl/
LOCATION:Online
END:VEVENT
BEGIN:VEVENT
DTSTART;TZID=Europe/Helsinki:20210526T100000
DTEND;TZID=Europe/Helsinki:20210526T190000
DTSTAMP:20260420T065352
CREATED:20210512T100948Z
LAST-MODIFIED:20221122T101324Z
UID:10002338-1622023200-1622055600@pbkik.hu
SUMMARY:TURIZMUS SUMMIT 2021- RESTART
DESCRIPTION:A CED Közép-európai Gazdaságfejlesztési Hálózat Nonprofit Kft. szabadkai irodája szervezésében megvalósuló online B2B-val egybekötött online fórum fókuszában a vajdasági turisztikai kínálat és a kapcsolódó könnyűipari ágazatokban rejlő beszállítói lehetőségek állnak. \n \n Fotó: www.pixabay.com\nA rendezvény első részében bemutatásra kerülnek a vajdasági régió nyújtotta turisztikai\, befektetési és exportlehetőségek. Az előadásokat követő B2B-re várjuk a lehetséges magyar beszállítókat vajdasági éttermekbe\, szállodákba\, az utazásszervező irodákat\, továbbá a kerékpáros-\, öko-\, kaland-\, lovas-\, vízi turizmus és szabadidős tartalmak\, wellness kiépítésével foglalkozó vállalkozásokat. \nA beszállítói fórum tárgyalásai az ITT&MOST online platformon keresztül fognak zajlani\, ahol jelenleg közel 700 cég üzleti ajánlatai között van lehetőségük megtalálni az Önöknek legmegfelelőbb üzleti partnereket! \nProgramterv: \n10:00-10:10 Köszöntők\, felvezető előadások \nDobó István – CED Közép-európai Gazdaságfejlesztési Hálózat Nonprofit Kft.\, Szabadka \n10:10-11:00    Szakmai előadások – moderátor: Dobó István \nPelt Ilona – Vajdaság tartományi idegenforgalmi és gazdasági segédtitkár – Vajdasági turisztikai fejlesztési stratégia csapásvonalai \nSeres István – Kolo Szerb Kulturális Központ igazgató – Mórahalom\, a „Balkán Kapuja” \nErcsi Hargita – А városi tanács idegenforgalommal\, beruházásokkal és nemzetközi kapcsolatokkal megbízott tagja – Szabadka város épített és kulturális öröksége\, mint turisztikai kínálat \nBödő Marianna – Smart Marketing tulajdonos – Város marketing és kommunikációs platformok a turizmusban \nDankó Dénes – Kárpát –medencei Turisztikai Egyesület elnöke – Helyzet elemzés a turizmusban és várható trendek Szerbiában és a Kárpát Medencében 2021-re \nKérdések-válaszok az egyes előadások után. \n11:00-19:00 Online kétoldalú üzleti tárgyalások \n  \nA rendezvényen való részévtel díjmentes\, de előzetes regisztrációhoz kötött: \nThis form is currently closed for submissions.
URL:https://pbkik.hu/esemeny/turizmus-summit-2021-restart/
LOCATION:Online
END:VEVENT
END:VCALENDAR