BEGIN:VCALENDAR
VERSION:2.0
PRODID:-//Pécs-Baranyai Kereskedelmi és Iparkamara - ECPv6.15.20//NONSGML v1.0//EN
CALSCALE:GREGORIAN
METHOD:PUBLISH
X-WR-CALNAME:Pécs-Baranyai Kereskedelmi és Iparkamara
X-ORIGINAL-URL:https://pbkik.hu
X-WR-CALDESC:Események Pécs-Baranyai Kereskedelmi és Iparkamara
REFRESH-INTERVAL;VALUE=DURATION:PT1H
X-Robots-Tag:noindex
X-PUBLISHED-TTL:PT1H
BEGIN:VTIMEZONE
TZID:Europe/Helsinki
BEGIN:DAYLIGHT
TZOFFSETFROM:+0200
TZOFFSETTO:+0300
TZNAME:EEST
DTSTART:20210328T010000
END:DAYLIGHT
BEGIN:STANDARD
TZOFFSETFROM:+0300
TZOFFSETTO:+0200
TZNAME:EET
DTSTART:20211031T010000
END:STANDARD
BEGIN:DAYLIGHT
TZOFFSETFROM:+0200
TZOFFSETTO:+0300
TZNAME:EEST
DTSTART:20220327T010000
END:DAYLIGHT
BEGIN:STANDARD
TZOFFSETFROM:+0300
TZOFFSETTO:+0200
TZNAME:EET
DTSTART:20221030T010000
END:STANDARD
BEGIN:DAYLIGHT
TZOFFSETFROM:+0200
TZOFFSETTO:+0300
TZNAME:EEST
DTSTART:20230326T010000
END:DAYLIGHT
BEGIN:STANDARD
TZOFFSETFROM:+0300
TZOFFSETTO:+0200
TZNAME:EET
DTSTART:20231029T010000
END:STANDARD
BEGIN:DAYLIGHT
TZOFFSETFROM:+0200
TZOFFSETTO:+0300
TZNAME:EEST
DTSTART:20240331T010000
END:DAYLIGHT
BEGIN:STANDARD
TZOFFSETFROM:+0300
TZOFFSETTO:+0200
TZNAME:EET
DTSTART:20241027T010000
END:STANDARD
END:VTIMEZONE
BEGIN:VEVENT
DTSTART;VALUE=DATE:20220901
DTEND;VALUE=DATE:20221216
DTSTAMP:20260423T052946
CREATED:20220823T112341Z
LAST-MODIFIED:20221122T092539Z
UID:10002695-1661990400-1671148799@pbkik.hu
SUMMARY:MEDICA Healthcare Brokerage Event 2022
DESCRIPTION:Az egészségipar első számú nemzetközi találkozóhelye\, a MEDICA 2022 (november 14-17.) alkalmából\, az Enterprise Europe Network (EEN) nemzetközi üzletember találkozót szervez\, melynek immár 20 éves hagyománya van. \n \nIdén ismét lehetőség lesz személyes találkozók lebonyolítására is a MEDICA 2022 teljes időtartama alatt. Azok számára\, akik nem tudnak utazni vagy helyszíni találkozókat foglalni\, 2022. december 15-ig online tárgyalási lehetőség is biztosított. Emellett webináriumok\, előadások\, pitchek és egyéb tartalmak is várják a résztvevőket\, akárcsak 2021-ben. \n  \nOnline üzletember találkozó: 2022. szeptember 1. – december 15. \nSzemélyes üzletember találkozók a MEDICA vásár ideje alatt: 2022. november 14-17. Helyszín: Messe Düsseldorf\, Hall 6\, First Floor Gallery\, Stand A6.1 \nMiért érdemes részt venni: \n\nKezdeményezzen új üzleti kapcsolatokat.\nTalálkozzon innovatív technológiák szolgáltatóival egész Európából és Európán kívülről.\nLépjen kapcsolatba potenciális partnerekkel a jövőbeli együttműködés érdekében.\nTeremtsen határokon átnyúló\, hosszú távú üzleti kapcsolatokat.\nTaláljon új partnereket kutatási projektekhez.\n\nRegisztrációs díjak \n150 euró – vállalkozások\, szövetségek\, kutatóintézetek stb.\n75 euró – startupok (EEN\, 2020. január 1-jén\, vagy azt követően alapítva)\n0 euró – befektetők\, üzleti angyalok\n0 euró – külföldi termékek forgalmazásával foglalkozó vállalkozás vagy állami vásárló \nMinden résztvevő\, aki tájékoztatja a szervezőket a B2B-nek köszönhetően született együttműködésről és ezt megerősíti írásban\, visszakapja a regisztrációs díjat. \nA regisztrációs díj nem tartalmazza a MEDICA vásárra szóló belépőjegyet. \nA MEDICA belépőjegyre csak akkor van szüksége\, ha a vásár ideje alatt\, személyesen\, a helyszínen vesz részt üzletember találkozón: https://www.medica-tradefair.com/ \n  \nTovábbi információ és regisztráció: https://medica-healthcare-brokerage-event-2022.b2match.io/
URL:https://pbkik.hu/esemeny/medica-healthcare-brokerage-event-2022/
LOCATION:Online\, Düsseldorf\, Németország
END:VEVENT
BEGIN:VEVENT
DTSTART;VALUE=DATE:20220905
DTEND;VALUE=DATE:20231001
DTSTAMP:20260423T052946
CREATED:20220905T111102Z
LAST-MODIFIED:20221122T092558Z
UID:10002255-1662336000-1696118399@pbkik.hu
SUMMARY:Codex4SMEs 2020-2023 - személyre szabott orvoslás
DESCRIPTION:E Codex4SMEs információs és hálózati platform a személyre szabott orvoslás\, a biomarkerek fejlesztése és a (kísérő) diagnosztika valamennyi szereplőjének szól. Ha szeretné továbbfejleszteni (kísérő)diagnosztikáját vagy biomarkereit\, és szüksége van betegadatokhoz és humán mintaanyagokhoz való hozzáférésre\, akkor vegyen részt a Codex4SMEs hálózatban és rendezvényeken. \n \nItt szakértőket és a biobankok képviselőit találja\, akik tájékoztatják Önt a mintaanyagokhoz való hozzáférésről és a személyre szabott orvosláshoz szükséges termékek továbbfejlesztéséről. Használja ki a lehetőséget\, hogy a szakértőkkel négyszemközti beszélgetéseken interjút készítsen\, és tanácsot adjon a jövő diagnosztikájának kilátásairól. \nKinek? \nKKV-k\, gyógyszeripari vállalatok\, gyártók\, szolgáltatók\, kutatócsoportok\, klinikusok\, klaszterszervezetek\, amelyek a személyre szabott orvoslás területén tevékenykednek\, és a következőkre összpontosítanak: \n\n(kísérő) diagnosztika\nLab-on-a-chip\nIn Vitro diagnosztika\nMesterséges intelligencia és képalkotás\nviselhető eszközök\nBioinformatika\ne-egészségügy\nFinanszírozás és beruházások\nÉs mindazok\, akik érdekeltek a személyre szabott orvoslás fejlesztésében.\n\nMiért érdemes részt venni? \nVállalkozásként – találjon képzett európai szakértőket és együttműködő partnereket a hatékony személyes találkozók során.\nKutatási és technológiai szervezetként – találjon európai partnereket a technológiatranszferhez.\nTermékfejlesztőként – találjon partnereket az új technológiák és innovatív megoldások megvitatásához. \nA Codex4SMEs projektről \nAz Interreg North-West Europe Codex4SMEs projekt a „megfelelő gyógyszert\, a megfelelő dózisban\, a megfelelő időben\, a megfelelő betegnek” misszió jegyében finanszírozza az innovatív diagnosztika fejlesztését a személyre szabott egészségügyi ellátás javítása érdekében Európában. A finanszírozási program célja\, hogy támogassa az élettudományi és orvostechnológiai ágazatban működő\, diagnosztikai fejlesztéssel foglalkozó kis- és középvállalkozásokat (kkv-kat). A továbbfejlesztett diagnosztikák kifejlesztése érdekében hat uniós ország kilenc partnere erős gyorsított programot indított\, amely a kkv-knak a teljes értéklánc mentén szolgáltatások széles skáláját kínálja. \nA Codex4SMEs támogatási program \n 
URL:https://pbkik.hu/esemeny/codex4smes-2020-2023-szemelyre-szabott-orvoslas/
LOCATION:Online
END:VEVENT
BEGIN:VEVENT
DTSTART;TZID=Europe/Helsinki:20220920T100000
DTEND;TZID=Europe/Helsinki:20220920T120000
DTSTAMP:20260423T052946
CREATED:20220822T111520Z
LAST-MODIFIED:20220822T120828Z
UID:10002692-1663668000-1663675200@pbkik.hu
SUMMARY:CEF - 5G for smart communities: online pályázati tájékoztató
DESCRIPTION:Az online tájékoztató és pályázati partnerkereső esemény a Connecting Europe Facility (CEF) digitális programjának „5G az intelligens közösségekért” című pályázati felhívásához kapcsolódik\, melyet hamarosan kiírnak. \n \nAz Európai Bizottság ezt az online tájékoztató és egyeztető ülést a Connecting Europe Facility (CEF) digitális programja keretében az 5G for Smart Communities (5G az intelligens közösségekért) című második pályázati felhívás kapcsán szervezi. A program célja\, hogy tájékoztassa a legfontosabb érdekelt feleket erről a felhívásról\, és segítse a potenciális projektgazdákat abban\, hogy olyan partnerekkel találkozzanak\, akikkel konzorciumot hozhatnak létre és pályázhatnak a felhívásra. \nMit kínálnak a szervezők? \nAz Európai Bizottság ismerteti a felhívást\, beleértve az előző felhívás tanulságait\, majd következnek a kérdések és válaszok.\nA terület vezetői\, köztük a Nokia és a Vodafone panelbeszélgetést tartanak arról\, hogy az 5G mivel tud hozzájárulni az intelligens közösségekhez.\nAzok a résztvevők\, akik már terveznek projektet erre a felhívásra\, regisztrálhatnak\, hogy a rendezvényen 2-4 perces előadást tartsanak\, amely lehetőséget ad arra\, hogy partnereket találjanak a javaslatukhoz (ebben az esetben regisztrálni szükséges szeptember 9-én 12:00 óráig). \nPályázati partnerkeresés: a regisztrált résztvevők potenciális projektpartnereket kereshetnek\, és meghívhatják őket kétoldalú online találkozóra. A partnerkereső találkozók szeptember 20-án 12:00 órakor kezdődnek. \nA résztvevők között lesznek többek között: \nTávközlési és technológiai vállalatok\nTársadalmi-gazdasági szereplők\, akik 5G felhasználási eseteket javasolnak (különösen az egészségügy\, az oktatás\, a mobilitás\, a biztonság\, a vidékfejlesztés\, a mezőgazdaság és a kormányzat területén).\nA fenti felhasználási területekkel\, valamint az 5G távközléssel és technológiával kapcsolatos európai szövetségek és hálózatok.\nÖnkormányzatok\nAkadémiai és kutatóintézetek\nAz európai intézmények és ügynökségek képviselői\nEurópai szélessávú kompetencia irodák \nTovábbi információ és REGISZTRÁCIÓ
URL:https://pbkik.hu/esemeny/cef-5g-for-smart-communities-online-palyazati-tajekoztato/
LOCATION:Online
END:VEVENT
BEGIN:VEVENT
DTSTART;TZID=Europe/Helsinki:20220920T140000
DTEND;TZID=Europe/Helsinki:20220920T150000
DTSTAMP:20260423T052946
CREATED:20220822T121036Z
LAST-MODIFIED:20221122T092633Z
UID:10002693-1663682400-1663686000@pbkik.hu
SUMMARY:CEF - Backbone Connectivity for Digital Global Gateways: online pályázati tájékoztató
DESCRIPTION:Online tájékoztató esemény a Connecting Europe Facility (CEF) Digitális programjának „Backbone Connectivity for Digital Global Gateways” című pályázati felhívásáról\, a kiírás előtt. \n \nEzt az online tájékoztatót a Connecting Europe Facility (CEF) Digitális Program keretében a Backbone Connectivity for Digital Global Gateways második pályázati felhívás kapcsán szervezi. \nAz esemény során az Európai Bizottság bemutatja a „Backbone Connectivity for Digital Global Gateways” (gerinchálózati összeköttetés a digitális globális kapukhoz) című második pályázati felhívást\, és útmutatást ad a felkészüléshez. Ezt követően az Európai Egészségügyi és Digitális Végrehajtó Ügynökség (HaDEA) előadása következik az első felhívás tanulságairól\, majd interaktív kérdezz-felelek a résztvevőkkel. \nA résztvevők között lesznek többek között: \nTávközlési és technológiai vállalatok\neurópai szövetségek és hálózatok\naz európai intézmények és ügynökségek képviselői\nEurópai szélessávú kompetencia irodák \nTovábbi információ és regisztráció
URL:https://pbkik.hu/esemeny/cef-backbone-connectivity-for-digital-global-gateways-palyazati-tajekoztato/
LOCATION:Online
END:VEVENT
BEGIN:VEVENT
DTSTART;VALUE=DATE:20220926
DTEND;VALUE=DATE:20221012
DTSTAMP:20260423T052946
CREATED:20220823T115827Z
LAST-MODIFIED:20221122T102117Z
UID:10002697-1664150400-1665532799@pbkik.hu
SUMMARY:EU-Japan Biotech & Pharma Partnering Conference 2022
DESCRIPTION:Az esemény üzleti kapcsolatokat kínál azoknak az ipari szakembereknek\, akik potenciális partnereket keresnek a biotechnológiai és gyógyszeripari ágazatban. \n \nKét év online rendezvény után idén az üzletember találkozót október 11-én ismét személyes jelenléttel rendezik meg Oszakában\, további online ülésekkel szeptember 26. és 30. között. A résztvevők választhatnak\, hogy a szeptemberi online\, az október 11-i oszakai helyszíni vagy mindkét típusú rendezvényen részt kívánnak-e venni. \nAz esemény célterületei: \nGyógyszerkutatás és a gyógyszerkutatás támogatása\nRegeneratív orvostudomány\nTerápiás szerek\, diagnosztikai szerek\nA mesterséges intelligencia és az IoT technológiái a fenti témakörhöz kapcsolódóan \n  \nA részvétel díjmentes\, de regisztrációhoz kötött. \nSzemélyes részvétel esetén az utazási és szállásköltségek a résztvevőt terhelik. \nA Japánba történő beutazás vízumköteles\, erről a Külgazdasági és Külügyminisztérium\, illetve a Magyarországi Japán Nagykövetség weboldalán található naprakész információ. \nTovábbi információ és regisztráció: https://bio-pharma-osaka-2022.b2match.io/
URL:https://pbkik.hu/esemeny/eu-japan-biotech-pharma-partnering-conference-2022/
LOCATION:Online\, Oszaka\, Japán
END:VEVENT
END:VCALENDAR