BEGIN:VCALENDAR
VERSION:2.0
PRODID:-//Pécs-Baranyai Kereskedelmi és Iparkamara - ECPv6.15.20//NONSGML v1.0//EN
CALSCALE:GREGORIAN
METHOD:PUBLISH
X-WR-CALNAME:Pécs-Baranyai Kereskedelmi és Iparkamara
X-ORIGINAL-URL:https://pbkik.hu
X-WR-CALDESC:Események Pécs-Baranyai Kereskedelmi és Iparkamara
REFRESH-INTERVAL;VALUE=DURATION:PT1H
X-Robots-Tag:noindex
X-PUBLISHED-TTL:PT1H
BEGIN:VTIMEZONE
TZID:Europe/Helsinki
BEGIN:DAYLIGHT
TZOFFSETFROM:+0200
TZOFFSETTO:+0300
TZNAME:EEST
DTSTART:20210328T010000
END:DAYLIGHT
BEGIN:STANDARD
TZOFFSETFROM:+0300
TZOFFSETTO:+0200
TZNAME:EET
DTSTART:20211031T010000
END:STANDARD
BEGIN:DAYLIGHT
TZOFFSETFROM:+0200
TZOFFSETTO:+0300
TZNAME:EEST
DTSTART:20220327T010000
END:DAYLIGHT
BEGIN:STANDARD
TZOFFSETFROM:+0300
TZOFFSETTO:+0200
TZNAME:EET
DTSTART:20221030T010000
END:STANDARD
BEGIN:DAYLIGHT
TZOFFSETFROM:+0200
TZOFFSETTO:+0300
TZNAME:EEST
DTSTART:20230326T010000
END:DAYLIGHT
BEGIN:STANDARD
TZOFFSETFROM:+0300
TZOFFSETTO:+0200
TZNAME:EET
DTSTART:20231029T010000
END:STANDARD
BEGIN:DAYLIGHT
TZOFFSETFROM:+0200
TZOFFSETTO:+0300
TZNAME:EEST
DTSTART:20240331T010000
END:DAYLIGHT
BEGIN:STANDARD
TZOFFSETFROM:+0300
TZOFFSETTO:+0200
TZNAME:EET
DTSTART:20241027T010000
END:STANDARD
END:VTIMEZONE
BEGIN:VEVENT
DTSTART;VALUE=DATE:20220905
DTEND;VALUE=DATE:20231001
DTSTAMP:20260423T044858
CREATED:20220905T111102Z
LAST-MODIFIED:20221122T092558Z
UID:10002255-1662336000-1696118399@pbkik.hu
SUMMARY:Codex4SMEs 2020-2023 - személyre szabott orvoslás
DESCRIPTION:E Codex4SMEs információs és hálózati platform a személyre szabott orvoslás\, a biomarkerek fejlesztése és a (kísérő) diagnosztika valamennyi szereplőjének szól. Ha szeretné továbbfejleszteni (kísérő)diagnosztikáját vagy biomarkereit\, és szüksége van betegadatokhoz és humán mintaanyagokhoz való hozzáférésre\, akkor vegyen részt a Codex4SMEs hálózatban és rendezvényeken. \n \nItt szakértőket és a biobankok képviselőit találja\, akik tájékoztatják Önt a mintaanyagokhoz való hozzáférésről és a személyre szabott orvosláshoz szükséges termékek továbbfejlesztéséről. Használja ki a lehetőséget\, hogy a szakértőkkel négyszemközti beszélgetéseken interjút készítsen\, és tanácsot adjon a jövő diagnosztikájának kilátásairól. \nKinek? \nKKV-k\, gyógyszeripari vállalatok\, gyártók\, szolgáltatók\, kutatócsoportok\, klinikusok\, klaszterszervezetek\, amelyek a személyre szabott orvoslás területén tevékenykednek\, és a következőkre összpontosítanak: \n\n(kísérő) diagnosztika\nLab-on-a-chip\nIn Vitro diagnosztika\nMesterséges intelligencia és képalkotás\nviselhető eszközök\nBioinformatika\ne-egészségügy\nFinanszírozás és beruházások\nÉs mindazok\, akik érdekeltek a személyre szabott orvoslás fejlesztésében.\n\nMiért érdemes részt venni? \nVállalkozásként – találjon képzett európai szakértőket és együttműködő partnereket a hatékony személyes találkozók során.\nKutatási és technológiai szervezetként – találjon európai partnereket a technológiatranszferhez.\nTermékfejlesztőként – találjon partnereket az új technológiák és innovatív megoldások megvitatásához. \nA Codex4SMEs projektről \nAz Interreg North-West Europe Codex4SMEs projekt a „megfelelő gyógyszert\, a megfelelő dózisban\, a megfelelő időben\, a megfelelő betegnek” misszió jegyében finanszírozza az innovatív diagnosztika fejlesztését a személyre szabott egészségügyi ellátás javítása érdekében Európában. A finanszírozási program célja\, hogy támogassa az élettudományi és orvostechnológiai ágazatban működő\, diagnosztikai fejlesztéssel foglalkozó kis- és középvállalkozásokat (kkv-kat). A továbbfejlesztett diagnosztikák kifejlesztése érdekében hat uniós ország kilenc partnere erős gyorsított programot indított\, amely a kkv-knak a teljes értéklánc mentén szolgáltatások széles skáláját kínálja. \nA Codex4SMEs támogatási program \n 
URL:https://pbkik.hu/esemeny/codex4smes-2020-2023-szemelyre-szabott-orvoslas/
LOCATION:Online
END:VEVENT
BEGIN:VEVENT
DTSTART;TZID=Europe/Helsinki:20230207T090000
DTEND;TZID=Europe/Helsinki:20230207T120000
DTSTAMP:20260423T044858
CREATED:20230201T112150Z
LAST-MODIFIED:20230208T094738Z
UID:10002754-1675760400-1675771200@pbkik.hu
SUMMARY:Horizont Európa Missziók információs nap
DESCRIPTION:A Nemzeti Kutatási\, Fejlesztési és Innovációs Hivatal és az Express Innovation Agency 2023. február 7-én online tájékoztató rendezvényt szervez a Horizont Európa fenntarthatósági témákkal foglalkozó Missziók aktualitásaival kapcsolatban. \n \nA rendezvény keretében részletesen megismerheti a Klímasemleges és intelligens városok\, az Óceánunk és vizeink minőségének helyreállítása 2030-ig\, az Alkalmazkodás az éghajlatváltozáshoz és az Egészséges Talajok Misszió célkitűzéseit és a 2023-as pályázati felhívásait. \nTERVEZETT PROGRAM\n8:55 – 9:00 Bejelentkezés az online platformra \n9:00 – 9:10 Megnyitó\nHorizont Európa Missziók a fenntarthatóság témakörben\nCsuzdi Szonja\, főosztályvezető\, Nemzetközi Főosztály\, NKFIH \n9:10 – 9:40 Városi Misszió\nKüttel Orsolya\, Városi Misszió NCP\, NKFIH\n9:40 – 9:50 Q&A \n9:50 – 10:20 Klíma Misszió\nTóth Orsolya\, Klíma Misszió NCP\, NKFIH\n10:20 – 10:30 Q&A \n10:30 – 11:00 Víz Misszió\nKápli Balázs\, Víz Misszió NCP\, NKFIH;\n11:00 – 11:10 Q&A \n11:10 – 11:40 Talaj Misszió\nSzabó Teréz\, Talaj Misszió NCP\, XIA\n11:40 – 11:50 Q&A \n11:50 – 12:00 Zárszó \nA rendezvényen való részvétel ingyenes\, de regisztrációhoz kötött. \nAz eseményre jelentkezés határideje: 2023. február 6. 12:00 \nA regisztrált résztvevők emailben kapják meg 2023. február 6-án délután azt a közvetlen linket\, amelyen keresztül figyelemmel kísérhetik a YouTube-közvetítést és elérhetik a Slido alkalmazást. \nTovábbi információ:\nKüttel Orsolya\nE-mail: orsolya.kuttel@nkfih.gov.hu\nTelefon: +36 30 375 7382\nREGISZTRÁCIÓ
URL:https://pbkik.hu/esemeny/horizont-europa-missziok-informacios-nap/
LOCATION:Online
END:VEVENT
BEGIN:VEVENT
DTSTART;VALUE=DATE:20230215
DTEND;VALUE=DATE:20230217
DTSTAMP:20260423T044858
CREATED:20230113T105830Z
LAST-MODIFIED:20230228T102335Z
UID:10002741-1676419200-1676591999@pbkik.hu
SUMMARY:BRNO INDUSTRY 4.0 – Nemzetközi konferencia és üzletember találkozó
DESCRIPTION:Idén február 15-16-án rendezik meg a Brno Industry 4.0 nemzetközi konferenciát és üzletember találkozót\, melynek központi témái és digitalizált termelés és intelligens technológiák az ipar számára. \n \nMire számíthatnak a résztvevők? \n2023. február 15. : (élő rendezvény) szakértők és cégképviselők (technológia\, digitális sikertörténetek) részvételével zajló vitafórumok\, előadások a legújabb technológiákról és azok gyakorlati megvalósításáról\, délutáni helyszíni partnerkereső rendezvény (B2B találkozók)\, kapcsolatépítés\,\n2023. február 16.  : online partnerkereső rendezvény (B2B találkozók). \nKiemelt témák: \n\nrugalmas termelés és fejlett automatizálás\,\na termelésirányítás digitalizálása és jó gyakorlatok\nadatelemzés és felhasználása a termelés optimalizálásában\nesettanulmányok kis-\, közép- és nagyvállalatoknál\nCyberSecurity 4 Industry\n\nAz online rendezvényen történő részvétel díjmentes\, de előzetes regisztrációhoz kötött: \nREGISZTRÁCIÓ
URL:https://pbkik.hu/esemeny/brno-industry-4-0-nemzetkozi-konferencia-es-uzletember-talalkozo/
LOCATION:Hibrid
ATTACH;FMTTYPE=image/jpeg:https://pbkik.hu/wp-content/uploads/2023/01/brno4.0-2023.jpg
END:VEVENT
END:VCALENDAR