BEGIN:VCALENDAR
VERSION:2.0
PRODID:-//Pécs-Baranyai Kereskedelmi és Iparkamara - ECPv6.15.20//NONSGML v1.0//EN
CALSCALE:GREGORIAN
METHOD:PUBLISH
X-ORIGINAL-URL:https://pbkik.hu
X-WR-CALDESC:Események Pécs-Baranyai Kereskedelmi és Iparkamara
REFRESH-INTERVAL;VALUE=DURATION:PT1H
X-Robots-Tag:noindex
X-PUBLISHED-TTL:PT1H
BEGIN:VTIMEZONE
TZID:Europe/Helsinki
BEGIN:DAYLIGHT
TZOFFSETFROM:+0200
TZOFFSETTO:+0300
TZNAME:EEST
DTSTART:20210328T010000
END:DAYLIGHT
BEGIN:STANDARD
TZOFFSETFROM:+0300
TZOFFSETTO:+0200
TZNAME:EET
DTSTART:20211031T010000
END:STANDARD
BEGIN:DAYLIGHT
TZOFFSETFROM:+0200
TZOFFSETTO:+0300
TZNAME:EEST
DTSTART:20220327T010000
END:DAYLIGHT
BEGIN:STANDARD
TZOFFSETFROM:+0300
TZOFFSETTO:+0200
TZNAME:EET
DTSTART:20221030T010000
END:STANDARD
BEGIN:DAYLIGHT
TZOFFSETFROM:+0200
TZOFFSETTO:+0300
TZNAME:EEST
DTSTART:20230326T010000
END:DAYLIGHT
BEGIN:STANDARD
TZOFFSETFROM:+0300
TZOFFSETTO:+0200
TZNAME:EET
DTSTART:20231029T010000
END:STANDARD
BEGIN:DAYLIGHT
TZOFFSETFROM:+0200
TZOFFSETTO:+0300
TZNAME:EEST
DTSTART:20240331T010000
END:DAYLIGHT
BEGIN:STANDARD
TZOFFSETFROM:+0300
TZOFFSETTO:+0200
TZNAME:EET
DTSTART:20241027T010000
END:STANDARD
END:VTIMEZONE
BEGIN:VEVENT
DTSTART;VALUE=DATE:20220905
DTEND;VALUE=DATE:20231001
DTSTAMP:20260421T050634
CREATED:20220905T111102Z
LAST-MODIFIED:20221122T092558Z
UID:10002255-1662336000-1696118399@pbkik.hu
SUMMARY:Codex4SMEs 2020-2023 - személyre szabott orvoslás
DESCRIPTION:E Codex4SMEs információs és hálózati platform a személyre szabott orvoslás\, a biomarkerek fejlesztése és a (kísérő) diagnosztika valamennyi szereplőjének szól. Ha szeretné továbbfejleszteni (kísérő)diagnosztikáját vagy biomarkereit\, és szüksége van betegadatokhoz és humán mintaanyagokhoz való hozzáférésre\, akkor vegyen részt a Codex4SMEs hálózatban és rendezvényeken. \n \nItt szakértőket és a biobankok képviselőit találja\, akik tájékoztatják Önt a mintaanyagokhoz való hozzáférésről és a személyre szabott orvosláshoz szükséges termékek továbbfejlesztéséről. Használja ki a lehetőséget\, hogy a szakértőkkel négyszemközti beszélgetéseken interjút készítsen\, és tanácsot adjon a jövő diagnosztikájának kilátásairól. \nKinek? \nKKV-k\, gyógyszeripari vállalatok\, gyártók\, szolgáltatók\, kutatócsoportok\, klinikusok\, klaszterszervezetek\, amelyek a személyre szabott orvoslás területén tevékenykednek\, és a következőkre összpontosítanak: \n\n(kísérő) diagnosztika\nLab-on-a-chip\nIn Vitro diagnosztika\nMesterséges intelligencia és képalkotás\nviselhető eszközök\nBioinformatika\ne-egészségügy\nFinanszírozás és beruházások\nÉs mindazok\, akik érdekeltek a személyre szabott orvoslás fejlesztésében.\n\nMiért érdemes részt venni? \nVállalkozásként – találjon képzett európai szakértőket és együttműködő partnereket a hatékony személyes találkozók során.\nKutatási és technológiai szervezetként – találjon európai partnereket a technológiatranszferhez.\nTermékfejlesztőként – találjon partnereket az új technológiák és innovatív megoldások megvitatásához. \nA Codex4SMEs projektről \nAz Interreg North-West Europe Codex4SMEs projekt a „megfelelő gyógyszert\, a megfelelő dózisban\, a megfelelő időben\, a megfelelő betegnek” misszió jegyében finanszírozza az innovatív diagnosztika fejlesztését a személyre szabott egészségügyi ellátás javítása érdekében Európában. A finanszírozási program célja\, hogy támogassa az élettudományi és orvostechnológiai ágazatban működő\, diagnosztikai fejlesztéssel foglalkozó kis- és középvállalkozásokat (kkv-kat). A továbbfejlesztett diagnosztikák kifejlesztése érdekében hat uniós ország kilenc partnere erős gyorsított programot indított\, amely a kkv-knak a teljes értéklánc mentén szolgáltatások széles skáláját kínálja. \nA Codex4SMEs támogatási program \n 
URL:https://pbkik.hu/esemeny/codex4smes-2020-2023-szemelyre-szabott-orvoslas/
LOCATION:Online
END:VEVENT
BEGIN:VEVENT
DTSTART;TZID=Europe/Helsinki:20230412T120000
DTEND;TZID=Europe/Helsinki:20230412T130000
DTSTAMP:20260421T050634
CREATED:20230310T123256Z
LAST-MODIFIED:20230310T124244Z
UID:10002763-1681300800-1681304400@pbkik.hu
SUMMARY:Bevezetés az intralogisztikába 2. - webinárium
DESCRIPTION:Az intralogisztika\, vagy belső logisztika kizárólag az üzemen belül zajló logisztikai folyamatok összességét jelenti. A webinárium  egy két alkalomból álló mini tanfolyam második alkalma lesz\, és a raktárak intralogisztikájának négy alapelvével foglalkozik majd. \n \nA webinárium a DIH² hálózat szervezésében valósul meg. A tanfolyam szakértője\, Borja González vezeti ezt a webináriumot. \nVegyen részt\, és tudja meg\, hogyan emelheti vállalkozását új szintre\, valamint regisztráljon ingyenesen a DIH² MOOC platformra\, hogy megnézhesse a többi tanfolyamot. \nA logisztika a francia hadsereg által a 19. század végétől meghatározott gyűjtőfogalom\, amely a teljes ellátási láncot magában foglalja a beszerzéstől a harctérre történő szállításig. Később a szó civil használatra is átterjedt\, és főként a készlet-\, raktározási és szállítási menedzsmenttel kapcsolatos jelentést kapott. Még így is túl tág fogalom\, így a termelőüzem belső logisztikájára összpontosítva született meg az intralogisztika kifejezés. \nEz a kurzus a raktárakban alkalmazott intralogisztika négy alapelvét tárgyalja: \n\na készletgazdálkodás alapfogalmai és fogalommeghatározásai\,\naz intralogisztika automatizálási technológiái\,\naz intralogisztika informatikai technológiái\,\na technológia kiválasztása\, a stratégia és a megvalósítás lépései.\n\nA webináriumon való részvétel díjmentes\, de regisztrációhoz kötött. \nBiztosítsa helyét most! \nREGISZTRÁCIÓ \n  \nMi az a DIH²? \nA DIH² hálózat hisz abban\, hogy a robotika képes átalakítani a kis- és középvállalkozások (kkv-k) gyártásának rugalmasságát\, és az egész Európai Unió gazdasági növekedését. \nA hálózat feladata az\, hogy elősegítse azokat a kapcsolatokat\, amelyek lehetővé teszik az agilis termelést a gyárakban\, ahol a sebesség és a sokoldalúság elengedhetetlen a vevői igények kielégítéséhez. \nTovábbi információ a DIH² hálózatról \nA mini tanfolyam első alkalma 2023. március 22-én bevezetést nyújt az intralogisztikába. További információ
URL:https://pbkik.hu/esemeny/bevezetes-az-intralogisztikaba-2-webinarium/
LOCATION:Online
END:VEVENT
BEGIN:VEVENT
DTSTART;TZID=Europe/Helsinki:20230421T120000
DTEND;TZID=Europe/Helsinki:20230421T124500
DTSTAMP:20260421T050634
CREATED:20230406T105205Z
LAST-MODIFIED:20230406T113407Z
UID:10002775-1682078400-1682081100@pbkik.hu
SUMMARY:Webinárium | Állapotfelügyelet a robotizált üzemcsarnokokban | DIH² MOOC
DESCRIPTION:Csatlakozzon ehhez az angol nyelvű webináriumhoz\, ahol a robotika jövőjének alakításába merülünk el gondosan kiválasztott szakértők vezetésével! A 45 perces eseményt Giuseppe Fragapane vezeti\, aki megosztja a legfontosabb tudnivalókat a „‘Condition Monitoring in Robotized Shop Floors'” témában. A  DIH² MOOC eseményén való részvétel díjmentes\, de regisztrációhoz kötött.\n \nAz állapotfigyelés az a folyamat\, amelynek során (1) bizonyos berendezésparamétereket mérünk\, (2) azonosítjuk a jelentős változások jeleit\, amelyek közelgő meghibásodásra utalhatnak\, és (3) intézkedéseket tervezünk az ezekre való reagáláshoz. Ez a kurzus az üzemi környezetben történő állapotfigyelés és karbantartás ipari megoldásait\, stratégiáit és módszereit ismerteti. A terület legújabb kutatásaira épül. \n  \nMiről lesz szó?\nA téma az állapotfigyelés bevezetésével kezdődik. Az állapotfigyelés fő célja és koncepciója kerül bemutatásra és megvitatásra a téma keretbe foglalása érdekében. Bemutatásra kerülnek az ipari megoldások\, és ismertetésre kerülnek azok előnyei és hátrányai. Az Ipar 4.0 és a digitalizáció új stratégiákat és módszereket tesz lehetővé az állapotfigyeléshez. A tanfolyam bemutatja az adatkezelési szempontokat\, és ismerteti a karbantartási stratégiákat és módszereket. A cél\, hogy támogassa a vállalatokat\, a gyakorlati szakembereket\, a mérnököket és az úttörő szakembereket az állapotfigyelési és karbantartási megoldások alkalmazásában az üzemi eszközök teljesítményének javítása érdekében. \nREGISZTRÁCIÓ\nA DIH²-ről:\nA DIH² hisz a robotika erejében\, amely átalakíthatja a kis- és középvállalkozások gyártási folyamatait\, és az Európai Unió egész területén előmozdíthatja a gazdasági növekedést. \nFeladata az\, hogy elősegítse azokat a kapcsolatokat\, amelyek lehetővé teszik az agilis termelést a gyárakban\, ahol a sebesség és a sokoldalúság elengedhetetlen a vevői igények kielégítéséhez. \n  \nAz ISDI Accelerator-ről:\nAz ISDI Accelerator 2014-ben született azzal a céllal\, hogy a felébressze az ISDI hallgatóinak vállalkozói érdeklődését\, valamint fellendítse és professzionalizálja az európai startup-piacot. Első gyorsító programja\, az IMPACT mérföldkövet jelentett a kontinensen\, köszönhetően az állami szervek\, vállalatok\, oktatási intézmények\, befektetők és természetesen a startupok együttműködésének. Azóta több tucat inkubációs és akcelerációs programot fejlesztett ki\, több száz startupot hozott létre\, képzett ki és gyorsított fel\, és több ezer vállalat jelentkezett a programjaira. Az ISDI Accelerator az európai és globális rangsorok élén szerepel\, mint Európa egyik legfontosabb gyorsítója\, 2019-ben pedig IMPACT Connected Car programját az Európai Bizottság a 2019-es év legjobb startup-gyorsító projektjének választotta.
URL:https://pbkik.hu/esemeny/webinarium-allapotfelugyelet-a-robotizalt-uzemcsarnokokban-dih%c2%b2-mooc/
LOCATION:Online
END:VEVENT
BEGIN:VEVENT
DTSTART;VALUE=DATE:20230424
DTEND;VALUE=DATE:20230426
DTSTAMP:20260421T050634
CREATED:20230328T140200Z
LAST-MODIFIED:20230417T111328Z
UID:10002772-1682294400-1682467199@pbkik.hu
SUMMARY:Digitális transzformáció – segítünk a kezdeteknél!
DESCRIPTION:Vajon az Ön vállalkozása számára mit tartogat a digitalizáció? Ismerje meg lehetőségeit Digital Coach projekt keretében személyesen\, kézzel foghatóan is. A két napos hibrid workshopon sok kérdésre választ kaphatnak a résztvevők. \n \n\nA projekt a végéhez közeledik\, azonban az eredmények tükrében a szolgáltatást továbbra is szeretnénk biztosítani a Baranyában működő vállalkozásoknak\, szervezeteknek. A két napos workshop keretében most megismerheti a módszertant\, és első kézből kaphat visszajelzést a részt vevő vállalkozásoktól. \nEmellett több új koncepciót (pl. a tanuló üzem\, Digital Coach a cégen belül)\, és a vállalkozások digitális törekvéseit segítő szervezetet (EDIH – European Digital Innovation Hub) is megismerhetnek a résztvevők. \n\nProgram\n2023. április 24.\nHelyszín: Pécsi Kereskedelmi Központ\, 7625 Pécs\, Majorossy I. u. 36. \n9:00 – 9:30 Érkezés\, regisztráció\n9:30 – 9:40 Köszöntő\n9:40 – 9:50 Bemutatkozó kör\n9:50 – 10:20 A projekt\, és az egyes országokban elért eredmények rövid bemutatása (RUB IAW munkatársa)\n10:20 -10:40 A projekt eredményei Magyarországon (Pohli Krisztina – PBKIK)\n10:40 – 11:00 Kávészünet\n11:00 – 12:00 Kerekasztal beszélgetés a projekt résztvevőivel – tapasztalatok\, vélemények az ADAPTION módszertanról\, a benne rejlő lehetőségekről és korlátokról\n12:00 – 12:30 Folyamatoptimalizálás – a digitalizáció kiinduló pontja (Katona László – Leanadat Kft.)\n12:30 – 13:30 Ebédszünet\n13:30 – 14:00 EDIH-ek Magyarországon – rövid bemutatkozás\n14:00 – 14:50 „Tanuló üzem” – innovatív tanuló tér a digitális készségek fejlesztésére (RUB LPS és BME Ipar 4.0 TK szakértők) – Kerekasztal beszélgetés\n14:50 – 15:00 Kávészünet\n15:00 – 16:00 Legyen Ön is Digital Coach – bemutatkozik a projekt képzési programja\n16:00 – 16:10 Záró gondolatok\n \n2023. április 25.\nHelyszín: BME Ipar 4.0 Technológiai Központ\, BME I épület\, Földszint 017 / 1117 Budapest\, Magyar tudósok körútja 2. \n9:00 – 9:30 Érkezés\, regisztráció\n9:30 – 9:50 Digitalizáció\, digitális transzformáció – regionális\, országos és uniós helyzetkép. Miben segítheti egy digital coach a vállalkozásoknak?\n9:50 – 10:05 Bemutatkozik az AEDIH – Varga Péter\, Millefolium Stratégia Kft.\n10:05 – 10:20 Bemutatkozik az AI EDIH Hungary – Minorics Melinda\, Kormányzati Informatikai Fejlesztési Ügynökség\n10:20 – 10:35 Bemutatkozik a Data-EDIH – Tarcsi Ádám\, szakmai vezető\n10:35 – 10:50 Bemutatkozik a DigitalTech EDIH – egyeztetés alatt\n10:50 – 11:05 Bemutatkozik a HPC EDIH HU – Minorics Melinda\, Kormányzati Informatikai Fejlesztési Ügynökség\n11:05 – 11:20 kávészünet\n11:20 – 13:20 A Digital Coach koncepció és képzési program – a KKV-k digitalizációs utazását támogató eszköz\n13:20 – 14:20 Ebédszünet\n14:20 – 14:50 Együttműködési lehetőségek és kölcsönhatások – kerekasztal beszélgetés\n14:50 – 15:00 Záró gondolatok \nAz április 25-i programra a Pécs-Baranyai Kereskedelmi és Iparkamara buszos utazást biztosít Pécsről az érdeklődők számára. \nA férőhelyek száma korlátozott\, a jelentkezéseket a beérkezés sorrendjében tudjuk fogadni. \nA programon való részvétel díjmentes\, de regisztrációhoz kötött. \nA rendezvényre a jelentkezés lezárult. Kérjük\, vegye fel a kapcsolatot a szervezőkkel. \n(A programváltozás jogát a szervezők fenntartják.)
URL:https://pbkik.hu/esemeny/digitalis-transzformacio-segitunk-a-kezdeteknel/
LOCATION:Pécsi Kereskedelmi Központ
GEO:46.081487;18.2347915
END:VEVENT
END:VCALENDAR