BEGIN:VCALENDAR
VERSION:2.0
PRODID:-//Pécs-Baranyai Kereskedelmi és Iparkamara - ECPv6.15.20//NONSGML v1.0//EN
CALSCALE:GREGORIAN
METHOD:PUBLISH
X-ORIGINAL-URL:https://pbkik.hu
X-WR-CALDESC:Események Pécs-Baranyai Kereskedelmi és Iparkamara
REFRESH-INTERVAL;VALUE=DURATION:PT1H
X-Robots-Tag:noindex
X-PUBLISHED-TTL:PT1H
BEGIN:VTIMEZONE
TZID:Europe/Helsinki
BEGIN:DAYLIGHT
TZOFFSETFROM:+0200
TZOFFSETTO:+0300
TZNAME:EEST
DTSTART:20200329T010000
END:DAYLIGHT
BEGIN:STANDARD
TZOFFSETFROM:+0300
TZOFFSETTO:+0200
TZNAME:EET
DTSTART:20201025T010000
END:STANDARD
BEGIN:DAYLIGHT
TZOFFSETFROM:+0200
TZOFFSETTO:+0300
TZNAME:EEST
DTSTART:20210328T010000
END:DAYLIGHT
BEGIN:STANDARD
TZOFFSETFROM:+0300
TZOFFSETTO:+0200
TZNAME:EET
DTSTART:20211031T010000
END:STANDARD
BEGIN:DAYLIGHT
TZOFFSETFROM:+0200
TZOFFSETTO:+0300
TZNAME:EEST
DTSTART:20220327T010000
END:DAYLIGHT
BEGIN:STANDARD
TZOFFSETFROM:+0300
TZOFFSETTO:+0200
TZNAME:EET
DTSTART:20221030T010000
END:STANDARD
BEGIN:DAYLIGHT
TZOFFSETFROM:+0200
TZOFFSETTO:+0300
TZNAME:EEST
DTSTART:20230326T010000
END:DAYLIGHT
BEGIN:STANDARD
TZOFFSETFROM:+0300
TZOFFSETTO:+0200
TZNAME:EET
DTSTART:20231029T010000
END:STANDARD
END:VTIMEZONE
BEGIN:VEVENT
DTSTART;VALUE=DATE:20211001
DTEND;VALUE=DATE:20211224
DTSTAMP:20260419T213205
CREATED:20210802T093337Z
LAST-MODIFIED:20221122T095349Z
UID:10002432-1633046400-1640303999@pbkik.hu
SUMMARY:MEDICA Healthcare 2021 - üzletember találkozó
DESCRIPTION:A MEDICA 2021 a világ első számú egészségipari vására. Idén 20. alkalommal\, a vásár mellett hibrid rendszerben\, online és személyes jelenlét mellett nyújt lehetőséget az egészségipar valamennyi szereplője számára üzleti tárgyalásokra. Vegyen részt Ön is! \n \n  \nA MEDICA vásáron megrendezésre kerülő nemzetközi üzltebmer találkozónak már 20 éves hagyománya van. Az elmúlt években az eseményen mindig mintegy 40 országból mintegy 350 résztvevő vett részt\, 700 előre kiválasztott és egyeztetett találkozóval. \nA 2021-es év még mindig különleges évnek számít. A COVID-19 vírus hatásai még mindig mindennaposak mindannyiunk számára\, különösen\, az egészségügyi ágazatban. 2020-ban megtanultuk elfogadni a virtuális találkozókat\, különösen a MEDICA vásár előtt és után. Ezért folytatni fogjuk ezeket a virtuális találkozókat. De nagyon örülünk\, hogy a MEDICA 2021 során ismét lesz ilyen találkozó napok. \nTehát több tárgyalási napot és további eseményeket kínálunk. \nA világjárvány következményei miatt\, ahogy 2020-ban is\, árcsökkentésre\, a regisztrációs díj felezésére\, valamint további fejlesztésekre számíthatnak a befektetők és az importőrök is. Ezen túlmenően a résztvevőknek a sikeres együttműködésekből is profitálniuk kell. Minden résztvevő\, aki tájékoztat minket egy együttműködésről\, és ezt írásban\, dokumentumban megerősíti\, visszakapja a regisztrációs díjat. \nMiért érdemes részt venni? \nHasználja fel a rendezvényt új vállalkozások kezdeményezésére\nTalálkozzon az innovatív technológiák szolgáltatóival egész Európából és Európán kívülről\nLépjen kapcsolatba potenciális partnerekkel a jövőbeli együttműködés érdekében\nTeremtsen határokon átnyúló kapcsolatokat a hosszú távú üzleti kapcsolatokhoz\nÚj partnerek keresése kutatási projektekhez \nRegisztrációs díjak \n200 Euró – Vállalkozások\, szövetségek\, kutatóintézetek stb. (az EGT-n kívüli területek)\n100 Euró – Vállalkozások\, egyesületek\, kutatóintézetek stb. (EEN partnerországok)\n50 Euró – Start upok (2018. január 1-jén vagy azt követően alapított kezdő vállalkozások\, EEN partnerországok)\n0 Euró – Befektetők\, üzleti angyalok\n0 Euró – külföldi termékek forgalmazásával foglalkozó vállalat vagy közbeszerző \nOnline tárgyalási napok: \n2021. október 1. – 2021. december 23. \nSzemélyes (és online) tárgyalási napok: \n2021. november 15-18. – MEDICA 2021\, Düsseldorf \n  \nTovábbi információ és regisztráció\nRegisztrációs határidő: 2021. november 14.
URL:https://pbkik.hu/esemeny/medica-healthcare-2021-uzletember-talalkozo/
LOCATION:Online
END:VEVENT
BEGIN:VEVENT
DTSTART;TZID=Europe/Helsinki:20211201T140000
DTEND;TZID=Europe/Helsinki:20211201T160000
DTSTAMP:20260419T213205
CREATED:20211124T215426Z
LAST-MODIFIED:20221122T101527Z
UID:10002128-1638367200-1638374400@pbkik.hu
SUMMARY:Munkavégzés otthon - home office vagy távmunka?
DESCRIPTION:Munkavégzés otthon = home office = távmunka? Hogy is van ez? Melyik mit jelent? És mire kell figyelni munkáltatóként\, munkavállalóként? A rendezvényen az otthoni munkavégzés kapcsán felmerülő kérdéseket járják körbe a meghívott szakértők. \n \n \nFotó: pexels.com \n  \nProgram \n14.00 – 14.05 Megnyitó\nBogos Csaba a PBKIK Munkavédelmi Klubjának elnöke \n14.05 – 14.30 Home office vagy távmunka – van-e\, és mi a különbség?\nDr. Berke Gyula docens\, a PTE ÁJK tanszékvezetője \n14.30 – 14.55 Az otthoni munkavégzés pénzügyi\, számviteli kérdései\nOpauszki László adótanácsadó\, P-Kontó Kft. \n14.55 – 15.20 Munkavédelem az otthoni munkavégzés során\nSomfai Gábor munkavédelmi szakember\, Somfai Kft. \n15.20 – 15.45 Otthoni munkavégzés az informatikus szemével\nNagy Imre mérnök-informatikus \n  \nA részvétel ingyenes\, de előzetes regisztrációhoz kötött. \nA rendezvény hibrid módon kerül megrendezésre. \nA rendezvényen személyesen csak koronavírus ellen védett személy vehet részt\, a rendezvényre való belépés és a rendezvényen való részvétel csak érvényes oltási igazolvány bemutatásával lehetséges (hivatalos és érvényes személyi igazolvánnyal együtt). A védettségi igazolás bemutatásával egyenértékű\, ha az érintett személy az oltást igazoló applikációval igazolja a koronavírus elleni védettségét (a koronavírus elleni védettség igazolásáról szóló 60/2021 (II.12.) Kormányrendelet szerint). \nAz irodaház területén az orrot és szájat eltakaró maszk használata kötelező. \nSzemélyes részvételre korlátozott számban\, 20 főig van lehetőség\, a jelentkezések sorrendjében. \nOnline részvétel esetén az esemény linkjét (zoom) a rendezvény napján küldjük a regisztrációkor megadott e-mail címre. Online csatlakozni a rendezvény megkezdése előtt legkorábban 10 perccel lehetséges. \n  \nA jelentkezés lezárult. Kérjük vegye fel a kapcsolatot a szervezőkkel!
URL:https://pbkik.hu/esemeny/munkavegzes-otthon-home-office-vagy-tavmunka/
LOCATION:Pécsi Kereskedelmi Központ
GEO:46.081487;18.2347915
END:VEVENT
BEGIN:VEVENT
DTSTART;TZID=Europe/Helsinki:20211202T093000
DTEND;TZID=Europe/Helsinki:20211202T110000
DTSTAMP:20260419T213205
CREATED:20211102T131434Z
LAST-MODIFIED:20211102T132550Z
UID:10002581-1638437400-1638442800@pbkik.hu
SUMMARY:A szellemi tulajdonjogok érvényesítése és az üzleti titkok védelme - hibrid tréning
DESCRIPTION:Az EU SME Center a Kínai Nemzetközi Ipari Vásár keretében hibrid tréninget szervez a szellemi tulajdonjogok érvényesítéséről és az üzleti titkok védelméről. \n \n  \nA China IP SME Helpdesk IP Business Advisor külső szakértővel haladó IP workshopot tart\, amelyet kifejezetten a Kínával már hosszabb ideje üzleti kapcsolatban álló vállalatok számára terveztek. A workshop középpontjában a szellemi tulajdonjogok érvényesítése és az üzleti titok védelme áll. A workshop során a következő témák kerülnek terítékre: \n\nA kínai szellemitulajdon-védelmi jogszabályok közelmúltbeli változásainak áttekintése\, és hogy ez mit jelent a kkv-k számára.\nVáltozások a szabadalmi törvényben (magasabb kártérítés a jogok érvényesítésénél; nyílt licencrendszer; változások a formatervezési mintaoltalomban; hogyan védheti meg jövőbeli formatervezési mintáit).\nVáltozások a szerzői jogi törvényben (magasabb kártérítés; szélesebb körű védelem).\nVáltozások a védjegyjogban (hogyan lehet végre felvenni a harcot a rosszhiszemű védjegybejegyzésekkel szemben).\nVáltozások a tisztességtelen verseny elleni jogban (a bizonyítási teher megfordulása üzleti titok érvényesítése esetén).\nVáltozások a technológiaimport és -export igazgatásáról szóló rendeletben (mit jelent ez a technológiaátadásra nézve).\nA szellemi tulajdonjogok érvényesítése\nKözigazgatási végrehajtás\nPolgári ügyek (IP-bíróságok; internetes bíróságok)\nBüntetőügyek\nBizonyítékgyűjtés és rendőrségi razziák\nVámügyi végrehajtás\nIP-érvényesítés a kereskedelmi vásárokon\nÜzleti titkok védelme\nAz üzleti titok védelmének alapjai\nÜzleti titkok kibernetikai lopása: hogyan kerülhető el\, és mit kell tenni\, ha mégis megtörténik.\nÜzleti titok érvényesítése\nTippek az üzleti titkok kezeléséhez\nInteraktív kérdezz-felelek\, ahol a résztvevők megvitathatják a szellemi tulajdonjogokkal foglalkozó szakértővel az őket foglalkoztató kérdéseket/témákat.\n\nTovábbi információ (angol nyelven)\, és regisztráció \n 
URL:https://pbkik.hu/esemeny/a-szellemi-tulajdonjogok-ervenyesitese-es-az-uzleti-titkok-vedelme-hibrid-trening/
LOCATION:Online
END:VEVENT
BEGIN:VEVENT
DTSTART;VALUE=DATE:20211207
DTEND;VALUE=DATE:20220126
DTSTAMP:20260419T213205
CREATED:20211111T083128Z
LAST-MODIFIED:20211220T110329Z
UID:10002583-1638835200-1643155199@pbkik.hu
SUMMARY:Német-magyar EUREKA pályázók napja és partnerkereső rendezvény (online) - meghosszabbítva!!!
DESCRIPTION:A partnerkereső felület 2022. január 25-ig még a pályázni szándékozók rendelkezésére áll! \nFelhívjuk kutatás-fejlesztésben és innovációban érdekelt tagjaink és ügyfeleink figyelmét a Német-magyar EUREKA pályázók napja és partnerkereső rendezvényre\, melyre 2021. december 7-én kerül sor\, online. \nA kétoldalú német-magyar EUREKA pályázat 2022. január 26-i beadásához kapcsolódó Pályázók napja eseményt az Innovációs és Technológiai Minisztérium\, a Nemzeti Kutatási\, Fejlesztési és Innovációs Hivatal (NKFIH) és a Német Oktatási és Kutatási Minisztérium (BMBF) szervezi\, melyhez kapcsolódóan a HEPA Enterprise Europe Network partnerkereső rendezvényt szervez. \n \nA német-magyar EUREKA pályázat célja közös kutatás-fejlesztési és innovációs projektek támogatása\, amelyek eredményeként innovatív termékek és alkalmazások jönnek létre az alábbi prioritási területekre fókuszálva: \n–           mesterséges intelligencia (pl. az önvezető járművek fejlesztésében) \n–           kvantum technológia (különös tekintettel a kvantumszenzorokra) \n–           autonóm gépek és autonóm rendszerek (pl. tesztpályák használata) \n–           ipar 4.0 (pl. ipari elemzés\, mesterséges intelligencia és gépi tanulás a kiberfizikai gyártási rendszerekben\, ember-robot együttműködés\, intelligens / kooperatív robotika\, robusztus ellátási láncok és hálózatok kiber-fizikai környezetben); \n–           biotechnológia. \nCél: ipari-akadémiai együttműködések kialakítása (cégek és egyetemek\, kutatóintézetek közötti kooperáció). \n  \nDátum és időpont: 2021. december 7. kedd\, 10-16 óra \nRegisztráció a délelőtti előadásokra: https://nkfih.gov.hu/hivatalrol/hivatal-rendezvenyei/bilateral-german-eureka \nRegisztráció a találkozókra: https://german-hungarian-eureka-proposers-day.b2match.io/ \nA pályázathoz kapcsolódó projekt-előkészítő egyeztetésekre\, online találkozókra az esemény délutáni időszakában\, 13-16 óra között nyílik lehetőség. \nRegisztrációs határidő: 2021. december 30. \n  \nA részvétel ingyenes\, de regisztrációhoz kötött. \nA regisztráció során szükséges a cégleíráson kívül megfelelő profil/projektötlet feltöltése a piactérre. \n  \nTisztelettel várjuk a rendezvényen!
URL:https://pbkik.hu/esemeny/nemet-magyar-eureka-palyazok-napja-es-partnerkereso-rendezveny-online/
LOCATION:Online
END:VEVENT
BEGIN:VEVENT
DTSTART;TZID=Europe/Helsinki:20211208T100000
DTEND;TZID=Europe/Helsinki:20211209T180000
DTSTAMP:20260419T213205
CREATED:20211116T130752Z
LAST-MODIFIED:20211116T132133Z
UID:10002118-1638957600-1639072800@pbkik.hu
SUMMARY:Match4Industry 2021 - online multiszektorális üzletember találkozó
DESCRIPTION:A rendezvény 2021. december 8-án és 9-én virtuálisan kerül megrendezésre az ABİGEM East Marmara\, a Kocaeli Iparkamara és az Enterprise Europe Network szervezésében. \nFókusz ágazatok\, szektorok \n\nAutóipari beszállítás\nVegyipari\nÉpítőipar és építőanyagok\nElektronika\, elektrotechnika\nEnergia\nKörnyezetvédelem\nInformációs és kommunikációs technológiák\nFém- és gépipar\nMűanyag és gumiipar\nGumiabroncs\n\nA Match4Industry áttekintése \n\nSzéles körű nemzetközi partnerhálózat segíti a vállalatokat a rendezvény előtt.\nSzakmai segítségnyújtás a rendezvény előtt\, alatt és után.\nFedezzen fel új piacokat és üzleti lehetőségeket Törökországban és azon túl is.\nFedezze fel az innovatív ötleteket a megoldások és/vagy új termékek kifejlesztéséhez.\n\nREGISZTRÁCIÓ
URL:https://pbkik.hu/esemeny/match4industry-2021-online-multiszektoralis-uzletember-talalkozo/
LOCATION:online
END:VEVENT
END:VCALENDAR