BEGIN:VCALENDAR
VERSION:2.0
PRODID:-//Pécs-Baranyai Kereskedelmi és Iparkamara - ECPv6.15.20//NONSGML v1.0//EN
CALSCALE:GREGORIAN
METHOD:PUBLISH
X-WR-CALNAME:Pécs-Baranyai Kereskedelmi és Iparkamara
X-ORIGINAL-URL:https://pbkik.hu
X-WR-CALDESC:Események Pécs-Baranyai Kereskedelmi és Iparkamara
REFRESH-INTERVAL;VALUE=DURATION:PT1H
X-Robots-Tag:noindex
X-PUBLISHED-TTL:PT1H
BEGIN:VTIMEZONE
TZID:Europe/Helsinki
BEGIN:DAYLIGHT
TZOFFSETFROM:+0200
TZOFFSETTO:+0300
TZNAME:EEST
DTSTART:20190331T010000
END:DAYLIGHT
BEGIN:STANDARD
TZOFFSETFROM:+0300
TZOFFSETTO:+0200
TZNAME:EET
DTSTART:20191027T010000
END:STANDARD
BEGIN:DAYLIGHT
TZOFFSETFROM:+0200
TZOFFSETTO:+0300
TZNAME:EEST
DTSTART:20200329T010000
END:DAYLIGHT
BEGIN:STANDARD
TZOFFSETFROM:+0300
TZOFFSETTO:+0200
TZNAME:EET
DTSTART:20201025T010000
END:STANDARD
BEGIN:DAYLIGHT
TZOFFSETFROM:+0200
TZOFFSETTO:+0300
TZNAME:EEST
DTSTART:20210328T010000
END:DAYLIGHT
BEGIN:STANDARD
TZOFFSETFROM:+0300
TZOFFSETTO:+0200
TZNAME:EET
DTSTART:20211031T010000
END:STANDARD
END:VTIMEZONE
BEGIN:VEVENT
DTSTART;VALUE=DATE:20201027
DTEND;VALUE=DATE:20201030
DTSTAMP:20260426T032353
CREATED:20200219T145753Z
LAST-MODIFIED:20200923T090213Z
UID:10002031-1603756800-1604015999@pbkik.hu
SUMMARY:Egészségipar nemzetközi szinten - BeHEALTH 2020
DESCRIPTION:Üzleti partnerkeresés\, start-up verseny és tematikus szekcióülések várják a RoHealth egészésgügyi és bioökonómiai klaszter szervezésében megrendezésre kerülő nemzetközi konferencia résztvevőit. \n \nA BeHEALTH tökéletes környezetet teremt nemzetközi partnerségek kialakítására\, ahol a különböző piaci szereplők\, szervezetek\, egyetemek és állami szervezetek vehetik fel egymással személyesen a kapcsolatot\, jövőbeni üzleti és technológiai együttműködésükön keresztül fokozva az egészségiparral kapcsolatos gazdasági versenyképességet. \n  \nKiemelt témák: \n\nE-egészségügy és oktatás\,\nOrvosi berendezések és eszközök\,\nTranszlációs kutatás\,\nEgészségügyi anyagok\,\nEgészségipari kutatási infrastruktúrák\,\nBiogazdasági ágazatok.\n\n  \nTovábbi információk a rendezvény honlapján érhetők el: \nBeHEALTH\n  \n 
URL:https://pbkik.hu/esemeny/behealth-2020-egeszsegipar/
LOCATION:Online
ATTACH;FMTTYPE=image/jpeg:https://pbkik.hu/wp-content/uploads/2020/02/behealth.jpg
END:VEVENT
BEGIN:VEVENT
DTSTART;TZID=Europe/Helsinki:20201027T103000
DTEND;TZID=Europe/Helsinki:20201027T123000
DTSTAMP:20260426T032353
CREATED:20201001T063153Z
LAST-MODIFIED:20221122T093416Z
UID:10001811-1603794600-1603801800@pbkik.hu
SUMMARY:Vakcina  fejlesztés  és  hatékonyság ellenőrzése - konferencia
DESCRIPTION:A PEIK Zrt. soron következő konferenciája a vakcina fejlesztés és hatékonyság ellenőrzés témakörben járatos előadók\, kutatók és szakemberek segítségével mutatja be a jelenlegi helyzetet\, valamint lehetőséget kíván adni a klaszter tagvállalatai\, az Egyetem\, valamint az egészségipar és más ipari szegmens szereplőinek találkozására és közös együttműködések kialakítására. \n \n  \nAz orvostudomány történetének legnagyobb eredménye a fertőző betegségek\, pusztító járványok felszámolása. Az elmúlt kétszáz év alatt számos korábban leküzdhetetlennek tűnő\, a lakosság jelentős részét elpusztító járványokat a védőoltások segítségével sikerült felszámolni. A 21. század elejére további új kihívást jelentenek a különböző vírusok (H1N1\, Sars-cov 2\, ebola)\, illetőleg a polirezisztens bakteriális fertőzések. \nUgyan az orvos és egészségtudományok fejlődése az eddigiekben még soha nem látott ütemben halad\, és a modern biotechnológia új lehetőségeket nyit hatásos vakcinák gyors fejlesztésére\, de a mobilitás\, a szabad munkaerő áramlás és a migráció megnehezíti a fertőzések elleni küzdelmet. \nA szervezett konferencia a klaszter tagvállalatai szempontjából egyrészt egy a tagok számára fontos vizsgálandó terület pontos szakmai megismerését teszi lehetővé\, másrészt nemzetközi vonalon erősíti az adott vállalkozások megjelenését és kapcsolati hálójának bővítését. A meghívott előadók a választott célterület kiemelkedő szakemberei mind hazai mind nemzetközi viszonylatban. \nA konferencia előadói: \nDr. Szemerey Zoltán – PEIK Zrt. vezérigazgató\, a konferencia házigazdája\nDr. Kemenesi Gábor – Junior Prima díjas biológus\, víruskutató\, a Pécsi Tudományegyetem Természettudományi Karának adjunktusa\, az egyetem falai között működő Szentágothai János Kutatóközpont Virológiai laboratóriumának munkatársa\nProf. Dr. Szilárd István – c. egyetemi tanár\, WHO Együttműködési Központ társigazgatója\nProf. Dr. Berki Tímea – egyetemi tanár\, intézetigazgató Immunológiai és Biotechnológiai Intézet \nA részletes programot a szervezők küldik meg a regisztrált résztvevők számára. \nA konferenciának a Pécsi Szalon rendezvényterme ad helyszínt a Pécs\, Széchenyi tér 16.szám alatt\, a koronavírus helyzet szabályozásait figyelembe véve. \nRészvételi szándékát legkésőbb 2020. október 22-ig jelezze a szervezőknek az alábbi elérhetőségeken: \nPapp Petra – papp.petra@peik.hu \nGyöngyös Tamás – gyongyos.tamas@peik.hu
URL:https://pbkik.hu/esemeny/vakcina-fejlesztes-es-hatekonysag-ellenorzese-konferencia/
LOCATION:Pécsi Szalon\, Széchenyi tér 16.\, Pécs\, Baranya\, 7625\, Magyarország
END:VEVENT
END:VCALENDAR