BEGIN:VCALENDAR
VERSION:2.0
PRODID:-//Pécs-Baranyai Kereskedelmi és Iparkamara - ECPv6.15.20//NONSGML v1.0//EN
CALSCALE:GREGORIAN
METHOD:PUBLISH
X-WR-CALNAME:Pécs-Baranyai Kereskedelmi és Iparkamara
X-ORIGINAL-URL:https://pbkik.hu
X-WR-CALDESC:Események Pécs-Baranyai Kereskedelmi és Iparkamara
REFRESH-INTERVAL;VALUE=DURATION:PT1H
X-Robots-Tag:noindex
X-PUBLISHED-TTL:PT1H
BEGIN:VTIMEZONE
TZID:Europe/Helsinki
BEGIN:DAYLIGHT
TZOFFSETFROM:+0200
TZOFFSETTO:+0300
TZNAME:EEST
DTSTART:20200329T010000
END:DAYLIGHT
BEGIN:STANDARD
TZOFFSETFROM:+0300
TZOFFSETTO:+0200
TZNAME:EET
DTSTART:20201025T010000
END:STANDARD
BEGIN:DAYLIGHT
TZOFFSETFROM:+0200
TZOFFSETTO:+0300
TZNAME:EEST
DTSTART:20210328T010000
END:DAYLIGHT
BEGIN:STANDARD
TZOFFSETFROM:+0300
TZOFFSETTO:+0200
TZNAME:EET
DTSTART:20211031T010000
END:STANDARD
BEGIN:DAYLIGHT
TZOFFSETFROM:+0200
TZOFFSETTO:+0300
TZNAME:EEST
DTSTART:20220327T010000
END:DAYLIGHT
BEGIN:STANDARD
TZOFFSETFROM:+0300
TZOFFSETTO:+0200
TZNAME:EET
DTSTART:20221030T010000
END:STANDARD
END:VTIMEZONE
BEGIN:VEVENT
DTSTART;TZID=Europe/Helsinki:20210128T100000
DTEND;TZID=Europe/Helsinki:20210128T163000
DTSTAMP:20260423T231109
CREATED:20201215T181200Z
LAST-MODIFIED:20201215T182433Z
UID:10002192-1611828000-1611851400@pbkik.hu
SUMMARY:Egészségipari konferencia és nemzetközi üzletember találkozó - 'Health Tech Hub Styria (HTH) – Pitch & Partner 2021'
DESCRIPTION:Az Enterprise Europe Network szervezésében ismét nemzetközi online egészségipari konferenciára és partnerkereső rendezvényre kerül sor. \n \nA rendezvény célja az egészségipari fejlesztések bemutatása\, technológiai és üzleti partnerségi megállapodások segítése. \nA rendezvényre várják a biotechnológiai\, egészségipari és e-health szektorból a kutatókat\, cégeket\, start-upokat\, befektetőket\, végfelhasználókat (klinikák\, orvosok\, etc.). \nA részvétel ingyenes\, de előzetes regisztrációhoz kötött: \nREGISZTRÁCIÓ\nAz idei\, online térben megrendezésre kerülő rendezvény keretében több alprogrammal\, befektetési és projektpartnerégi lehetőséggel is várják a résztvevőket: \n\nA befektetők előtti 3 perces pitch videós bemutatkozásra 2020. december 31-ig lehet jelentkezni. https://www.hth-styria.com/page-3021\nA „Corporate challenge” szekcióban 3 nagy vállalat (Gerot Lannach Pharma\, Geriatric Health Centres of the City of Graz\, Elizabethinen Hospital) tett felhívást\, melyre várják innovatív cégek\, kutatók jelentkezését.\nProjektpartnerek keresése a 2021-ben induló HORIZON EUROPE program Health Cluster pályázati felhívásaira vonatkozóan is. https://www.hth-styria.com/page-3451\n\n  \n  \n 
URL:https://pbkik.hu/esemeny/egeszsegipari-konferencia-es-nemzetkozi-uzletember-talalkozo-health-tech-hub-styria-hth-pitch-partner-2021/
LOCATION:Online
END:VEVENT
END:VCALENDAR