BEGIN:VCALENDAR
VERSION:2.0
PRODID:-//Pécs-Baranyai Kereskedelmi és Iparkamara - ECPv6.15.20//NONSGML v1.0//EN
CALSCALE:GREGORIAN
METHOD:PUBLISH
X-WR-CALNAME:Pécs-Baranyai Kereskedelmi és Iparkamara
X-ORIGINAL-URL:https://pbkik.hu
X-WR-CALDESC:Események Pécs-Baranyai Kereskedelmi és Iparkamara
REFRESH-INTERVAL;VALUE=DURATION:PT1H
X-Robots-Tag:noindex
X-PUBLISHED-TTL:PT1H
BEGIN:VTIMEZONE
TZID:Europe/Helsinki
BEGIN:DAYLIGHT
TZOFFSETFROM:+0200
TZOFFSETTO:+0300
TZNAME:EEST
DTSTART:20200329T010000
END:DAYLIGHT
BEGIN:STANDARD
TZOFFSETFROM:+0300
TZOFFSETTO:+0200
TZNAME:EET
DTSTART:20201025T010000
END:STANDARD
BEGIN:DAYLIGHT
TZOFFSETFROM:+0200
TZOFFSETTO:+0300
TZNAME:EEST
DTSTART:20210328T010000
END:DAYLIGHT
BEGIN:STANDARD
TZOFFSETFROM:+0300
TZOFFSETTO:+0200
TZNAME:EET
DTSTART:20211031T010000
END:STANDARD
BEGIN:DAYLIGHT
TZOFFSETFROM:+0200
TZOFFSETTO:+0300
TZNAME:EEST
DTSTART:20220327T010000
END:DAYLIGHT
BEGIN:STANDARD
TZOFFSETFROM:+0300
TZOFFSETTO:+0200
TZNAME:EET
DTSTART:20221030T010000
END:STANDARD
END:VTIMEZONE
BEGIN:VEVENT
DTSTART;VALUE=DATE:20210223
DTEND;VALUE=DATE:20210226
DTSTAMP:20260422T134903
CREATED:20210113T112552Z
LAST-MODIFIED:20221122T094850Z
UID:10002206-1614038400-1614297599@pbkik.hu
SUMMARY:"Life-on-Chip" személyre szabott orvoslás - nemzetközi konferencia és üzletember találkozó
DESCRIPTION:A mikro- és nanotechnológia\, a mesterséges intelligencia\, a design thinking\, a robotika\, az új gyártási technológiák és a big data minden iparágra jelentős hatással vannak\, de legnagyobb hatásuk talán az egészségügyre és az élettudományokra lehet. Az egyre növekvő biológiai felismerésekkel és felfedezésekkel kombinálva a létrejövő újítások elképesztő alkalmazásokat tesznek lehetővé\, amelyek megváltoztathatják az egészségügyi rendszert. \n \n  \nFlandria élettudományi közössége nemzetközi kutatókat és vállalkozásat a vár a Life-on-Chip konferenciára\, melynek címe „Exploring the Convergence in Health Technologies” – Az egészségügyi technológiák konvergenciájának feltárása. \nAz Enterprise Europe Network Flanders támogatja ezt az egyedülálló eseményt\, és a konferencia mellett virtuális B2B-t szervez. Az üzleti partnerkereső redezvény célja a vállalkozások közötti\, valamint a tudomány-vállalkozások közötti együttműködések kialakítása. \nRegisztrációs határidő: \naz online szakmai konferenciára: 2021. február 16.\naz online üzletember találkozóra: 2021. február 17. \nRegisztrációs díj:\naz online szakmai konferenciára: 150 EUR\naz online üzletember találkozóra: díjmentes \nTovábbi információ és regisztráció: https://life-on-chip-2021.b2match.io/ \n2021. február 23-25.
URL:https://pbkik.hu/esemeny/life-on-chip-szemelyre-szabott-orvoslas-nemzetkozi-konferencia-es-uzletember-talalkozo/
LOCATION:Online
END:VEVENT
END:VCALENDAR