BEGIN:VCALENDAR
VERSION:2.0
PRODID:-//Pécs-Baranyai Kereskedelmi és Iparkamara - ECPv6.15.20//NONSGML v1.0//EN
CALSCALE:GREGORIAN
METHOD:PUBLISH
X-WR-CALNAME:Pécs-Baranyai Kereskedelmi és Iparkamara
X-ORIGINAL-URL:https://pbkik.hu
X-WR-CALDESC:Események Pécs-Baranyai Kereskedelmi és Iparkamara
REFRESH-INTERVAL;VALUE=DURATION:PT1H
X-Robots-Tag:noindex
X-PUBLISHED-TTL:PT1H
BEGIN:VTIMEZONE
TZID:Europe/Helsinki
BEGIN:DAYLIGHT
TZOFFSETFROM:+0200
TZOFFSETTO:+0300
TZNAME:EEST
DTSTART:20200329T010000
END:DAYLIGHT
BEGIN:STANDARD
TZOFFSETFROM:+0300
TZOFFSETTO:+0200
TZNAME:EET
DTSTART:20201025T010000
END:STANDARD
BEGIN:DAYLIGHT
TZOFFSETFROM:+0200
TZOFFSETTO:+0300
TZNAME:EEST
DTSTART:20210328T010000
END:DAYLIGHT
BEGIN:STANDARD
TZOFFSETFROM:+0300
TZOFFSETTO:+0200
TZNAME:EET
DTSTART:20211031T010000
END:STANDARD
BEGIN:DAYLIGHT
TZOFFSETFROM:+0200
TZOFFSETTO:+0300
TZNAME:EEST
DTSTART:20220327T010000
END:DAYLIGHT
BEGIN:STANDARD
TZOFFSETFROM:+0300
TZOFFSETTO:+0200
TZNAME:EET
DTSTART:20221030T010000
END:STANDARD
END:VTIMEZONE
BEGIN:VEVENT
DTSTART;VALUE=DATE:20210302
DTEND;VALUE=DATE:20210304
DTSTAMP:20260420T144324
CREATED:20210202T082805Z
LAST-MODIFIED:20221122T094757Z
UID:10001865-1614643200-1614815999@pbkik.hu
SUMMARY:Virtual Quatar Matchmaking Event - Online Nemzetközi Üzletember Találkozó
DESCRIPTION:A Katar Fejlesztési Bank és az Enterprise Europe Network társszervezésében online üzletember találkozóra kerül sor. \n \nAz online rendezvény keretein belül előre megszervezett üzleti találkozók lehetőséget adnak arra\, hogy a lehetséges üzletfelek közül az Önök számára legígéretesebb partnerekkel tárgyalhassanak. \nAz üzletember találkozóra elsősorban a következő ágazatokban működő vállalkozásokat\, gyártókat\, egyetemeket\, kutatóintézeteket várják: \n\n\n\n\n\n\n\népítőipar\, építőanyagok\nműanyagipar\, csomagolóanyagok\nélelmiszeripar\, gyorsan forgó fogyasztási cikkek (FMCG)\ngyógyszer-\, egészségipar\, orvostechnológia\nIT\, ICT\npapíripar\n\n\n\n\n\n\n\nAz online üzleti tárgyalásokon való részvétel díjmentes\, de előzetes regisztrációhoz kötött: \nREGISZTRÁCIÓ\n  \n 
URL:https://pbkik.hu/esemeny/virtual-quatar-matchmaking-event-online-nemzetkozi-uzletember-talalkozo/
LOCATION:Online
ATTACH;FMTTYPE=image/jpeg:https://pbkik.hu/wp-content/uploads/2021/02/quatar.jpg
END:VEVENT
BEGIN:VEVENT
DTSTART;TZID=Europe/Helsinki:20210305T093000
DTEND;TZID=Europe/Helsinki:20210305T110000
DTSTAMP:20260420T144324
CREATED:20210127T130619Z
LAST-MODIFIED:20221122T095229Z
UID:10002222-1614936600-1614942000@pbkik.hu
SUMMARY:Textilek orvosi alkalmazása - webinárium
DESCRIPTION:A textilipar fontos és gyorsan fejlődő része az orvosi és a kapcsolódó egészségügyi és higiéniai ágazat. Az alkalmazások száma az egyszerű tisztító törlőkendőtől a műtőkhöz használt korszerű zárószövetig terjed. A MEDICA 2020 mellett rendezett online üzletember találkozó keretében számos hasznos webináriummal is készültek a szervezők. A márciusi webinárium közelebbi betekintést enged a textilek gyógyászati célú alkalmazásába. \n \n  \nAnyagok számos kórházi alkalmazásban megtalálhatók\, a sebkötözőktől és a kötést elősegítő anyagoktól a szövettechnikai állványokig és beültethető protézisekig\, amelyek mindegyikének nagyon specifikus követelményei vannak. A textilhasználat elterjedt\, és az innováció révén folyamatosan bővül az egészségügyi és higiéniai szektoron belül\, otthoni és kórházi környezetben egyaránt. \nEnnek az eseménynek az a célja\, hogy összehozza a nemzetközi résztvevőket a tudományos és az ipari szférából\, tartalmat szolgáltasson és lehetővé tegye számukra\, hogy jövőben együttműködjenek ezen a területen. \nEzen felül minden résztvevőnek lehetősége nyílik virtuális B2B találkozókon keresztül kapcsolatba lépni egymással. \nTovábbi információ és regisztráció
URL:https://pbkik.hu/esemeny/textilek-orvosi-alkalmazasa-webinarium/
LOCATION:Online
END:VEVENT
BEGIN:VEVENT
DTSTART;VALUE=DATE:20210310
DTEND;VALUE=DATE:20210312
DTSTAMP:20260420T144324
CREATED:20210219T105550Z
LAST-MODIFIED:20210219T110849Z
UID:10001885-1615334400-1615507199@pbkik.hu
SUMMARY:Health Valley 2021 - nemzetközi üzletember találkozó
DESCRIPTION:A nemzetközi konferencia társrendezvényeként online üzletember találkozóra kerül sor\, ahol várják minden az e-egészségügy\, a robotika\, a személyre szabott orvoslás és a gyógyszerészet\, megelőzés területén aktív vállalkozás és szakember részvételét. \n \nA rendezvény remek lehetőséget nyújt a legújabb egészségipari trendek és technológiák megismerésére\, K+F kapcsolatok kialakítására\, valamint nemzetközi vevők és üzleti partnerek megismerésére az előre egyeztetett kétoldalú B2B tárgyalások keretében. \nKiemelt témák: \n\nöregedés a digitális világban\nvirtuális valóság a rehabilitációban\nszemélyre szabott orvoslás és egészséges életmód\nmegelőzés a 2-es típusú cukorbetegség terén\n\nAz üzletemeber találkozón a részvétel díjmentes\, de előzetes regisztrációhoz kötött: \nREGISZTRÁCIÓ\nA konferenciára külön regisztráció és jegyvásárlás szükséges: \nhttps://www.healthvalleyevent.com/ \n  \n 
URL:https://pbkik.hu/esemeny/health-valley-2021-nemzetkozi-uzletember-talalkozo/
LOCATION:Online
ATTACH;FMTTYPE=image/jpeg:https://pbkik.hu/wp-content/uploads/2021/02/HVE2021-740x400-1.jpg
END:VEVENT
END:VCALENDAR