BEGIN:VCALENDAR
VERSION:2.0
PRODID:-//Pécs-Baranyai Kereskedelmi és Iparkamara - ECPv6.15.20//NONSGML v1.0//EN
CALSCALE:GREGORIAN
METHOD:PUBLISH
X-WR-CALNAME:Pécs-Baranyai Kereskedelmi és Iparkamara
X-ORIGINAL-URL:https://pbkik.hu
X-WR-CALDESC:Események Pécs-Baranyai Kereskedelmi és Iparkamara
REFRESH-INTERVAL;VALUE=DURATION:PT1H
X-Robots-Tag:noindex
X-PUBLISHED-TTL:PT1H
BEGIN:VTIMEZONE
TZID:Europe/Helsinki
BEGIN:DAYLIGHT
TZOFFSETFROM:+0200
TZOFFSETTO:+0300
TZNAME:EEST
DTSTART:20200329T010000
END:DAYLIGHT
BEGIN:STANDARD
TZOFFSETFROM:+0300
TZOFFSETTO:+0200
TZNAME:EET
DTSTART:20201025T010000
END:STANDARD
BEGIN:DAYLIGHT
TZOFFSETFROM:+0200
TZOFFSETTO:+0300
TZNAME:EEST
DTSTART:20210328T010000
END:DAYLIGHT
BEGIN:STANDARD
TZOFFSETFROM:+0300
TZOFFSETTO:+0200
TZNAME:EET
DTSTART:20211031T010000
END:STANDARD
BEGIN:DAYLIGHT
TZOFFSETFROM:+0200
TZOFFSETTO:+0300
TZNAME:EEST
DTSTART:20220327T010000
END:DAYLIGHT
BEGIN:STANDARD
TZOFFSETFROM:+0300
TZOFFSETTO:+0200
TZNAME:EET
DTSTART:20221030T010000
END:STANDARD
END:VTIMEZONE
BEGIN:VEVENT
DTSTART;TZID=Europe/Helsinki:20210915T070000
DTEND;TZID=Europe/Helsinki:20210915T130000
DTSTAMP:20260420T041651
CREATED:20210819T112409Z
LAST-MODIFIED:20210819T114337Z
UID:10002449-1631689200-1631710800@pbkik.hu
SUMMARY:Taiwan Long-Term Care Technology and Solution Online Biz Meeting - online üzletember találkozó
DESCRIPTION:A Taiwan External Trade Development Council (TAITRA) online B2B-találkozókat szervez 2021. szeptember 15-én. \nA főbb témakörök az egészségipar\, elektronika\, szoftverfejlesztés\, okos megoldások\, stb. \nA rendezvény angol nyelvű. \nJelentkezési határidő: 2021. augusztus 24. \nA résztvevő taiwani cégek ismertetője letölthető innen: Taiwan cégek \nTovábbi információ a rendezvényről és a résztvevő vállalkozásokról: taiwan-pavilion.com/longtermcaretech \nREGISZTRÁCIÓ
URL:https://pbkik.hu/esemeny/taiwan-long-term-care-technology-and-solution-online-biz-meeting-online-uzletember-talalkozo/
LOCATION:online
END:VEVENT
BEGIN:VEVENT
DTSTART;TZID=Europe/Helsinki:20210921T090000
DTEND;TZID=Europe/Helsinki:20210921T170000
DTSTAMP:20260420T041651
CREATED:20210830T114529Z
LAST-MODIFIED:20210830T120708Z
UID:10002481-1632214800-1632243600@pbkik.hu
SUMMARY:Life Science Partnering 2021
DESCRIPTION:A nemzetközi Life Science Partnering 2021 összeköti az élettudományok területén a tudományos és ipari szervezeteket. Mind a tudósoknak\, mind a vállalkozásoknak lehetőségük nyílik arra\, hogy bemutassák az ipar szempontjából releváns tudományos eredményeket\, és meghatározzák az együttműködés lehetséges területeit. \n \nA 2019-es év sikerét követően a nemzetközi Life Science Partnering 2021 ideális hálózati platformot biztosít az élettudományi mérnöki és egészségügyi technológiára összpontosító projektpartnerek felkutatásához. A Life Science Partnering 2021-et a Standortagentur Tirol\, a Life Science Cluster Tirol és az Enterprise Europe Network szervezi. \nA rendezvény virtuálisan zajlik. A konferencián való részvétel díjmentes – a rendezvényre való regisztráció kötelező! \nA netvörking kihívásai az ilyen és ehhez hasonló eseményeken (általában) \nÁltalában az előadókkal\, kiállítókkal és olyan emberekkel beszélget\, akikkel véletlenszerűen találkozik\, és a szünetekben együtt kávézik. \nDe mi a helyzet az Ön együttműködési igényeivel? Kivel beszéljen először? Miről beszélj\, ha először találkozik ezzel a személlyel? Az emberek csak udvariasságból érdeklődnek? \nMegoldás a megfelelő kapcsolatok megtalálására \nRegisztráljon és mutassa be magát profilban a többieknek az alábbiak szerint \nFénykép\, logó és egy rövid szervezeti leírás\nTermékek\, szolgáltatások\, projektötletek\, leírása \nÉS most már a többiek is megtalálhatják Önt a „Résztvevők” menüpontban. Az Ön együttműködési igényeit is megtalálhatják a „Piactér” menüpontban. \n  \nProgram \n9:00 – 9:15 Köszöntő és megnyitó (élő adás) \n9:15 – 10:30 Vitaindító előadás (élő adás) – Josef Martin Penninger\, Director of the Life Sciences Institute (LSI) at the University of British Columbia \n10:30 – 10:45 Kávészünet \n10:45 – 12:00 Kutatók és vállalkozások mutatkoznak be (élő adás) \n12:00 – 17:00 Partnerkeresés – kétoldalú tárgyalások az online térben \nTovábbi információ és regisztráció
URL:https://pbkik.hu/esemeny/life-science-partnering-2021/
LOCATION:Online
END:VEVENT
BEGIN:VEVENT
DTSTART;VALUE=DATE:20210927
DTEND;VALUE=DATE:20211001
DTSTAMP:20260420T041651
CREATED:20210802T133218Z
LAST-MODIFIED:20221122T092146Z
UID:10002433-1632700800-1633046399@pbkik.hu
SUMMARY:Biotechnológiai és gyógyszeripari virtuális üzletember találkozó - Japán
DESCRIPTION:A 2021-es Európai Biotech ＆ Pharma Virtuális Üzletember találkozó üzleti kapcsolatokat kínál az iparági szakembereknek\, akik potenciális partnereket keresnek a fenntartható üzleti fejlődés és növekedés biztosítása érdekében. \n \n  \nA Biotech ＆ Pharma Partnering Conference\, amelyet korábban Oszakában tartottak\, immár második éve virtuális eseményként online kerül megrendezésre! Az időeltolódás miatt a találkozókat 4 napon keresztül\, szeptember 27. és 30. között lehet megszervezni. Minden találkozó videohívás formájában kerül megrendezésre\, amely közvetlenül ezen a B2Match platformján keresztül\, minden további szoftver nélkül lebonyolítható. \nAz eseményről vázlatosan:\nIdőpont: 2021. szeptember 27-30.\nHelyszín: Online\nRészvétel: Díjmentes\nNyelv: Angol \nA rendezvény célterületei \n\nGyógyszerkutatás és a gyógyszerkutatás támogatása\nRegeneratív orvostudomány\nTerápiás szerek\, diagnosztikai szerek\nA mesterséges intelligencia és az IoT technológiái az 1.-3. témakörhöz kapcsolódóan\nDigitális orvostudomány (AI-alapú gyógyszerfejlesztés\, gyógyszer-eszköz kombinációk stb.)\nDigitális terápiák (nem farmakológiai terápiás rendszerek\, alkalmazás-eszköz kombinációk)\n\n  \nTovábbi információ és regisztráció
URL:https://pbkik.hu/esemeny/biotechnologiai-es-gyogyszeripari-virtualis-uzletember-talalkozo-japan/
LOCATION:Online
END:VEVENT
BEGIN:VEVENT
DTSTART;VALUE=DATE:20210929
DTEND;VALUE=DATE:20211002
DTSTAMP:20260420T041651
CREATED:20210118T110344Z
LAST-MODIFIED:20210830T122942Z
UID:10002211-1632873600-1633132799@pbkik.hu
SUMMARY:Meet in Italy for Life Sciences 2021
DESCRIPTION:Az Enterprise Europe Network pécsi irodája is társszervezője a Meet in Italy for Life Sciences nemzetközi üzletember találkozójának. \nAz esemény két részre oszlik: \n\nfolyamatos virtuális megbeszélések szeptember 15-től 2021. május 15-ig\,\nfizikai hálózatépítési esemény\, amelynek időpontja 2021. szeptember 29. – október 1.\n\nA regisztrálók az online felületen tárgyalásokra lesznek jelölhetőek\, mely találkozókat a platform videohívás-konferencia rendszerének használatával bonyolíthatnak le. \nRegisztrálhatnak: induló-\, és működő vállalkozások\, kutatási és egészségügyi szervezetek\, befektetők\, az élettudományban érdekelt területekről. \nAz alábbi területekről várnak főként résztvevőket: gyógyszerészet\, orvosi eszközök\, biológia – biotechnológia\, informatikai alkalmazások az egészségügyben\, orvostudomány\, emberi egészség és jólét\, kapcsolódó értéklánc-tevékenységek. \nAz üzletember találkozón való részvétel díjmentes\, de előzetes regisztrációhoz kötött: \nREGISZTRÁCIÓ\nJavasoljuk a résztvevőknek\, hogy részletes cégprofilt és együttműködési ajánlatokat készítsenek a számukra megfelelő partner megtalálása érdekében.
URL:https://pbkik.hu/esemeny/meet-in-italy-for-life-sciences-2021/
LOCATION:Online
ATTACH;FMTTYPE=image/jpeg:https://pbkik.hu/wp-content/uploads/2021/01/meet-in-italy-for-life-sciences-2021.jpg
END:VEVENT
BEGIN:VEVENT
DTSTART;TZID=Europe/Helsinki:20210930T170000
DTEND;TZID=Europe/Helsinki:20210930T200000
DTSTAMP:20260420T041651
CREATED:20210908T063405Z
LAST-MODIFIED:20221122T095354Z
UID:10002497-1633021200-1633032000@pbkik.hu
SUMMARY:Az egyetemi és az ipari szféra egészségipari jellegű regionális kapcsolatainak jelene és jövője
DESCRIPTION:A Pécsi Egészségipari Innovációs Központ Zrt. a Pécsi Tudományegyetem és a régió egészségipari és más ipari szegmens szereplőinek találkozására és közös együttműködések kialakítására ad lehetőséget ez a nemzetközi konferencia. A PEIK Zrt. által szervezett konferenciasorozat harmadik alkalommal kíván rámutatni az egészségipar szerepére és jelentőségére a témakörben tevékenykedő és jártas előadók\, kutatók és szakemberek segítségével. \n \nPROGRAM\n15.00 – Érkezés és regisztráció\, kiscsoportos beszélgetés (Arrival and registration\, early bird talks) \n17.30 – 17.40 – PEIK Zrt. vezérigazgatójának köszöntője (Greetings from the CEO of PEIK Zrt.) – Dr. Szemerey Zoltán \n17.40 – 18.20 – Lehetőségek és kihívások a Pécsi Tudományegyetem és a regionális ipari szereplők együttműködésére az egyetem új működési struktúrájában (Opportunities and challenges for the cooperation of University of Pécs and regional industry actors in the new operational structure of the university) – Prof. Dr. Bódis József – államtitkár\, a Universitas Quinqueecclesiensis Alapítvány\nkuratóriumának elnöke \n18.20 – 18.50 – A Szentágothai János Kutatóközpont egyetemi és ipari kapcsolatainak bemutatása (University and industrial relations of the Szentágothai János Research Center) – Prof. Dr. Helyes Zsuzsanna – MTA levelező tagja\, Szentágothai János Kutatóközpont elnöke \n18.50 – 19.10 – A PTE szerepe és feladatai az Innovációs Ökoszisztéma hatékonyabb működésében (The role of the university in the efficient operation of the Innovation Ecosystem) – Kottászné Dr. Vass\nOrsolya – PTE-KA Kutatáshasznosítási és Technológia Transzfer Főosztály főosztályvezetője \n19.10 – 19.40 – Orvosi biotechnológiai kisvállalkozások helyzete a Dél-Dunántúli Régióban (The situation of small medical biotechnology companies in the Southern Transdanubia Region) – Prof. Dr.\nSzekeres György – Hisztopatológia Kft. tulajdonosa \n19.40 – 19.50 – A működő tőke bevonásának lehetőségei a regionális kutatás-fejlesztésbe és termékelőállításba (Opportunities to involve working capital in regional research and development and product production) – Dr. Szemerey Zoltán – a PEIK Zrt. vezérigazgatója \nA konferencián való részvétel ingyenes\, de a korlátozott létszám miatt regisztrációhoz kötött! \nAmennyiben az érintett tématerület felkeltette az érdeklődését\, a konferencián való részvételi szándékát legkésőbb 2021. szeptember 26-ig jelezze papp.petra@peik.hu e-mail címen.
URL:https://pbkik.hu/esemeny/az-egyetemi-es-az-ipari-szfera-egeszsegipari-jellegu-regionalis-kapcsolatainak-jelene-es-jovoje/
LOCATION:Pécsi Szalon\, Széchenyi tér 16.\, Pécs\, Baranya\, 7625\, Magyarország
END:VEVENT
END:VCALENDAR