BEGIN:VCALENDAR
VERSION:2.0
PRODID:-//Pécs-Baranyai Kereskedelmi és Iparkamara - ECPv6.15.20//NONSGML v1.0//EN
CALSCALE:GREGORIAN
METHOD:PUBLISH
X-WR-CALNAME:Pécs-Baranyai Kereskedelmi és Iparkamara
X-ORIGINAL-URL:https://pbkik.hu
X-WR-CALDESC:Események Pécs-Baranyai Kereskedelmi és Iparkamara
REFRESH-INTERVAL;VALUE=DURATION:PT1H
X-Robots-Tag:noindex
X-PUBLISHED-TTL:PT1H
BEGIN:VTIMEZONE
TZID:Europe/Helsinki
BEGIN:DAYLIGHT
TZOFFSETFROM:+0200
TZOFFSETTO:+0300
TZNAME:EEST
DTSTART:20190331T010000
END:DAYLIGHT
BEGIN:STANDARD
TZOFFSETFROM:+0300
TZOFFSETTO:+0200
TZNAME:EET
DTSTART:20191027T010000
END:STANDARD
BEGIN:DAYLIGHT
TZOFFSETFROM:+0200
TZOFFSETTO:+0300
TZNAME:EEST
DTSTART:20200329T010000
END:DAYLIGHT
BEGIN:STANDARD
TZOFFSETFROM:+0300
TZOFFSETTO:+0200
TZNAME:EET
DTSTART:20201025T010000
END:STANDARD
BEGIN:DAYLIGHT
TZOFFSETFROM:+0200
TZOFFSETTO:+0300
TZNAME:EEST
DTSTART:20210328T010000
END:DAYLIGHT
BEGIN:STANDARD
TZOFFSETFROM:+0300
TZOFFSETTO:+0200
TZNAME:EET
DTSTART:20211031T010000
END:STANDARD
END:VTIMEZONE
BEGIN:VEVENT
DTSTART;TZID=Europe/Helsinki:20200616T140000
DTEND;TZID=Europe/Helsinki:20200616T153000
DTSTAMP:20260422T021036
CREATED:20200609T062852Z
LAST-MODIFIED:20210106T153841Z
UID:10002062-1592316000-1592321400@pbkik.hu
SUMMARY:Bértámogatás\, online számlázás-hogyan is működik egyszerűen?
DESCRIPTION:Bértámogatás\, online számlázás hogyan is működik egyszerűen? Szakértőnk elmondja Önnek! \n \nA Pécs-Baranyai Kereskedelmi és Iparkamara ingyenes online tájékoztató fórumot szervez a július 1-től életbe lépő bértámogatás\, új TB törvény\, az adóváltozások és az adatszolgáltatást érintő változások témakörben\, illetve az online számlázásra való felkészülésről. A fórum a Szigetvári Család és KarrierPONT\, a NŐNAP 365 program keretében valósul meg. A program célja\, a térségbeli vállalkozások támogatása. \nIdőpont: 2020. 06. 16. 14:00-15:30\, Zoom alkalmazáson keresztül\nSzakértő: Nyul Éva \nMeghívó \nTegye fel kérdéseit közvetlenül szakértőnknek! \nA részvétel ingyenes\, de regisztrációhoz kötött\, regisztrálni az alábbi űrlap kitöltésével lehetséges: \nA jelentkezés lezárult. \nSzeretettel várunk minden érdeklődőt! \nFotó: pixabay.com \n  \nAz EFOP 1.2.9-17-2017-00102 számú projekt az Európai Unió támogatásával és Magyar Állam társfinanszírozásával\, az Európai Szociális Alap finanszírozásában valósul meg.
URL:https://pbkik.hu/esemeny/bertamogatas-online-szamlazas-hogyan-is-mukodik-egyszeruen/
LOCATION:Pécsi Kereskedelmi Központ
GEO:46.081487;18.2347915
END:VEVENT
END:VCALENDAR